BEGIN:VCALENDAR
VERSION:2.0
PRODID:-//Fraser Coast District Bowls Association - ECPv6.11.2.1//NONSGML v1.0//EN
CALSCALE:GREGORIAN
METHOD:PUBLISH
X-WR-CALNAME:Fraser Coast District Bowls Association
X-ORIGINAL-URL:https://frasercoastdistrictbowls.com.au
X-WR-CALDESC:Events for Fraser Coast District Bowls Association
REFRESH-INTERVAL;VALUE=DURATION:PT1H
X-Robots-Tag:noindex
X-PUBLISHED-TTL:PT1H
BEGIN:VTIMEZONE
TZID:Australia/Brisbane
BEGIN:STANDARD
TZOFFSETFROM:+1000
TZOFFSETTO:+1000
TZNAME:AEST
DTSTART:20230101T000000
END:STANDARD
END:VTIMEZONE
BEGIN:VTIMEZONE
TZID:UTC
BEGIN:STANDARD
TZOFFSETFROM:+0000
TZOFFSETTO:+0000
TZNAME:UTC
DTSTART:20230101T000000
END:STANDARD
END:VTIMEZONE
BEGIN:VEVENT
DTSTART;TZID=Australia/Brisbane:20230701T080000
DTEND;TZID=Australia/Brisbane:20230701T170000
DTSTAMP:20260426T101518
CREATED:20230130T032951Z
LAST-MODIFIED:20230130T032951Z
UID:2778-1688198400-1688230800@frasercoastdistrictbowls.com.au
SUMMARY:Open Fours Day M'Boro Services
DESCRIPTION:
URL:https://frasercoastdistrictbowls.com.au/event-calendar/open-fours-day-mboro-services/
CATEGORIES:Club Event
END:VEVENT
BEGIN:VEVENT
DTSTART;TZID=Australia/Brisbane:20230701T080000
DTEND;TZID=Australia/Brisbane:20230701T170000
DTSTAMP:20260426T101518
CREATED:20230130T033303Z
LAST-MODIFIED:20230130T033303Z
UID:2782-1688198400-1688230800@frasercoastdistrictbowls.com.au
SUMMARY:Monto Fours
DESCRIPTION:
URL:https://frasercoastdistrictbowls.com.au/event-calendar/monto-fours/
CATEGORIES:Other
END:VEVENT
BEGIN:VEVENT
DTSTART;TZID=Australia/Brisbane:20230701T080000
DTEND;TZID=Australia/Brisbane:20230702T170000
DTSTAMP:20260426T101518
CREATED:20230130T033153Z
LAST-MODIFIED:20230130T033153Z
UID:2780-1688198400-1688317200@frasercoastdistrictbowls.com.au
SUMMARY:QLD Indoor Qualifying Rounds Men
DESCRIPTION:
URL:https://frasercoastdistrictbowls.com.au/event-calendar/qld-indoor-qualifying-rounds-men/
CATEGORIES:Other
END:VEVENT
BEGIN:VEVENT
DTSTART;TZID=Australia/Brisbane:20230702T080000
DTEND;TZID=Australia/Brisbane:20230702T170000
DTSTAMP:20260426T101518
CREATED:20230130T033916Z
LAST-MODIFIED:20230130T033916Z
UID:2784-1688284800-1688317200@frasercoastdistrictbowls.com.au
SUMMARY:Gary Evans Memorial Day at Pomona
DESCRIPTION:
URL:https://frasercoastdistrictbowls.com.au/event-calendar/gary-evans-memorial-day-at-pomona/
CATEGORIES:Other
END:VEVENT
BEGIN:VEVENT
DTSTART;TZID=Australia/Brisbane:20230702T100000
DTEND;TZID=Australia/Brisbane:20230702T170000
DTSTAMP:20260426T101518
CREATED:20230605T013013Z
LAST-MODIFIED:20230605T034059Z
UID:2920-1688292000-1688317200@frasercoastdistrictbowls.com.au
SUMMARY:Gary Evans Memorial day
DESCRIPTION:Open Fours – $120 per team\nGary Evans Memorial day \n\n2 games of 16 ends\nLunch included\n\n1st $480\n2nd $360\n3rd $160\nEntries Close on 30th June 2023. To register call John Bawden on 0447 191 699  OR Email:  jcbawden@bigpond.com \n6 School Street\, Pomona. Qld. 4568 \nClub reserves the right to cancel or reduce prizes if insufficient teams.
URL:https://frasercoastdistrictbowls.com.au/event-calendar/gary-evans-memorial-day/
CATEGORIES:Club Event
ATTACH;FMTTYPE=image/jpeg:https://frasercoastdistrictbowls.com.au/wp-content/uploads/2023/06/Gary-Evans-Memorial-day-with-Text.jpg
END:VEVENT
BEGIN:VEVENT
DTSTART;TZID=UTC:20230708T080000
DTEND;TZID=UTC:20230708T170000
DTSTAMP:20260426T101518
CREATED:20230130T034101Z
LAST-MODIFIED:20230130T034113Z
UID:2786-1688803200-1688835600@frasercoastdistrictbowls.com.au
SUMMARY:Reserved for FCDBA Pennant North & South
DESCRIPTION:
URL:https://frasercoastdistrictbowls.com.au/event-calendar/reserved-for-fcdba-pennant-north-south-6/
CATEGORIES:FCDBA Event
END:VEVENT
BEGIN:VEVENT
DTSTART;TZID=UTC:20230715T080000
DTEND;TZID=UTC:20230715T170000
DTSTAMP:20260426T101518
CREATED:20230130T034146Z
LAST-MODIFIED:20230130T034146Z
UID:2788-1689408000-1689440400@frasercoastdistrictbowls.com.au
SUMMARY:Reserved for FCDBA Pennant North & South
DESCRIPTION:
URL:https://frasercoastdistrictbowls.com.au/event-calendar/reserved-for-fcdba-pennant-north-south-7/
CATEGORIES:FCDBA Event
END:VEVENT
BEGIN:VEVENT
DTSTART;TZID=Australia/Brisbane:20230716T080000
DTEND;TZID=Australia/Brisbane:20230716T170000
DTSTAMP:20260426T101518
CREATED:20230130T034921Z
LAST-MODIFIED:20230130T034921Z
UID:2795-1689494400-1689526800@frasercoastdistrictbowls.com.au
SUMMARY:Kilkivan's Mixed Winter Carnival
DESCRIPTION:
URL:https://frasercoastdistrictbowls.com.au/event-calendar/kilkivans-mixed-winter-carnival/
CATEGORIES:FCDBA Event
END:VEVENT
BEGIN:VEVENT
DTSTART;TZID=Australia/Brisbane:20230719T080000
DTEND;TZID=Australia/Brisbane:20230719T170000
DTSTAMP:20260426T101518
CREATED:20230127T011719Z
LAST-MODIFIED:20230127T011719Z
UID:2673-1689753600-1689786000@frasercoastdistrictbowls.com.au
SUMMARY:Burgowan Nominated Jackpot Fours
DESCRIPTION:
URL:https://frasercoastdistrictbowls.com.au/event-calendar/burgowan-nominated-jackpot-fours-7/
LOCATION:Burgowan Bowls Club\, 4 George St\, Torbanlea\, QLD\, 4662\, Australia
CATEGORIES:Club Event
END:VEVENT
BEGIN:VEVENT
DTSTART;TZID=Australia/Brisbane:20230720T080000
DTEND;TZID=Australia/Brisbane:20230720T170000
DTSTAMP:20260426T101518
CREATED:20220927T041127Z
LAST-MODIFIED:20220927T041127Z
UID:2557-1689840000-1689872400@frasercoastdistrictbowls.com.au
SUMMARY:Gunsmoke Pairs – 2023
DESCRIPTION:
URL:https://frasercoastdistrictbowls.com.au/event-calendar/gunsmoke-pairs-2023-4/
END:VEVENT
BEGIN:VEVENT
DTSTART;TZID=UTC:20230722T080000
DTEND;TZID=UTC:20230722T170000
DTSTAMP:20260426T101518
CREATED:20230130T034202Z
LAST-MODIFIED:20230130T034202Z
UID:2790-1690012800-1690045200@frasercoastdistrictbowls.com.au
SUMMARY:Reserved for FCDBA Pennant North & South
DESCRIPTION:
URL:https://frasercoastdistrictbowls.com.au/event-calendar/reserved-for-fcdba-pennant-north-south-8/
CATEGORIES:FCDBA Event
END:VEVENT
BEGIN:VEVENT
DTSTART;TZID=Australia/Brisbane:20230723T080000
DTEND;TZID=Australia/Brisbane:20230723T170000
DTSTAMP:20260426T101518
CREATED:20230308T080713Z
LAST-MODIFIED:20230308T080713Z
UID:2904-1690099200-1690131600@frasercoastdistrictbowls.com.au
SUMMARY:Maryborough Pres/Patrons Day
DESCRIPTION:
URL:https://frasercoastdistrictbowls.com.au/event-calendar/maryborough-pres-patrons-day-2/
LOCATION:Maryborough Bowls Club\, 506 Kent St\, Maryborough\, QLD\, 4650\, Australia
CATEGORIES:Club Event
END:VEVENT
BEGIN:VEVENT
DTSTART;TZID=Australia/Brisbane:20230726T080000
DTEND;TZID=Australia/Brisbane:20230726T170000
DTSTAMP:20260426T101518
CREATED:20230127T011303Z
LAST-MODIFIED:20230127T011303Z
UID:2657-1690358400-1690390800@frasercoastdistrictbowls.com.au
SUMMARY:Pialba's 1 Day Open 3 Bowl Pairs
DESCRIPTION:
URL:https://frasercoastdistrictbowls.com.au/event-calendar/pialbas-1-day-open-3-bowl-pairs-12/
LOCATION:Pialba Bowls Club\, 56 Taylor St\, Pialba\, QLD\, 4655\, Australia
CATEGORIES:Club Event
END:VEVENT
BEGIN:VEVENT
DTSTART;TZID=UTC:20230729T080000
DTEND;TZID=UTC:20230729T170000
DTSTAMP:20260426T101518
CREATED:20230130T034227Z
LAST-MODIFIED:20230130T034227Z
UID:2792-1690617600-1690650000@frasercoastdistrictbowls.com.au
SUMMARY:Reserved for FCDBA Pennant North & South
DESCRIPTION:
URL:https://frasercoastdistrictbowls.com.au/event-calendar/reserved-for-fcdba-pennant-north-south-9/
CATEGORIES:FCDBA Event
END:VEVENT
END:VCALENDAR