BEGIN:VCALENDAR
VERSION:2.0
PRODID:-//Fraser Coast District Bowls Association - ECPv6.11.2.1//NONSGML v1.0//EN
CALSCALE:GREGORIAN
METHOD:PUBLISH
X-ORIGINAL-URL:https://frasercoastdistrictbowls.com.au
X-WR-CALDESC:Events for Fraser Coast District Bowls Association
REFRESH-INTERVAL;VALUE=DURATION:PT1H
X-Robots-Tag:noindex
X-PUBLISHED-TTL:PT1H
BEGIN:VTIMEZONE
TZID:Australia/Brisbane
BEGIN:STANDARD
TZOFFSETFROM:+1000
TZOFFSETTO:+1000
TZNAME:AEST
DTSTART:20230101T000000
END:STANDARD
END:VTIMEZONE
BEGIN:VEVENT
DTSTART;TZID=Australia/Brisbane:20230304T080000
DTEND;TZID=Australia/Brisbane:20230304T170000
DTSTAMP:20260426T041514
CREATED:20230127T012128Z
LAST-MODIFIED:20230127T012128Z
UID:2693-1677916800-1677949200@frasercoastdistrictbowls.com.au
SUMMARY:WBCC Challenge
DESCRIPTION:
URL:https://frasercoastdistrictbowls.com.au/event-calendar/wbcc-challenge-5/
CATEGORIES:Other
END:VEVENT
BEGIN:VEVENT
DTSTART;TZID=Australia/Brisbane:20230311T080000
DTEND;TZID=Australia/Brisbane:20230311T170000
DTSTAMP:20260426T041514
CREATED:20230127T012204Z
LAST-MODIFIED:20230127T012204Z
UID:2695-1678521600-1678554000@frasercoastdistrictbowls.com.au
SUMMARY:WBCC Challenge (washout)
DESCRIPTION:
URL:https://frasercoastdistrictbowls.com.au/event-calendar/wbcc-challenge-washout/
CATEGORIES:Other
END:VEVENT
BEGIN:VEVENT
DTSTART;TZID=Australia/Brisbane:20230311T080000
DTEND;TZID=Australia/Brisbane:20230311T170000
DTSTAMP:20260426T041514
CREATED:20230127T012239Z
LAST-MODIFIED:20230127T012300Z
UID:2697-1678521600-1678554000@frasercoastdistrictbowls.com.au
SUMMARY:Burnett District AGM
DESCRIPTION:
URL:https://frasercoastdistrictbowls.com.au/event-calendar/burnett-district-agm/
CATEGORIES:Other
END:VEVENT
BEGIN:VEVENT
DTSTART;TZID=Australia/Brisbane:20230312T080000
DTEND;TZID=Australia/Brisbane:20230312T170000
DTSTAMP:20260426T041514
CREATED:20230127T012413Z
LAST-MODIFIED:20230127T012413Z
UID:2699-1678608000-1678640400@frasercoastdistrictbowls.com.au
SUMMARY:Inter District Match FCDBA v Burnett Jackpot Fours WBBC Challenge
DESCRIPTION:at Burnett
URL:https://frasercoastdistrictbowls.com.au/event-calendar/inter-district-match-fcdba-v-burnett-jackpot-fours-wbbc-challenge/
CATEGORIES:FCDBA Event
END:VEVENT
BEGIN:VEVENT
DTSTART;TZID=Australia/Brisbane:20230315T080000
DTEND;TZID=Australia/Brisbane:20230315T170000
DTSTAMP:20260426T041514
CREATED:20230127T011628Z
LAST-MODIFIED:20230127T011628Z
UID:2667-1678867200-1678899600@frasercoastdistrictbowls.com.au
SUMMARY:Burgowan Nominated Jackpot Fours
DESCRIPTION:
URL:https://frasercoastdistrictbowls.com.au/event-calendar/burgowan-nominated-jackpot-fours-4/
LOCATION:Burgowan Bowls Club\, 4 George St\, Torbanlea\, QLD\, 4662\, Australia
CATEGORIES:Club Event
END:VEVENT
BEGIN:VEVENT
DTSTART;TZID=Australia/Brisbane:20230316T080000
DTEND;TZID=Australia/Brisbane:20230316T170000
DTSTAMP:20260426T041514
CREATED:20220927T035919Z
LAST-MODIFIED:20220927T040555Z
UID:2553-1678953600-1678986000@frasercoastdistrictbowls.com.au
SUMMARY:Gunsmoke Pairs - 2023
DESCRIPTION:
URL:https://frasercoastdistrictbowls.com.au/event-calendar/gunsmoke-pairs-2023-2/
CATEGORIES:FCDBA Event
END:VEVENT
BEGIN:VEVENT
DTSTART;TZID=Australia/Brisbane:20230318T080000
DTEND;TZID=Australia/Brisbane:20230318T170000
DTSTAMP:20260426T041514
CREATED:20230127T012528Z
LAST-MODIFIED:20230127T012528Z
UID:2702-1679126400-1679158800@frasercoastdistrictbowls.com.au
SUMMARY:WBBC Challenge Finals
DESCRIPTION:
URL:https://frasercoastdistrictbowls.com.au/event-calendar/wbbc-challenge-finals/
CATEGORIES:Other
END:VEVENT
BEGIN:VEVENT
DTSTART;TZID=Australia/Brisbane:20230319T080000
DTEND;TZID=Australia/Brisbane:20230319T170000
DTSTAMP:20260426T041514
CREATED:20230127T012629Z
LAST-MODIFIED:20230127T012629Z
UID:2704-1679212800-1679245200@frasercoastdistrictbowls.com.au
SUMMARY:Kilkivans Mixed Triples Day
DESCRIPTION:
URL:https://frasercoastdistrictbowls.com.au/event-calendar/kilkivans-mixed-triples-day/
CATEGORIES:Club Event
END:VEVENT
BEGIN:VEVENT
DTSTART;TZID=Australia/Brisbane:20230320T080000
DTEND;TZID=Australia/Brisbane:20230320T170000
DTSTAMP:20260426T041514
CREATED:20230127T012658Z
LAST-MODIFIED:20230127T012658Z
UID:2706-1679299200-1679331600@frasercoastdistrictbowls.com.au
SUMMARY:Entries Close State Championships
DESCRIPTION:
URL:https://frasercoastdistrictbowls.com.au/event-calendar/entries-close-state-championships-3/
CATEGORIES:Other
END:VEVENT
BEGIN:VEVENT
DTSTART;TZID=Australia/Brisbane:20230326T080000
DTEND;TZID=Australia/Brisbane:20230326T170000
DTSTAMP:20260426T041514
CREATED:20220927T030900Z
LAST-MODIFIED:20220927T031236Z
UID:2545-1679817600-1679850000@frasercoastdistrictbowls.com.au
SUMMARY:Burrum Heads - Open Carnival March 2023
DESCRIPTION:
URL:https://frasercoastdistrictbowls.com.au/event-calendar/burrum-heads-open-carnival-march-2023/
CATEGORIES:FCDBA Event
END:VEVENT
BEGIN:VEVENT
DTSTART;TZID=Australia/Brisbane:20230329T080000
DTEND;TZID=Australia/Brisbane:20230329T170000
DTSTAMP:20260426T041514
CREATED:20230127T011153Z
LAST-MODIFIED:20230127T011153Z
UID:2649-1680076800-1680109200@frasercoastdistrictbowls.com.au
SUMMARY:Pialba's 1 Day Open 3 Bowl Pairs
DESCRIPTION:
URL:https://frasercoastdistrictbowls.com.au/event-calendar/pialbas-1-day-open-3-bowl-pairs-8/
LOCATION:Pialba Bowls Club\, 56 Taylor St\, Pialba\, QLD\, 4655\, Australia
CATEGORIES:Club Event
END:VEVENT
END:VCALENDAR