BEGIN:VCALENDAR
VERSION:2.0
PRODID:-//Fraser Coast District Bowls Association - ECPv6.11.2.1//NONSGML v1.0//EN
CALSCALE:GREGORIAN
METHOD:PUBLISH
X-WR-CALNAME:Fraser Coast District Bowls Association
X-ORIGINAL-URL:https://frasercoastdistrictbowls.com.au
X-WR-CALDESC:Events for Fraser Coast District Bowls Association
REFRESH-INTERVAL;VALUE=DURATION:PT1H
X-Robots-Tag:noindex
X-PUBLISHED-TTL:PT1H
BEGIN:VTIMEZONE
TZID:Australia/Brisbane
BEGIN:STANDARD
TZOFFSETFROM:+1000
TZOFFSETTO:+1000
TZNAME:AEST
DTSTART:20220101T000000
END:STANDARD
END:VTIMEZONE
BEGIN:VEVENT
DTSTART;TZID=Australia/Brisbane:20221203T080000
DTEND;TZID=Australia/Brisbane:20221204T170000
DTSTAMP:20260426T000210
CREATED:20220118T013819Z
LAST-MODIFIED:20220118T013819Z
UID:2359-1670054400-1670173200@frasercoastdistrictbowls.com.au
SUMMARY:Urangan Men's Fours 2 Day Carnival
DESCRIPTION:
URL:https://frasercoastdistrictbowls.com.au/event-calendar/urangan-mens-fours-2-day-carnival/
LOCATION:Urangan Bowls Club\, Margaret St & Dayman Street\, Urangan\, QLD\, 4655\, Australia
CATEGORIES:Club Event
END:VEVENT
BEGIN:VEVENT
DTSTART;TZID=Australia/Brisbane:20221205T080000
DTEND;TZID=Australia/Brisbane:20221205T170000
DTSTAMP:20260426T000210
CREATED:20220118T013914Z
LAST-MODIFIED:20220118T013914Z
UID:2361-1670227200-1670259600@frasercoastdistrictbowls.com.au
SUMMARY:Entries Close 2022 Junior State Ch'ships
DESCRIPTION:
URL:https://frasercoastdistrictbowls.com.au/event-calendar/entries-close-2022-junior-state-chships/
CATEGORIES:Other
END:VEVENT
BEGIN:VEVENT
DTSTART;TZID=Australia/Brisbane:20221224T080000
DTEND;TZID=Australia/Brisbane:20221224T170000
DTSTAMP:20260426T000210
CREATED:20220118T013707Z
LAST-MODIFIED:20220118T013707Z
UID:2355-1671868800-1671901200@frasercoastdistrictbowls.com.au
SUMMARY:Christmas Eve
DESCRIPTION:
URL:https://frasercoastdistrictbowls.com.au/event-calendar/christmas-eve/
CATEGORIES:Other
END:VEVENT
BEGIN:VEVENT
DTSTART;TZID=Australia/Brisbane:20221225T080000
DTEND;TZID=Australia/Brisbane:20221225T170000
DTSTAMP:20260426T000210
CREATED:20220118T013733Z
LAST-MODIFIED:20220118T013733Z
UID:2357-1671955200-1671987600@frasercoastdistrictbowls.com.au
SUMMARY:Christmas Day
DESCRIPTION:
URL:https://frasercoastdistrictbowls.com.au/event-calendar/christmas-day/
CATEGORIES:Other
END:VEVENT
END:VCALENDAR