BEGIN:VCALENDAR
VERSION:2.0
PRODID:-//Fraser Coast District Bowls Association - ECPv6.11.2.1//NONSGML v1.0//EN
CALSCALE:GREGORIAN
METHOD:PUBLISH
X-ORIGINAL-URL:https://frasercoastdistrictbowls.com.au
X-WR-CALDESC:Events for Fraser Coast District Bowls Association
REFRESH-INTERVAL;VALUE=DURATION:PT1H
X-Robots-Tag:noindex
X-PUBLISHED-TTL:PT1H
BEGIN:VTIMEZONE
TZID:UTC
BEGIN:STANDARD
TZOFFSETFROM:+0000
TZOFFSETTO:+0000
TZNAME:UTC
DTSTART:20200101T000000
END:STANDARD
END:VTIMEZONE
BEGIN:VEVENT
DTSTART;VALUE=DATE:20201031
DTEND;VALUE=DATE:20201102
DTSTAMP:20260425T055743
CREATED:20200303T211728Z
LAST-MODIFIED:20200303T211816Z
UID:1645-1604102400-1604275199@frasercoastdistrictbowls.com.au
SUMMARY:Nth v/s Sth Bowls Qld Challenge
DESCRIPTION:
URL:https://frasercoastdistrictbowls.com.au/event-calendar/nth-v-s-sth-bowls-qld-challenge/
END:VEVENT
BEGIN:VEVENT
DTSTART;VALUE=DATE:20201101
DTEND;VALUE=DATE:20201102
DTSTAMP:20260425T055743
CREATED:20200303T211906Z
LAST-MODIFIED:20200824T021308Z
UID:1647-1604188800-1604275199@frasercoastdistrictbowls.com.au
SUMMARY:Burrum Heads Mixed 4's Carnival
DESCRIPTION:
URL:https://frasercoastdistrictbowls.com.au/event-calendar/burrum-heads-mixed-4s-carnival-3/
LOCATION:Burrum Heads Bowls Club\, 189 Burrum Heads Rd\, Burrum Heads\, Queensland\, 4659\, Australia
CATEGORIES:Club Event
END:VEVENT
BEGIN:VEVENT
DTSTART;VALUE=DATE:20201101
DTEND;VALUE=DATE:20201102
DTSTAMP:20260425T055743
CREATED:20200303T211956Z
LAST-MODIFIED:20200824T021646Z
UID:1649-1604188800-1604275199@frasercoastdistrictbowls.com.au
SUMMARY:Kilkivan President's Day
DESCRIPTION:
URL:https://frasercoastdistrictbowls.com.au/event-calendar/kilkivan-presidents-day-2/
LOCATION:Kilkivan Bowls Club\, Crescent St\, Kilkivan\, QLD\, 4600\, Australia
CATEGORIES:Club Event
END:VEVENT
BEGIN:VEVENT
DTSTART;VALUE=DATE:20201107
DTEND;VALUE=DATE:20201109
DTSTAMP:20260425T055743
CREATED:20200303T212045Z
LAST-MODIFIED:20200303T212045Z
UID:1651-1604707200-1604879999@frasercoastdistrictbowls.com.au
SUMMARY:State Pennant Finals at TBA
DESCRIPTION:
URL:https://frasercoastdistrictbowls.com.au/event-calendar/state-pennant-finals-at-tba/
END:VEVENT
BEGIN:VEVENT
DTSTART;VALUE=DATE:20201110
DTEND;VALUE=DATE:20201114
DTSTAMP:20260425T055743
CREATED:20200303T212158Z
LAST-MODIFIED:20200303T212158Z
UID:1655-1604966400-1605311999@frasercoastdistrictbowls.com.au
SUMMARY:BPL at Pine Rivers
DESCRIPTION:
URL:https://frasercoastdistrictbowls.com.au/event-calendar/bpl-at-pine-rivers/
END:VEVENT
BEGIN:VEVENT
DTSTART;VALUE=DATE:20201114
DTEND;VALUE=DATE:20201115
DTSTAMP:20260425T055743
CREATED:20200303T212126Z
LAST-MODIFIED:20201021T044005Z
UID:1653-1605312000-1605398399@frasercoastdistrictbowls.com.au
SUMMARY:Maryborough 1 Day Mixed Triples
DESCRIPTION:
URL:https://frasercoastdistrictbowls.com.au/event-calendar/maryborough-1-day-mixed-triples-2/
LOCATION:Maryborough Bowls Club\, 506 Kent St\, Maryborough\, QLD\, 4650\, Australia
CATEGORIES:Club Event
ATTACH;FMTTYPE=image/jpeg:https://frasercoastdistrictbowls.com.au/wp-content/uploads/2019/04/FCDBA-Home-CTA.jpg
END:VEVENT
BEGIN:VEVENT
DTSTART;VALUE=DATE:20201121
DTEND;VALUE=DATE:20201122
DTSTAMP:20260425T055743
CREATED:20200303T212254Z
LAST-MODIFIED:20200824T021211Z
UID:1657-1605916800-1606003199@frasercoastdistrictbowls.com.au
SUMMARY:Kandanga Men's Invitation Fours
DESCRIPTION:
URL:https://frasercoastdistrictbowls.com.au/event-calendar/kandanga-mens-invitation-fours/
LOCATION:Kandanga Bowls Club\, 4 Bowling Club Rd\, Kandanga\, QLD\, 4570\, Australia
CATEGORIES:Club Event
END:VEVENT
BEGIN:VEVENT
DTSTART;VALUE=DATE:20201125
DTEND;VALUE=DATE:20201126
DTSTAMP:20260425T055743
CREATED:20200303T212336Z
LAST-MODIFIED:20200824T022119Z
UID:1659-1606262400-1606348799@frasercoastdistrictbowls.com.au
SUMMARY:FCDBA AGM & Delegates Meeting at Boonooroo
DESCRIPTION:
URL:https://frasercoastdistrictbowls.com.au/event-calendar/fcdba-agm-delegates-meeting-at-boonooroo/
LOCATION:Boonooroo Bowls Club\, 125 Eckert Rd\, Boonooroo\, Queensland\, 4650\, Australia
CATEGORIES:FCDBA Event
END:VEVENT
BEGIN:VEVENT
DTSTART;VALUE=DATE:20201128
DTEND;VALUE=DATE:20201130
DTSTAMP:20260425T055743
CREATED:20200303T212412Z
LAST-MODIFIED:20201026T055815Z
UID:1661-1606521600-1606694399@frasercoastdistrictbowls.com.au
SUMMARY:Pialba's Classic Men's Fours Carnival
DESCRIPTION:$10\,900 Prizemoney\nMajor Sponsors:\n* Kayron Construction Vic. *Churches of Christ Qld *Hervey Bay RSL *Fraser Coast Motor Centre *Clayton Hearing Hervey Bay * Sid Boshammer Prime real Estate * BCIB Insurance *Riviera Resort\nOrganiser\nJohn Walker\nbowls@pialbabowls.com.au\nEntry Form
URL:https://frasercoastdistrictbowls.com.au/event-calendar/pialbas-classic-mens-fours-carnival/
LOCATION:Pialba Bowls Club\, 56 Taylor St\, Pialba\, QLD\, 4655\, Australia
CATEGORIES:Club Event
END:VEVENT
END:VCALENDAR