BEGIN:VCALENDAR
VERSION:2.0
PRODID:-//Fraser Coast District Bowls Association - ECPv6.11.2.1//NONSGML v1.0//EN
CALSCALE:GREGORIAN
METHOD:PUBLISH
X-WR-CALNAME:Fraser Coast District Bowls Association
X-ORIGINAL-URL:https://frasercoastdistrictbowls.com.au
X-WR-CALDESC:Events for Fraser Coast District Bowls Association
REFRESH-INTERVAL;VALUE=DURATION:PT1H
X-Robots-Tag:noindex
X-PUBLISHED-TTL:PT1H
BEGIN:VTIMEZONE
TZID:UTC
BEGIN:STANDARD
TZOFFSETFROM:+0000
TZOFFSETTO:+0000
TZNAME:UTC
DTSTART:20200101T000000
END:STANDARD
END:VTIMEZONE
BEGIN:VEVENT
DTSTART;VALUE=DATE:20200704
DTEND;VALUE=DATE:20200705
DTSTAMP:20260425T115519
CREATED:20200303T204813Z
LAST-MODIFIED:20200303T204813Z
UID:1573-1593820800-1593907199@frasercoastdistrictbowls.com.au
SUMMARY:Reserved for FCDBA Pennant North & South
DESCRIPTION:
URL:https://frasercoastdistrictbowls.com.au/event-calendar/reserved-for-fcdba-pennant-north-south/
END:VEVENT
BEGIN:VEVENT
DTSTART;VALUE=DATE:20200706
DTEND;VALUE=DATE:20200708
DTSTAMP:20260425T115519
CREATED:20200303T205015Z
LAST-MODIFIED:20200303T205015Z
UID:1581-1593993600-1594166399@frasercoastdistrictbowls.com.au
SUMMARY:U/18 Qld vs NSW Test Series in Qld
DESCRIPTION:
URL:https://frasercoastdistrictbowls.com.au/event-calendar/u-18-qld-vs-nsw-test-series-in-qld/
END:VEVENT
BEGIN:VEVENT
DTSTART;VALUE=DATE:20200711
DTEND;VALUE=DATE:20200712
DTSTAMP:20260425T115519
CREATED:20200303T204835Z
LAST-MODIFIED:20200303T204835Z
UID:1575-1594425600-1594511999@frasercoastdistrictbowls.com.au
SUMMARY:Reserved for FCDBA Pennant North & South
DESCRIPTION:
URL:https://frasercoastdistrictbowls.com.au/event-calendar/reserved-for-fcdba-pennant-north-south-2/
END:VEVENT
BEGIN:VEVENT
DTSTART;VALUE=DATE:20200718
DTEND;VALUE=DATE:20200719
DTSTAMP:20260425T115519
CREATED:20200303T204858Z
LAST-MODIFIED:20200303T204858Z
UID:1577-1595030400-1595116799@frasercoastdistrictbowls.com.au
SUMMARY:Reserved for FCDBA Pennant North & South
DESCRIPTION:
URL:https://frasercoastdistrictbowls.com.au/event-calendar/reserved-for-fcdba-pennant-north-south-3/
END:VEVENT
BEGIN:VEVENT
DTSTART;VALUE=DATE:20200725
DTEND;VALUE=DATE:20200726
DTSTAMP:20260425T115519
CREATED:20200303T204921Z
LAST-MODIFIED:20200303T204921Z
UID:1579-1595635200-1595721599@frasercoastdistrictbowls.com.au
SUMMARY:Reserved for FCDBA Pennant North & South
DESCRIPTION:
URL:https://frasercoastdistrictbowls.com.au/event-calendar/reserved-for-fcdba-pennant-north-south-4/
END:VEVENT
BEGIN:VEVENT
DTSTART;VALUE=DATE:20200729
DTEND;VALUE=DATE:20200801
DTSTAMP:20260425T115519
CREATED:20200303T205051Z
LAST-MODIFIED:20200303T205051Z
UID:1583-1595980800-1596239999@frasercoastdistrictbowls.com.au
SUMMARY:Qld vs NSW Test Series in NSW
DESCRIPTION:
URL:https://frasercoastdistrictbowls.com.au/event-calendar/qld-vs-nsw-test-series-in-nsw/
END:VEVENT
END:VCALENDAR