BEGIN:VCALENDAR
VERSION:2.0
PRODID:-//Fraser Coast District Bowls Association - ECPv6.11.2.1//NONSGML v1.0//EN
CALSCALE:GREGORIAN
METHOD:PUBLISH
X-ORIGINAL-URL:https://frasercoastdistrictbowls.com.au
X-WR-CALDESC:Events for Fraser Coast District Bowls Association
REFRESH-INTERVAL;VALUE=DURATION:PT1H
X-Robots-Tag:noindex
X-PUBLISHED-TTL:PT1H
BEGIN:VTIMEZONE
TZID:Australia/Brisbane
BEGIN:STANDARD
TZOFFSETFROM:+1000
TZOFFSETTO:+1000
TZNAME:AEST
DTSTART:20220101T000000
END:STANDARD
END:VTIMEZONE
BEGIN:VEVENT
DTSTART;TZID=Australia/Brisbane:20220723T080000
DTEND;TZID=Australia/Brisbane:20220723T170000
DTSTAMP:20260426T002857
CREATED:20220118T011254Z
LAST-MODIFIED:20220118T011254Z
UID:2323-1658563200-1658595600@frasercoastdistrictbowls.com.au
SUMMARY:FCDBA Pennant North & South
DESCRIPTION:FCDBA Pennant North & South
URL:https://frasercoastdistrictbowls.com.au/event-calendar/fcdba-pennant-north-south-4/
CATEGORIES:FCDBA Event
END:VEVENT
BEGIN:VEVENT
DTSTART;TZID=Australia/Brisbane:20220727T080000
DTEND;TZID=Australia/Brisbane:20220727T170000
DTSTAMP:20260426T002857
CREATED:20220118T011731Z
LAST-MODIFIED:20220118T011731Z
UID:2341-1658908800-1658941200@frasercoastdistrictbowls.com.au
SUMMARY:Pialba's 1 Day Open 3 Bowl pairs
DESCRIPTION:
URL:https://frasercoastdistrictbowls.com.au/event-calendar/pialbas-1-day-open-3-bowl-pairs-3/
LOCATION:Pialba Bowls Club\, 56 Taylor St\, Pialba\, QLD\, 4655\, Australia
CATEGORIES:Club Event
END:VEVENT
BEGIN:VEVENT
DTSTART;TZID=Australia/Brisbane:20220730T080000
DTEND;TZID=Australia/Brisbane:20220730T170000
DTSTAMP:20260426T002857
CREATED:20220118T011306Z
LAST-MODIFIED:20220118T011306Z
UID:2325-1659168000-1659200400@frasercoastdistrictbowls.com.au
SUMMARY:FCDBA Pennant North & South
DESCRIPTION:FCDBA Pennant North & South
URL:https://frasercoastdistrictbowls.com.au/event-calendar/fcdba-pennant-north-south-5/
CATEGORIES:FCDBA Event
END:VEVENT
BEGIN:VEVENT
DTSTART;TZID=Australia/Brisbane:20220731T090000
DTEND;TZID=Australia/Brisbane:20220731T090000
DTSTAMP:20260426T002857
CREATED:20220624T064849Z
LAST-MODIFIED:20220626T081817Z
UID:2484-1659258000-1659258000@frasercoastdistrictbowls.com.au
SUMMARY:Hervey Bay Bowls - Beach House Hotel - Super Sunday Triples 31st July
DESCRIPTION:BEACH HOUSE HOTEL \nSuper Sunday \nLast Sunday of the month – 31st July 2022 \nHERVEY BAY BOWLS CLUB \n2 BOWL MIXED* TRIPLES\n(* Teams must comprise at least one male & one female player) \nPRIZE MONEY $1050\nWinner – $510 : 2nd – $300 : 3rd – $150 : 4\nth – $90\nNominations $75 per Team – Light Lunch Provided \nSTART – 9:00 AM\n3 Games of 14 ends or the bell – 1 hr 50 mins\nDead Ends – re-spot to the T\nScoring: Game Wins\, then Ends\, then Margin. \nNominations Close 29th July 2022 \nMAJOR SPONSOR: BEACH HOUSE HOTEL – SCARNESS \nFlyer \nDirect Debit – Hervey Bay Bowls Club\n\nBSB: 084705 NAB Account: 64-431-2237\n\n(ensure to notify Payee’s name)\n\nEmail: secretary@herveybaybowlsclub.com\n\nInquiries: Rod McMillan – Ph 41940333 or mobile 0429148405\n\n\n\n\n(Full Payment of $75 to be paid with nomination form.)\n\n\n  \n 
URL:https://frasercoastdistrictbowls.com.au/event-calendar/beach-house-hotel-super-sunday-triples-at-hervey-bay-bowls-club-sunday-24th-july-2022/
LOCATION:Hervey Bay Bowls Club
CATEGORIES:Club Event
END:VEVENT
BEGIN:VEVENT
DTSTART;TZID=Australia/Brisbane:20220806T080000
DTEND;TZID=Australia/Brisbane:20220806T170000
DTSTAMP:20260426T002857
CREATED:20220118T011335Z
LAST-MODIFIED:20220118T011335Z
UID:2327-1659772800-1659805200@frasercoastdistrictbowls.com.au
SUMMARY:FCDBA Pennant North & South
DESCRIPTION:FCDBA Pennant North & South
URL:https://frasercoastdistrictbowls.com.au/event-calendar/fcdba-pennant-north-south-6/
CATEGORIES:FCDBA Event
END:VEVENT
BEGIN:VEVENT
DTSTART;VALUE=DATE:20220807
DTEND;VALUE=DATE:20220808
DTSTAMP:20260426T002857
CREATED:20211217T040206Z
LAST-MODIFIED:20220118T002705Z
UID:2085-1659830400-1659916799@frasercoastdistrictbowls.com.au
SUMMARY:Kandanga 1000 Can Day - Men's Fours
DESCRIPTION:Sponsored by Great Northern\n4 Games 15 ends 1hr 35 min\nWins + Margins \nEntry Fee is $120 per team \nFees include Morning Tea\, Lunch and Nibbles \nEntries close Monday prior to event \nFirst 16 teams accepted. \nGames Controllers \nGarry Dan: 0418 796 380 \nDoug Smith: 0455 367 153 \nTo enter www. kandangacountryclub.com.au/bowls/\n\nPrizes to be won\n1st 4 x 3 Cartons \n2nd 4 x 2 Cartons \n3rd 4 x 1 Cartons \nLucky Looser 1 Carton \nPlus \nRound 1 – 2 Cartons \nRound 2 – 2 Cartons \nRound 3 – 2 Cartons \nRound 4 – 2 Cartons \n 
URL:https://frasercoastdistrictbowls.com.au/event-calendar/1000-can-day-mens-fours-2/
LOCATION:Kandanga Bowls Club\, 4 Bowling Club Rd\, Kandanga\, QLD\, 4570\, Australia
CATEGORIES:Club Event
ATTACH;FMTTYPE=image/jpeg:https://frasercoastdistrictbowls.com.au/wp-content/uploads/2021/12/KANDANGA-GN-1000-CAN-DAY-20220807-scaled.jpg
END:VEVENT
BEGIN:VEVENT
DTSTART;TZID=Australia/Brisbane:20220807T080000
DTEND;TZID=Australia/Brisbane:20220807T170000
DTSTAMP:20260426T002857
CREATED:20220118T014206Z
LAST-MODIFIED:20220118T014206Z
UID:2363-1659859200-1659891600@frasercoastdistrictbowls.com.au
SUMMARY:Res for Ch'n of Ch'ns
DESCRIPTION:Reserved for Champion of Champions events . All Disciplines in Burnett District
URL:https://frasercoastdistrictbowls.com.au/event-calendar/res-for-chn-of-chns/
CATEGORIES:FCDBA Event
END:VEVENT
BEGIN:VEVENT
DTSTART;TZID=Australia/Brisbane:20220807T080000
DTEND;TZID=Australia/Brisbane:20220807T170000
DTSTAMP:20260426T002857
CREATED:20220118T014607Z
LAST-MODIFIED:20220118T014620Z
UID:2367-1659859200-1659891600@frasercoastdistrictbowls.com.au
SUMMARY:Kandanga 1000 Can Carnival
DESCRIPTION:
URL:https://frasercoastdistrictbowls.com.au/event-calendar/kandanga-1000-cab-carnival/
LOCATION:Kandanga Bowls Club\, 4 Bowling Club Rd\, Kandanga\, QLD\, 4570\, Australia
CATEGORIES:Club Event
END:VEVENT
BEGIN:VEVENT
DTSTART;TZID=Australia/Brisbane:20220810T080000
DTEND;TZID=Australia/Brisbane:20220810T170000
DTSTAMP:20260426T002857
CREATED:20220118T012006Z
LAST-MODIFIED:20220710T221711Z
UID:2343-1660118400-1660150800@frasercoastdistrictbowls.com.au
SUMMARY:FCDBA Delegates Meeting at Boonooroo
DESCRIPTION:FCDBA Delegates Meeting at Boonooroo \nPlease note Meeting changed from 3rd August to 10th August \n  \n 
URL:https://frasercoastdistrictbowls.com.au/event-calendar/fcdba-delegates-meeting-at-boonooroo-8/
CATEGORIES:Other
ATTACH;FMTTYPE=image/png:https://frasercoastdistrictbowls.com.au/wp-content/uploads/2019/03/Fraser-Coast-District-favicon.png
END:VEVENT
BEGIN:VEVENT
DTSTART;TZID=Australia/Brisbane:20220812T080000
DTEND;TZID=Australia/Brisbane:20220812T170000
DTSTAMP:20260426T002857
CREATED:20220118T014652Z
LAST-MODIFIED:20220118T014652Z
UID:2370-1660291200-1660323600@frasercoastdistrictbowls.com.au
SUMMARY:Notify BQ Zone WInners District Mixed Pairs
DESCRIPTION:
URL:https://frasercoastdistrictbowls.com.au/event-calendar/notify-bq-zone-winners-district-mixed-pairs/
CATEGORIES:Other
END:VEVENT
BEGIN:VEVENT
DTSTART;TZID=Australia/Brisbane:20220813T080000
DTEND;TZID=Australia/Brisbane:20220813T170000
DTSTAMP:20260426T002857
CREATED:20220118T011409Z
LAST-MODIFIED:20220118T011409Z
UID:2329-1660377600-1660410000@frasercoastdistrictbowls.com.au
SUMMARY:FCDBA Pennant North & South
DESCRIPTION:FCDBA Pennant North & South
URL:https://frasercoastdistrictbowls.com.au/event-calendar/fcdba-pennant-north-south-7/
CATEGORIES:FCDBA Event
END:VEVENT
BEGIN:VEVENT
DTSTART;TZID=Australia/Brisbane:20220814T080000
DTEND;TZID=Australia/Brisbane:20220814T170000
DTSTAMP:20260426T002857
CREATED:20220118T014218Z
LAST-MODIFIED:20220118T014218Z
UID:2365-1660464000-1660496400@frasercoastdistrictbowls.com.au
SUMMARY:Res for Ch'n of Ch'ns
DESCRIPTION:Reserved for Champion of Champions events . All Disciplines in Burnett District
URL:https://frasercoastdistrictbowls.com.au/event-calendar/res-for-chn-of-chns-2/
CATEGORIES:FCDBA Event
END:VEVENT
BEGIN:VEVENT
DTSTART;TZID=Australia/Brisbane:20220814T080000
DTEND;TZID=Australia/Brisbane:20220814T170000
DTSTAMP:20260426T002857
CREATED:20220718T025530Z
LAST-MODIFIED:20220718T025530Z
UID:2498-1660464000-1660496400@frasercoastdistrictbowls.com.au
SUMMARY:FCDBA Pennants Div 2 North
DESCRIPTION:FCDBA Pennants Div 2 North
URL:https://frasercoastdistrictbowls.com.au/event-calendar/fcdba-pennants-div-2-north/
CATEGORIES:FCDBA Event
END:VEVENT
BEGIN:VEVENT
DTSTART;TZID=Australia/Brisbane:20220815T080000
DTEND;TZID=Australia/Brisbane:20220818T170000
DTSTAMP:20260426T002857
CREATED:20220118T014755Z
LAST-MODIFIED:20220118T014755Z
UID:2372-1660550400-1660842000@frasercoastdistrictbowls.com.au
SUMMARY:Australian Indoor Ch'ships - Tweed Heads
DESCRIPTION:
URL:https://frasercoastdistrictbowls.com.au/event-calendar/australian-indoor-chships-tweed-heads/
CATEGORIES:Other
END:VEVENT
BEGIN:VEVENT
DTSTART;TZID=Australia/Brisbane:20220819T080000
DTEND;TZID=Australia/Brisbane:20220821T170000
DTSTAMP:20260426T002857
CREATED:20220118T014928Z
LAST-MODIFIED:20220118T014928Z
UID:2374-1660896000-1661101200@frasercoastdistrictbowls.com.au
SUMMARY:Cooloola Coast Winter Carnival
DESCRIPTION:
URL:https://frasercoastdistrictbowls.com.au/event-calendar/cooloola-coast-winter-carnival/
LOCATION:Cooloola Bowls Club\, QLD\, Australia
CATEGORIES:Club Event
END:VEVENT
BEGIN:VEVENT
DTSTART;TZID=Australia/Brisbane:20220820T080000
DTEND;TZID=Australia/Brisbane:20220820T170000
DTSTAMP:20260426T002857
CREATED:20220118T011421Z
LAST-MODIFIED:20220118T011421Z
UID:2331-1660982400-1661014800@frasercoastdistrictbowls.com.au
SUMMARY:FCDBA Pennant North & South
DESCRIPTION:FCDBA Pennant North & South
URL:https://frasercoastdistrictbowls.com.au/event-calendar/fcdba-pennant-north-south-8/
CATEGORIES:FCDBA Event
END:VEVENT
BEGIN:VEVENT
DTSTART;TZID=Australia/Brisbane:20220827T080000
DTEND;TZID=Australia/Brisbane:20220827T170000
DTSTAMP:20260426T002857
CREATED:20220718T030715Z
LAST-MODIFIED:20220718T030715Z
UID:2502-1661587200-1661619600@frasercoastdistrictbowls.com.au
SUMMARY:FCDBA Pennant North & South
DESCRIPTION:FCDBA Pennant North & South
URL:https://frasercoastdistrictbowls.com.au/event-calendar/fcdba-pennant-north-south-12/
CATEGORIES:FCDBA Event
END:VEVENT
BEGIN:VEVENT
DTSTART;TZID=Australia/Brisbane:20220827T080000
DTEND;TZID=Australia/Brisbane:20220901T170000
DTSTAMP:20260426T002857
CREATED:20220118T015125Z
LAST-MODIFIED:20220118T015612Z
UID:2378-1661587200-1662051600@frasercoastdistrictbowls.com.au
SUMMARY:Junior Golden Nugget at Tweed
DESCRIPTION:Junior Golden Nugget at Tweed heads
URL:https://frasercoastdistrictbowls.com.au/event-calendar/junior-golden-nugget-at-tweed/
CATEGORIES:Other
END:VEVENT
BEGIN:VEVENT
DTSTART;TZID=Australia/Brisbane:20220828T080000
DTEND;TZID=Australia/Brisbane:20220828T170000
DTSTAMP:20260426T002857
CREATED:20220118T015006Z
LAST-MODIFIED:20220118T015006Z
UID:2376-1661673600-1661706000@frasercoastdistrictbowls.com.au
SUMMARY:Kilkivan Winter Carnival
DESCRIPTION:
URL:https://frasercoastdistrictbowls.com.au/event-calendar/kilkivan-winter-carnival/
LOCATION:Kilkivan Bowls Club\, Crescent St\, Kilkivan\, QLD\, 4600\, Australia
CATEGORIES:Club Event
END:VEVENT
BEGIN:VEVENT
DTSTART;TZID=Australia/Brisbane:20220828T090000
DTEND;TZID=Australia/Brisbane:20220828T090000
DTSTAMP:20260426T002857
CREATED:20220808T010646Z
LAST-MODIFIED:20220808T010852Z
UID:2505-1661677200-1661677200@frasercoastdistrictbowls.com.au
SUMMARY:Beach House Hotel - Super Sunday Mixed Triples at Hervey Bay Bowls Club
DESCRIPTION:BEACH HOUSE HOTEL \nSuper Sunday \nLast Sunday of the month – 28th August 2022 \nHERVEY BAY BOWLS CLUB \n2 BOWL MIXED* TRIPLES\n(* Teams must comprise at least one male & one female player) \nPRIZE MONEY $1050\nWinner – $510 : 2nd – $300 : 3rd – $150 : 4\nth – $90\nNominations $75 per Team – Light Lunch Provided \nSTART – 9:00 AM\n3 Games of 14 ends or the bell – 1 hr 50 mins\nDead Ends – re-spot to the T\nScoring: Game Wins\, then Ends\, then Margin. \nNominations Close 26th August 2022 \nMAJOR SPONSOR: BEACH HOUSE HOTEL – SCARNESS \nFlyer \nDirect Debit – Hervey Bay Bowls Club\n\nBSB: 084705 NAB Account: 64-431-2237\n\n(ensure to notify Payee’s name)\n\nEmail: secretary@herveybaybowlsclub.com\n\nInquiries: Rod McMillan – Ph 41940333 or mobile 0429148405\n\n\n\n\n(Full Payment of $75 to be paid with nomination form.)\n\n\n  \n 
URL:https://frasercoastdistrictbowls.com.au/event-calendar/beach-house-hotel-super-sunday-mixed-triples-at-hervey-bay-bowls-club/
LOCATION:Hervey Bay Bowls Club
CATEGORIES:Club Event
END:VEVENT
BEGIN:VEVENT
DTSTART;TZID=Australia/Brisbane:20220831T080000
DTEND;TZID=Australia/Brisbane:20220831T170000
DTSTAMP:20260426T002857
CREATED:20220118T012153Z
LAST-MODIFIED:20220118T012153Z
UID:2347-1661932800-1661965200@frasercoastdistrictbowls.com.au
SUMMARY:Pialba's 1 Day Open 3 Bowl pairs
DESCRIPTION:
URL:https://frasercoastdistrictbowls.com.au/event-calendar/pialbas-1-day-open-3-bowl-pairs-4/
LOCATION:Pialba Bowls Club\, 56 Taylor St\, Pialba\, QLD\, 4655\, Australia
CATEGORIES:Club Event
END:VEVENT
BEGIN:VEVENT
DTSTART;TZID=Australia/Brisbane:20220903T080000
DTEND;TZID=Australia/Brisbane:20220903T170000
DTSTAMP:20260426T002857
CREATED:20220118T011435Z
LAST-MODIFIED:20220118T011450Z
UID:2333-1662192000-1662224400@frasercoastdistrictbowls.com.au
SUMMARY:FCDBA Pennant North & South
DESCRIPTION:FCDBA Pennant North & South
URL:https://frasercoastdistrictbowls.com.au/event-calendar/fcdba-pennant-north-south-9/
CATEGORIES:FCDBA Event
END:VEVENT
BEGIN:VEVENT
DTSTART;TZID=Australia/Brisbane:20220911T080000
DTEND;TZID=Australia/Brisbane:20220911T170000
DTSTAMP:20260426T002857
CREATED:20220118T015655Z
LAST-MODIFIED:20220118T015655Z
UID:2380-1662883200-1662915600@frasercoastdistrictbowls.com.au
SUMMARY:Kilkivan RSL Bowls
DESCRIPTION:
URL:https://frasercoastdistrictbowls.com.au/event-calendar/kilkivan-rsl-bowls/
CATEGORIES:Club Event
END:VEVENT
BEGIN:VEVENT
DTSTART;TZID=Australia/Brisbane:20220911T080000
DTEND;TZID=Australia/Brisbane:20220911T170000
DTSTAMP:20260426T002857
CREATED:20220118T023000Z
LAST-MODIFIED:20220118T023013Z
UID:2388-1662883200-1662915600@frasercoastdistrictbowls.com.au
SUMMARY:Kandanga $900 Pig Day
DESCRIPTION:
URL:https://frasercoastdistrictbowls.com.au/event-calendar/kandanga-900-pig-day/
LOCATION:Kandanga Bowls Club\, 4 Bowling Club Rd\, Kandanga\, QLD\, 4570\, Australia
CATEGORIES:Club Event
END:VEVENT
BEGIN:VEVENT
DTSTART;TZID=Australia/Brisbane:20220911T080000
DTEND;TZID=Australia/Brisbane:20220911T170000
DTSTAMP:20260426T002857
CREATED:20220718T030056Z
LAST-MODIFIED:20220718T030331Z
UID:2500-1662883200-1662915600@frasercoastdistrictbowls.com.au
SUMMARY:FCDBA Pennants Div 2 North
DESCRIPTION:FCDBA Pennants Div 2 North
URL:https://frasercoastdistrictbowls.com.au/event-calendar/fcdba-pennants-div-2-north-2/
CATEGORIES:FCDBA Event
END:VEVENT
BEGIN:VEVENT
DTSTART;TZID=Australia/Brisbane:20220912T080000
DTEND;TZID=Australia/Brisbane:20220912T170000
DTSTAMP:20260426T002857
CREATED:20220118T015824Z
LAST-MODIFIED:20220118T015824Z
UID:2382-1662969600-1663002000@frasercoastdistrictbowls.com.au
SUMMARY:Notify BQ Zone Ch'n of Champions
DESCRIPTION:
URL:https://frasercoastdistrictbowls.com.au/event-calendar/notify-bq-zone-chn-of-champions/
CATEGORIES:Other
END:VEVENT
BEGIN:VEVENT
DTSTART;TZID=Australia/Brisbane:20220914T080000
DTEND;TZID=Australia/Brisbane:20220914T170000
DTSTAMP:20260426T002857
CREATED:20220118T015854Z
LAST-MODIFIED:20220118T015854Z
UID:2384-1663142400-1663174800@frasercoastdistrictbowls.com.au
SUMMARY:2023 District Sides Nominations
DESCRIPTION:
URL:https://frasercoastdistrictbowls.com.au/event-calendar/2023-district-sides-nominations/
CATEGORIES:Other
END:VEVENT
BEGIN:VEVENT
DTSTART;TZID=Australia/Brisbane:20220915T093000
DTEND;TZID=Australia/Brisbane:20220915T164500
DTSTAMP:20260426T002857
CREATED:20211217T035451Z
LAST-MODIFIED:20220118T002723Z
UID:2080-1663234200-1663260300@frasercoastdistrictbowls.com.au
SUMMARY:Kandanga $750 5 A-Side Medley
DESCRIPTION:Prizes – 1st – 5 x $75 | 2nd – 5 x $50 | 3rd – 5 x $25\nEntry Fee is $125 per team. \nEntry includes Morning Tea Lunch & Nibbles after the game \nEntries close Monday prior to the event \nGames to the bell – 10 points for a Win and one point for each end won \nGames Controllers \nPuddy Dan: 0407 834 446 \nDoug Smith: 0455 367 153 \nTo enter www.kandangacountryclub.com.au/bowls/\n 
URL:https://frasercoastdistrictbowls.com.au/event-calendar/750-5-a-side-medley-2/
LOCATION:Kandanga Bowls Club\, 4 Bowling Club Rd\, Kandanga\, QLD\, 4570\, Australia
CATEGORIES:Club Event
ATTACH;FMTTYPE=image/jpeg:https://frasercoastdistrictbowls.com.au/wp-content/uploads/2021/12/5-A-SIDE-MEDLEY-SUMMARY-2022-scaled.jpg
END:VEVENT
BEGIN:VEVENT
DTSTART;TZID=Australia/Brisbane:20220917T080000
DTEND;TZID=Australia/Brisbane:20220917T170000
DTSTAMP:20260426T002857
CREATED:20220118T011503Z
LAST-MODIFIED:20220118T011514Z
UID:2335-1663401600-1663434000@frasercoastdistrictbowls.com.au
SUMMARY:FCDBA Pennant North & South
DESCRIPTION:FCDBA Pennant North & South
URL:https://frasercoastdistrictbowls.com.au/event-calendar/fcdba-pennant-north-south-10/
CATEGORIES:FCDBA Event
END:VEVENT
BEGIN:VEVENT
DTSTART;TZID=Australia/Brisbane:20220918T080000
DTEND;TZID=Australia/Brisbane:20220918T170000
DTSTAMP:20260426T002857
CREATED:20220117T032524Z
LAST-MODIFIED:20220118T023052Z
UID:2259-1663488000-1663520400@frasercoastdistrictbowls.com.au
SUMMARY:Tin Can Bay Bowls Club President's Day
DESCRIPTION:Welcome to the Tin Can Bay President’s Day Bowls event
URL:https://frasercoastdistrictbowls.com.au/event-calendar/tin-can-bay-bowls-club-presidents-day/
LOCATION:Tin Can Bay Bowls Club\, Tin Can Bay\, QLD\, 4580\, Australia
CATEGORIES:Club Event
ATTACH;FMTTYPE=image/jpeg:https://frasercoastdistrictbowls.com.au/wp-content/uploads/2022/01/tincanbay.jpg
END:VEVENT
END:VCALENDAR