BEGIN:VCALENDAR
VERSION:2.0
PRODID:-//Fraser Coast District Bowls Association - ECPv6.11.2.1//NONSGML v1.0//EN
CALSCALE:GREGORIAN
METHOD:PUBLISH
X-WR-CALNAME:Fraser Coast District Bowls Association
X-ORIGINAL-URL:https://frasercoastdistrictbowls.com.au
X-WR-CALDESC:Events for Fraser Coast District Bowls Association
REFRESH-INTERVAL;VALUE=DURATION:PT1H
X-Robots-Tag:noindex
X-PUBLISHED-TTL:PT1H
BEGIN:VTIMEZONE
TZID:Australia/Brisbane
BEGIN:STANDARD
TZOFFSETFROM:+1000
TZOFFSETTO:+1000
TZNAME:AEST
DTSTART:20200101T000000
END:STANDARD
END:VTIMEZONE
BEGIN:VTIMEZONE
TZID:UTC
BEGIN:STANDARD
TZOFFSETFROM:+0000
TZOFFSETTO:+0000
TZNAME:UTC
DTSTART:20200101T000000
END:STANDARD
END:VTIMEZONE
BEGIN:VEVENT
DTSTART;VALUE=DATE:20201024
DTEND;VALUE=DATE:20201025
DTSTAMP:20260426T020712
CREATED:20200308T031523Z
LAST-MODIFIED:20200824T021623Z
UID:1733-1603497600-1603583999@frasercoastdistrictbowls.com.au
SUMMARY:Burrum Heads President's Day
DESCRIPTION:
URL:https://frasercoastdistrictbowls.com.au/event-calendar/burrum-heads-presidents-day/
CATEGORIES:Club Event
END:VEVENT
BEGIN:VEVENT
DTSTART;VALUE=DATE:20201024
DTEND;VALUE=DATE:20201030
DTSTAMP:20260426T020712
CREATED:20200303T211700Z
LAST-MODIFIED:20200303T211700Z
UID:1643-1603497600-1604015999@frasercoastdistrictbowls.com.au
SUMMARY:Ch'n of Club Ch'ns State Finals venue TBA
DESCRIPTION:
URL:https://frasercoastdistrictbowls.com.au/event-calendar/chn-of-club-chns-state-finals-venue-tba/
END:VEVENT
BEGIN:VEVENT
DTSTART;VALUE=DATE:20201017
DTEND;VALUE=DATE:20201018
DTSTAMP:20260426T020712
CREATED:20200303T211549Z
LAST-MODIFIED:20200824T021708Z
UID:1641-1602892800-1602979199@frasercoastdistrictbowls.com.au
SUMMARY:M'Boro Services Pres/Patrons Day
DESCRIPTION:
URL:https://frasercoastdistrictbowls.com.au/event-calendar/mboro-services-pres-patrons-day/
LOCATION:Maryborough Services Bowls Club\, Lennox St\, Maryborough\, QLD\, 4650\, Australia
CATEGORIES:Club Event
END:VEVENT
BEGIN:VEVENT
DTSTART;VALUE=DATE:20201012
DTEND;VALUE=DATE:20201013
DTSTAMP:20260426T020712
CREATED:20200303T211505Z
LAST-MODIFIED:20200303T211505Z
UID:1639-1602460800-1602547199@frasercoastdistrictbowls.com.au
SUMMARY:Notify BQ Group Pennant Winners
DESCRIPTION:
URL:https://frasercoastdistrictbowls.com.au/event-calendar/notify-bq-group-pennant-winners-2/
END:VEVENT
BEGIN:VEVENT
DTSTART;VALUE=DATE:20201010
DTEND;VALUE=DATE:20201012
DTSTAMP:20260426T020712
CREATED:20200303T211432Z
LAST-MODIFIED:20200824T021556Z
UID:1637-1602288000-1602460799@frasercoastdistrictbowls.com.au
SUMMARY:Tin Can Bay Men's Carnival
DESCRIPTION:
URL:https://frasercoastdistrictbowls.com.au/event-calendar/tin-can-bay-mens-carnival/
CATEGORIES:Club Event
END:VEVENT
BEGIN:VEVENT
DTSTART;VALUE=DATE:20201004
DTEND;VALUE=DATE:20201005
DTSTAMP:20260426T020712
CREATED:20200303T211320Z
LAST-MODIFIED:20200303T211320Z
UID:1635-1601769600-1601855999@frasercoastdistrictbowls.com.au
SUMMARY:NRL G/Final
DESCRIPTION:
URL:https://frasercoastdistrictbowls.com.au/event-calendar/nrl-g-final/
END:VEVENT
BEGIN:VEVENT
DTSTART;VALUE=DATE:20201003
DTEND;VALUE=DATE:20201005
DTSTAMP:20260426T020712
CREATED:20200303T211254Z
LAST-MODIFIED:20200824T021342Z
UID:1633-1601683200-1601855999@frasercoastdistrictbowls.com.au
SUMMARY:RSL Men's Pairs at The Albert
DESCRIPTION:
URL:https://frasercoastdistrictbowls.com.au/event-calendar/rsl-mens-pairs-at-the-albert/
CATEGORIES:Club Event
END:VEVENT
BEGIN:VEVENT
DTSTART;VALUE=DATE:20201003
DTEND;VALUE=DATE:20201004
DTSTAMP:20260426T020712
CREATED:20200303T211218Z
LAST-MODIFIED:20200824T021529Z
UID:1631-1601683200-1601769599@frasercoastdistrictbowls.com.au
SUMMARY:Group 5 Pennant Burnett District
DESCRIPTION:
URL:https://frasercoastdistrictbowls.com.au/event-calendar/group-5-pennant-burnett-district/
CATEGORIES:FCDBA Event
END:VEVENT
BEGIN:VEVENT
DTSTART;VALUE=DATE:20201003
DTEND;VALUE=DATE:20201017
DTSTAMP:20260426T020712
CREATED:20200303T211130Z
LAST-MODIFIED:20200303T211130Z
UID:1629-1601683200-1602892799@frasercoastdistrictbowls.com.au
SUMMARY:Aus Sides\, Sen Sides etc
DESCRIPTION:
URL:https://frasercoastdistrictbowls.com.au/event-calendar/aus-sides-sen-sides-etc/
END:VEVENT
BEGIN:VEVENT
DTSTART;VALUE=DATE:20201003
DTEND;VALUE=DATE:20201017
DTSTAMP:20260426T020712
CREATED:20200303T211038Z
LAST-MODIFIED:20200303T211038Z
UID:1627-1601683200-1602892799@frasercoastdistrictbowls.com.au
SUMMARY:The Nationals
DESCRIPTION:
URL:https://frasercoastdistrictbowls.com.au/event-calendar/the-nationals/
END:VEVENT
BEGIN:VEVENT
DTSTART;VALUE=DATE:20200927
DTEND;VALUE=DATE:20200928
DTSTAMP:20260426T020712
CREATED:20200308T031039Z
LAST-MODIFIED:20200824T021913Z
UID:1731-1601164800-1601251199@frasercoastdistrictbowls.com.au
SUMMARY:Kandanga Men's President Day
DESCRIPTION:
URL:https://frasercoastdistrictbowls.com.au/event-calendar/kandanga-mens-president-day/
CATEGORIES:Club Event
END:VEVENT
BEGIN:VEVENT
DTSTART;VALUE=DATE:20200926
DTEND;VALUE=DATE:20200928
DTSTAMP:20260426T020712
CREATED:20200303T210923Z
LAST-MODIFIED:20200303T210923Z
UID:1625-1601078400-1601251199@frasercoastdistrictbowls.com.au
SUMMARY:Qld District Mixed Pairs Championships
DESCRIPTION:
URL:https://frasercoastdistrictbowls.com.au/event-calendar/qld-district-mixed-pairs-championships/
END:VEVENT
BEGIN:VEVENT
DTSTART;VALUE=DATE:20200926
DTEND;VALUE=DATE:20200927
DTSTAMP:20260426T020712
CREATED:20200303T210836Z
LAST-MODIFIED:20200303T210836Z
UID:1623-1601078400-1601164799@frasercoastdistrictbowls.com.au
SUMMARY:AFL G/Final
DESCRIPTION:
URL:https://frasercoastdistrictbowls.com.au/event-calendar/afl-g-final/
END:VEVENT
BEGIN:VEVENT
DTSTART;VALUE=DATE:20200926
DTEND;VALUE=DATE:20200927
DTSTAMP:20260426T020712
CREATED:20200303T210303Z
LAST-MODIFIED:20200303T210303Z
UID:1611-1601078400-1601164799@frasercoastdistrictbowls.com.au
SUMMARY:Reserved for FCDBA Pennant North & South
DESCRIPTION:
URL:https://frasercoastdistrictbowls.com.au/event-calendar/reserved-for-fcdba-pennant-north-south-13/
END:VEVENT
BEGIN:VEVENT
DTSTART;VALUE=DATE:20200920
DTEND;VALUE=DATE:20200921
DTSTAMP:20260426T020712
CREATED:20200303T210815Z
LAST-MODIFIED:20200824T021832Z
UID:1621-1600560000-1600646399@frasercoastdistrictbowls.com.au
SUMMARY:Tin Can Bay Presidents Day
DESCRIPTION:
URL:https://frasercoastdistrictbowls.com.au/event-calendar/tin-can-bay-presidents-day-2/
CATEGORIES:Club Event
END:VEVENT
BEGIN:VEVENT
DTSTART;TZID=Australia/Brisbane:20200919T080000
DTEND;TZID=Australia/Brisbane:20200919T170000
DTSTAMP:20260426T020712
CREATED:20200824T015710Z
LAST-MODIFIED:20200824T015710Z
UID:1779-1600502400-1600534800@frasercoastdistrictbowls.com.au
SUMMARY:2020 Fraser Coast Pennant Round 7
DESCRIPTION:ROUND 7 19th Sept \nHervey Bay VS Maryborough\nThe Albert VS M’boro Services\nPialba VS Burrum Heads\nBoonooroo VS Urangan
URL:https://frasercoastdistrictbowls.com.au/event-calendar/2020-fraser-coast-pennant-round-7/
CATEGORIES:FCDBA Event
ORGANIZER;CN="Fraser Coast District Bowls Association":MAILTO:frasercoastdistbowls@y7mail.com
END:VEVENT
BEGIN:VEVENT
DTSTART;VALUE=DATE:20200915
DTEND;VALUE=DATE:20200916
DTSTAMP:20260426T020712
CREATED:20200303T210716Z
LAST-MODIFIED:20200303T210716Z
UID:1619-1600128000-1600214399@frasercoastdistrictbowls.com.au
SUMMARY:Entries Close 2021 District Sides Ch'ships
DESCRIPTION:
URL:https://frasercoastdistrictbowls.com.au/event-calendar/entries-close-2021-district-sides-chships/
END:VEVENT
BEGIN:VEVENT
DTSTART;VALUE=DATE:20200914
DTEND;VALUE=DATE:20200915
DTSTAMP:20260426T020712
CREATED:20200303T210641Z
LAST-MODIFIED:20200303T210641Z
UID:1617-1600041600-1600127999@frasercoastdistrictbowls.com.au
SUMMARY:Notify BQ Group Ch'n of Ch'ns  Winners All Disciplines
DESCRIPTION:
URL:https://frasercoastdistrictbowls.com.au/event-calendar/notify-bq-group-chn-of-chns-winners-all-disciplines/
END:VEVENT
BEGIN:VEVENT
DTSTART;VALUE=DATE:20200913
DTEND;VALUE=DATE:20200914
DTSTAMP:20260426T020712
CREATED:20200303T210553Z
LAST-MODIFIED:20200824T021951Z
UID:1615-1599955200-1600041599@frasercoastdistrictbowls.com.au
SUMMARY:Gympie Men's President Day
DESCRIPTION:
URL:https://frasercoastdistrictbowls.com.au/event-calendar/gympie-mens-president-day/
LOCATION:Gympie Bowls Club\, 16 Bowlers Dr\, Southside\, QLD\, 4570\, Australia
CATEGORIES:Club Event
END:VEVENT
BEGIN:VEVENT
DTSTART;TZID=Australia/Brisbane:20200912T080000
DTEND;TZID=Australia/Brisbane:20200912T170000
DTSTAMP:20260426T020712
CREATED:20200824T015434Z
LAST-MODIFIED:20200824T015434Z
UID:1775-1599897600-1599930000@frasercoastdistrictbowls.com.au
SUMMARY:2020 Fraser Coast Pennant Round 6
DESCRIPTION:ROUND 6 12th Sept \nM’boro Services VS Boonooroo\nMaryborough VS Pialba\nBurrum Heads VS Hervey Bay\nUrangan VS The Albert
URL:https://frasercoastdistrictbowls.com.au/event-calendar/2020-fraser-coast-pennant-round-6/
CATEGORIES:FCDBA Event
ORGANIZER;CN="Fraser Coast District Bowls Association":MAILTO:frasercoastdistbowls@y7mail.com
END:VEVENT
BEGIN:VEVENT
DTSTART;VALUE=DATE:20200906
DTEND;VALUE=DATE:20200907
DTSTAMP:20260426T020712
CREATED:20200303T210509Z
LAST-MODIFIED:20200824T022016Z
UID:1613-1599350400-1599436799@frasercoastdistrictbowls.com.au
SUMMARY:Kandanga Pig Day Men's Fours
DESCRIPTION:
URL:https://frasercoastdistrictbowls.com.au/event-calendar/kandanga-pig-day-mens-fours/
LOCATION:Kandanga Bowls Club\, 4 Bowling Club Rd\, Kandanga\, QLD\, 4570\, Australia
CATEGORIES:Club Event
END:VEVENT
BEGIN:VEVENT
DTSTART;TZID=Australia/Brisbane:20200905T080000
DTEND;TZID=Australia/Brisbane:20200905T170000
DTSTAMP:20260426T020712
CREATED:20200824T001420Z
LAST-MODIFIED:20200824T001420Z
UID:1763-1599292800-1599325200@frasercoastdistrictbowls.com.au
SUMMARY:2020 Fraser Coast Pennant Round 5
DESCRIPTION:ROUND 5 – 5th Sept \nHervey Bay VS Urangan \nPialba VS M’boro Services \nThe Albert VS Boonooroo \nMaryborough VS Burrum Heads
URL:https://frasercoastdistrictbowls.com.au/event-calendar/2020-fraser-coast-pennant-round-5/
CATEGORIES:FCDBA Event
ORGANIZER;CN="Fraser Coast District Bowls Association":MAILTO:frasercoastdistbowls@y7mail.com
END:VEVENT
BEGIN:VEVENT
DTSTART;TZID=Australia/Brisbane:20200829T080000
DTEND;TZID=Australia/Brisbane:20200829T170000
DTSTAMP:20260426T020712
CREATED:20200824T000827Z
LAST-MODIFIED:20200824T001143Z
UID:1761-1598688000-1598720400@frasercoastdistrictbowls.com.au
SUMMARY:2020 Fraser Coast Pennant Round 4
DESCRIPTION:ROUND 4 – 29th August \nM’boroServices VS Hervey \nBayBoonooroo VS Maryborough \nBurrumHeads VS TheAlbert \nUrangan VS Pialba
URL:https://frasercoastdistrictbowls.com.au/event-calendar/2020-fraser-coast-pennant-round-4/
CATEGORIES:FCDBA Event
ORGANIZER;CN="Fraser Coast District Bowls Association":MAILTO:frasercoastdistbowls@y7mail.com
END:VEVENT
BEGIN:VEVENT
DTSTART;TZID=Australia/Brisbane:20200822T080000
DTEND;TZID=Australia/Brisbane:20200822T170000
DTSTAMP:20260426T020712
CREATED:20200824T015218Z
LAST-MODIFIED:20200824T015218Z
UID:1772-1598083200-1598115600@frasercoastdistrictbowls.com.au
SUMMARY:2020 Fraser Coast Pennant Round 3
DESCRIPTION:ROUND 3 22nd August \nHervey Bay VS Pialba\nM’boro Services VS Urangan\nBoonooroo VS Burrum Heads\nTheAlbert VS Maryborough
URL:https://frasercoastdistrictbowls.com.au/event-calendar/2020-fraser-coast-pennant-round-3/
CATEGORIES:FCDBA Event
ORGANIZER;CN="Fraser Coast District Bowls Association":MAILTO:frasercoastdistbowls@y7mail.com
END:VEVENT
BEGIN:VEVENT
DTSTART;VALUE=DATE:20200818
DTEND;VALUE=DATE:20200819
DTSTAMP:20260426T020712
CREATED:20200303T205747Z
LAST-MODIFIED:20200303T205747Z
UID:1603-1597708800-1597795199@frasercoastdistrictbowls.com.au
SUMMARY:Notify Bowls Qld Mixed Pairs Winners
DESCRIPTION:
URL:https://frasercoastdistrictbowls.com.au/event-calendar/notify-bowls-qld-mixed-pairs-winners/
END:VEVENT
BEGIN:VEVENT
DTSTART;VALUE=DATE:20200817
DTEND;VALUE=DATE:20200821
DTSTAMP:20260426T020712
CREATED:20200303T205703Z
LAST-MODIFIED:20200303T205703Z
UID:1601-1597622400-1597967999@frasercoastdistrictbowls.com.au
SUMMARY:Aust Indoor Ch'ships Tweed Heads
DESCRIPTION:
URL:https://frasercoastdistrictbowls.com.au/event-calendar/aust-indoor-chships-tweed-heads/
END:VEVENT
BEGIN:VEVENT
DTSTART;TZID=Australia/Brisbane:20200815T080000
DTEND;TZID=Australia/Brisbane:20200815T170000
DTSTAMP:20260426T020712
CREATED:20200824T014745Z
LAST-MODIFIED:20200824T014745Z
UID:1769-1597478400-1597510800@frasercoastdistrictbowls.com.au
SUMMARY:2020 Fraser Coast Pennant Round 2
DESCRIPTION:Round 2 15th August \nHervey Bay VS Boonooroo\nBurrum Heads VS M’boro Services\nPialba VS The Albert\nMaryborough VS Urangan
URL:https://frasercoastdistrictbowls.com.au/event-calendar/2020-fraser-coast-pennant-round-2/
CATEGORIES:FCDBA Event
ORGANIZER;CN="Fraser Coast District Bowls Association":MAILTO:frasercoastdistbowls@y7mail.com
END:VEVENT
BEGIN:VEVENT
DTSTART;VALUE=DATE:20200809
DTEND;VALUE=DATE:20200810
DTSTAMP:20260426T020712
CREATED:20200303T205455Z
LAST-MODIFIED:20200303T205455Z
UID:1597-1596931200-1597017599@frasercoastdistrictbowls.com.au
SUMMARY:Reserved for Zone Ch'n of Ch'ns All disciplines in Burnett Dist
DESCRIPTION:
URL:https://frasercoastdistrictbowls.com.au/event-calendar/reserved-for-zone-chn-of-chns-all-disciplines-in-burnett-dist-2/
END:VEVENT
BEGIN:VEVENT
DTSTART;TZID=Australia/Brisbane:20200808T080000
DTEND;TZID=Australia/Brisbane:20200808T170000
DTSTAMP:20260426T020712
CREATED:20200824T000514Z
LAST-MODIFIED:20200824T000514Z
UID:1759-1596873600-1596906000@frasercoastdistrictbowls.com.au
SUMMARY:2020 Fraser Coast Pennant Round 1
DESCRIPTION:ROUND 1 \nThe Albert VS Hervey Bay \nM’boroServices VS Maryborough \nUrangan VS BurrumHeads \nBoonooroo VS Pialba
URL:https://frasercoastdistrictbowls.com.au/event-calendar/2020-fraser-coast-pennant-round-1/
CATEGORIES:FCDBA Event
ORGANIZER;CN="Fraser Coast District Bowls Association":MAILTO:frasercoastdistbowls@y7mail.com
END:VEVENT
BEGIN:VEVENT
DTSTART;VALUE=DATE:20200805
DTEND;VALUE=DATE:20200806
DTSTAMP:20260426T020712
CREATED:20200303T205606Z
LAST-MODIFIED:20200303T205606Z
UID:1599-1596585600-1596671999@frasercoastdistrictbowls.com.au
SUMMARY:FCDBA Delegates Meeting at Boonooroo
DESCRIPTION:
URL:https://frasercoastdistrictbowls.com.au/event-calendar/fcdba-delegates-meeting-at-boonooroo-5/
LOCATION:Boonooroo Bowls Club\, 125 Eckert Rd\, Boonooroo\, Queensland\, 4650\, Australia
END:VEVENT
END:VCALENDAR