BEGIN:VCALENDAR
VERSION:2.0
PRODID:-//Fraser Coast District Bowls Association - ECPv6.11.2.1//NONSGML v1.0//EN
CALSCALE:GREGORIAN
METHOD:PUBLISH
X-WR-CALNAME:Fraser Coast District Bowls Association
X-ORIGINAL-URL:https://frasercoastdistrictbowls.com.au
X-WR-CALDESC:Events for Fraser Coast District Bowls Association
REFRESH-INTERVAL;VALUE=DURATION:PT1H
X-Robots-Tag:noindex
X-PUBLISHED-TTL:PT1H
BEGIN:VTIMEZONE
TZID:UTC
BEGIN:STANDARD
TZOFFSETFROM:+0000
TZOFFSETTO:+0000
TZNAME:UTC
DTSTART:20200101T000000
END:STANDARD
END:VTIMEZONE
BEGIN:VTIMEZONE
TZID:Australia/Brisbane
BEGIN:STANDARD
TZOFFSETFROM:+1000
TZOFFSETTO:+1000
TZNAME:AEST
DTSTART:20200101T000000
END:STANDARD
END:VTIMEZONE
BEGIN:VEVENT
DTSTART;VALUE=DATE:20200704
DTEND;VALUE=DATE:20200705
DTSTAMP:20260426T002726
CREATED:20200303T204813Z
LAST-MODIFIED:20200303T204813Z
UID:1573-1593820800-1593907199@frasercoastdistrictbowls.com.au
SUMMARY:Reserved for FCDBA Pennant North & South
DESCRIPTION:
URL:https://frasercoastdistrictbowls.com.au/event-calendar/reserved-for-fcdba-pennant-north-south/
END:VEVENT
BEGIN:VEVENT
DTSTART;VALUE=DATE:20200627
DTEND;VALUE=DATE:20200630
DTSTAMP:20260426T002726
CREATED:20200303T204704Z
LAST-MODIFIED:20200303T204704Z
UID:1571-1593216000-1593475199@frasercoastdistrictbowls.com.au
SUMMARY:Qld Indoor Qualifying Rounds
DESCRIPTION:
URL:https://frasercoastdistrictbowls.com.au/event-calendar/qld-indoor-qualifying-rounds/
END:VEVENT
BEGIN:VEVENT
DTSTART;VALUE=DATE:20200627
DTEND;VALUE=DATE:20200629
DTSTAMP:20260426T002726
CREATED:20200303T204256Z
LAST-MODIFIED:20200303T204256Z
UID:1563-1593216000-1593388799@frasercoastdistrictbowls.com.au
SUMMARY:FCDBA Ch'n of Ch'ns Fours at tba
DESCRIPTION:
URL:https://frasercoastdistrictbowls.com.au/event-calendar/fcdba-chn-of-chns-fours-at-tba/
END:VEVENT
BEGIN:VEVENT
DTSTART;VALUE=DATE:20200620
DTEND;VALUE=DATE:20200621
DTSTAMP:20260426T002726
CREATED:20200303T204616Z
LAST-MODIFIED:20200824T022240Z
UID:1569-1592611200-1592697599@frasercoastdistrictbowls.com.au
SUMMARY:Burgowan President's/Patron Day
DESCRIPTION:
URL:https://frasercoastdistrictbowls.com.au/event-calendar/burgowan-presidents-patron-day/
LOCATION:Burgowan Bowls Club\, 4 George St\, Torbanlea\, QLD\, 4662\, Australia
CATEGORIES:Club Event
END:VEVENT
BEGIN:VEVENT
DTSTART;VALUE=DATE:20200620
DTEND;VALUE=DATE:20200622
DTSTAMP:20260426T002726
CREATED:20200303T204211Z
LAST-MODIFIED:20200303T204211Z
UID:1561-1592611200-1592783999@frasercoastdistrictbowls.com.au
SUMMARY:FCDBA Ch'n of Ch'ns Pairs at tba
DESCRIPTION:
URL:https://frasercoastdistrictbowls.com.au/event-calendar/fcdba-chn-of-chns-pairs-at-tba/
END:VEVENT
BEGIN:VEVENT
DTSTART;VALUE=DATE:20200613
DTEND;VALUE=DATE:20200626
DTSTAMP:20260426T002726
CREATED:20200303T204516Z
LAST-MODIFIED:20200303T204516Z
UID:1567-1592006400-1593129599@frasercoastdistrictbowls.com.au
SUMMARY:Aust Open Gold Coast
DESCRIPTION:
URL:https://frasercoastdistrictbowls.com.au/event-calendar/aust-open-gold-coast/
END:VEVENT
BEGIN:VEVENT
DTSTART;VALUE=DATE:20200613
DTEND;VALUE=DATE:20200616
DTSTAMP:20260426T002726
CREATED:20200303T204421Z
LAST-MODIFIED:20200824T022328Z
UID:1565-1592006400-1592265599@frasercoastdistrictbowls.com.au
SUMMARY:Burrum Heads Men's Fours Carnival
DESCRIPTION:
URL:https://frasercoastdistrictbowls.com.au/event-calendar/burrum-heads-mens-fours-carnival/
LOCATION:Burrum Heads Bowls Club\, 189 Burrum Heads Rd\, Burrum Heads\, Queensland\, 4659\, Australia
CATEGORIES:Club Event
END:VEVENT
BEGIN:VEVENT
DTSTART;VALUE=DATE:20200613
DTEND;VALUE=DATE:20200615
DTSTAMP:20260426T002726
CREATED:20200303T204124Z
LAST-MODIFIED:20200303T204124Z
UID:1559-1592006400-1592179199@frasercoastdistrictbowls.com.au
SUMMARY:FCDBA Ch'n of Ch'ns Singles at tba
DESCRIPTION:
URL:https://frasercoastdistrictbowls.com.au/event-calendar/fcdba-chn-of-chns-singles-at-tba/
END:VEVENT
BEGIN:VEVENT
DTSTART;VALUE=DATE:20200606
DTEND;VALUE=DATE:20200608
DTSTAMP:20260426T002726
CREATED:20200303T203919Z
LAST-MODIFIED:20200303T204014Z
UID:1557-1591401600-1591574399@frasercoastdistrictbowls.com.au
SUMMARY:State Qual Final Mixed Pairs at tba
DESCRIPTION:
URL:https://frasercoastdistrictbowls.com.au/event-calendar/state-qual-final-mixed-pairs-at-tba/
END:VEVENT
BEGIN:VEVENT
DTSTART;VALUE=DATE:20200606
DTEND;VALUE=DATE:20200607
DTSTAMP:20260426T002726
CREATED:20200303T203845Z
LAST-MODIFIED:20200824T022352Z
UID:1555-1591401600-1591487999@frasercoastdistrictbowls.com.au
SUMMARY:M'Boro Pres Day
DESCRIPTION:
URL:https://frasercoastdistrictbowls.com.au/event-calendar/mboro-pres-day/
CATEGORIES:Club Event
END:VEVENT
BEGIN:VEVENT
DTSTART;VALUE=DATE:20200601
DTEND;VALUE=DATE:20200602
DTSTAMP:20260426T002726
CREATED:20200303T203804Z
LAST-MODIFIED:20200303T203804Z
UID:1552-1590969600-1591055999@frasercoastdistrictbowls.com.au
SUMMARY:Entries Close Qld Indoor Ch'ships
DESCRIPTION:
URL:https://frasercoastdistrictbowls.com.au/event-calendar/entries-close-qld-indoor-chships/
END:VEVENT
BEGIN:VEVENT
DTSTART;VALUE=DATE:20200530
DTEND;VALUE=DATE:20200601
DTSTAMP:20260426T002726
CREATED:20200303T202803Z
LAST-MODIFIED:20200303T202803Z
UID:1550-1590796800-1590969599@frasercoastdistrictbowls.com.au
SUMMARY:Hervey Bay Classic Men's Pairs
DESCRIPTION:
URL:https://frasercoastdistrictbowls.com.au/event-calendar/hervey-bay-classic-mens-pairs/
END:VEVENT
BEGIN:VEVENT
DTSTART;VALUE=DATE:20200523
DTEND;VALUE=DATE:20200608
DTSTAMP:20260426T002726
CREATED:20200303T202240Z
LAST-MODIFIED:20200308T023631Z
UID:1540-1590192000-1591574399@frasercoastdistrictbowls.com.au
SUMMARY:World Championships at Gold Coast
DESCRIPTION:
URL:https://frasercoastdistrictbowls.com.au/event-calendar/world-championships-at-gold-coast/
CATEGORIES:FCDBA Event
END:VEVENT
BEGIN:VEVENT
DTSTART;VALUE=DATE:20200520
DTEND;VALUE=DATE:20200521
DTSTAMP:20260426T002726
CREATED:20200303T202726Z
LAST-MODIFIED:20200303T202726Z
UID:1548-1589932800-1590019199@frasercoastdistrictbowls.com.au
SUMMARY:FCDBA Delegates Meeting at Boonooroo
DESCRIPTION:
URL:https://frasercoastdistrictbowls.com.au/event-calendar/fcdba-delegates-meeting-at-boonooroo-4/
END:VEVENT
BEGIN:VEVENT
DTSTART;VALUE=DATE:20200516
DTEND;VALUE=DATE:20200518
DTSTAMP:20260426T002726
CREATED:20200303T202640Z
LAST-MODIFIED:20200824T022413Z
UID:1546-1589587200-1589759999@frasercoastdistrictbowls.com.au
SUMMARY:Pialba's Mixed Fours Carnival
DESCRIPTION:
URL:https://frasercoastdistrictbowls.com.au/event-calendar/pialbas-mixed-fours-carnival/
LOCATION:Pialba Bowls Club\, 56 Taylor St\, Pialba\, QLD\, 4655\, Australia
CATEGORIES:Club Event
END:VEVENT
BEGIN:VEVENT
DTSTART;VALUE=DATE:20200510
DTEND;VALUE=DATE:20200511
DTSTAMP:20260426T002726
CREATED:20200308T023803Z
LAST-MODIFIED:20200308T023803Z
UID:1729-1589068800-1589155199@frasercoastdistrictbowls.com.au
SUMMARY:Mother's Day
DESCRIPTION:
URL:https://frasercoastdistrictbowls.com.au/event-calendar/mothers-day/
CATEGORIES:Other
END:VEVENT
BEGIN:VEVENT
DTSTART;VALUE=DATE:20200510
DTEND;VALUE=DATE:20200511
DTSTAMP:20260426T002726
CREATED:20200303T202506Z
LAST-MODIFIED:20200824T022434Z
UID:1544-1589068800-1589155199@frasercoastdistrictbowls.com.au
SUMMARY:Kilkivan $1000 Open Monthly Fours
DESCRIPTION:
URL:https://frasercoastdistrictbowls.com.au/event-calendar/kilkivan-1000-open-monthly-fours-3/
LOCATION:Kilkivan Bowls Club\, Crescent St\, Kilkivan\, QLD\, 4600\, Australia
CATEGORIES:Club Event
END:VEVENT
BEGIN:VEVENT
DTSTART;VALUE=DATE:20200510
DTEND;VALUE=DATE:20200511
DTSTAMP:20260426T002726
CREATED:20200303T202419Z
LAST-MODIFIED:20200824T022501Z
UID:1542-1589068800-1589155199@frasercoastdistrictbowls.com.au
SUMMARY:DODT Cup at Albert
DESCRIPTION:
URL:https://frasercoastdistrictbowls.com.au/event-calendar/dodt-cup-at-albert/
LOCATION:The Albert Bowls Club\, River Rd\, Gympie\, QLD\, 4570\, Australia
CATEGORIES:Club Event
END:VEVENT
BEGIN:VEVENT
DTSTART;VALUE=DATE:20200504
DTEND;VALUE=DATE:20200518
DTSTAMP:20260426T002726
CREATED:20200303T201140Z
LAST-MODIFIED:20200308T023135Z
UID:1512-1588550400-1589759999@frasercoastdistrictbowls.com.au
SUMMARY:State Ch'ships at Gateway District
DESCRIPTION:
URL:https://frasercoastdistrictbowls.com.au/event-calendar/state-chships-at-gateway-district/
CATEGORIES:FCDBA Event
END:VEVENT
BEGIN:VEVENT
DTSTART;VALUE=DATE:20200503
DTEND;VALUE=DATE:20200504
DTSTAMP:20260426T002726
CREATED:20200303T201028Z
LAST-MODIFIED:20200824T022533Z
UID:1510-1588464000-1588550399@frasercoastdistrictbowls.com.au
SUMMARY:Gympie Mens Open 4's
DESCRIPTION:
URL:https://frasercoastdistrictbowls.com.au/event-calendar/gympie-mens-open-4s/
LOCATION:Gympie Bowls Club\, 16 Bowlers Dr\, Southside\, QLD\, 4570\, Australia
CATEGORIES:Club Event
END:VEVENT
BEGIN:VEVENT
DTSTART;VALUE=DATE:20200503
DTEND;VALUE=DATE:20200504
DTSTAMP:20260426T002726
CREATED:20200303T200834Z
LAST-MODIFIED:20200308T022132Z
UID:1504-1588464000-1588550399@frasercoastdistrictbowls.com.au
SUMMARY:District Sides C'ships Travel Home Day
DESCRIPTION:
URL:https://frasercoastdistrictbowls.com.au/event-calendar/district-sides-cships-travel-home-day/
CATEGORIES:FCDBA Event
END:VEVENT
BEGIN:VEVENT
DTSTART;VALUE=DATE:20200502
DTEND;VALUE=DATE:20200504
DTSTAMP:20260426T002726
CREATED:20200303T200922Z
LAST-MODIFIED:20200824T022600Z
UID:1506-1588377600-1588550399@frasercoastdistrictbowls.com.au
SUMMARY:Maryborough Open Mixed Fours
DESCRIPTION:
URL:https://frasercoastdistrictbowls.com.au/event-calendar/maryborough-open-mixed-fours/
LOCATION:Maryborough Bowls Club\, 506 Kent St\, Maryborough\, QLD\, 4650\, Australia
CATEGORIES:Club Event
END:VEVENT
BEGIN:VEVENT
DTSTART;VALUE=DATE:20200429
DTEND;VALUE=DATE:20200503
DTSTAMP:20260426T002726
CREATED:20200303T200607Z
LAST-MODIFIED:20200308T021706Z
UID:1496-1588118400-1588463999@frasercoastdistrictbowls.com.au
SUMMARY:District Sides C'ships at Gateway District
DESCRIPTION:2020 District Sides_CoP_Rev Sep 19\n2020 Men’s District Sides_Draw
URL:https://frasercoastdistrictbowls.com.au/event-calendar/district-sides-cships-at-gateway-district/
CATEGORIES:FCDBA Event
END:VEVENT
BEGIN:VEVENT
DTSTART;VALUE=DATE:20200428
DTEND;VALUE=DATE:20200429
DTSTAMP:20260426T002726
CREATED:20200303T200448Z
LAST-MODIFIED:20200303T200448Z
UID:1494-1588032000-1588118399@frasercoastdistrictbowls.com.au
SUMMARY:District Sides C'ships Travel Day
DESCRIPTION:
URL:https://frasercoastdistrictbowls.com.au/event-calendar/district-sides-cships-travel-day/
END:VEVENT
BEGIN:VEVENT
DTSTART;VALUE=DATE:20200425
DTEND;VALUE=DATE:20200426
DTSTAMP:20260426T002726
CREATED:20200308T020748Z
LAST-MODIFIED:20200308T020748Z
UID:1721-1587772800-1587859199@frasercoastdistrictbowls.com.au
SUMMARY:Anzac Day
DESCRIPTION:
URL:https://frasercoastdistrictbowls.com.au/event-calendar/anzac-day-2/
CATEGORIES:Other
END:VEVENT
BEGIN:VEVENT
DTSTART;VALUE=DATE:20200418
DTEND;VALUE=DATE:20200420
DTSTAMP:20260426T002726
CREATED:20200303T200255Z
LAST-MODIFIED:20200824T022628Z
UID:1490-1587168000-1587340799@frasercoastdistrictbowls.com.au
SUMMARY:M'Boro Services Men's Fours Carnival
DESCRIPTION:
URL:https://frasercoastdistrictbowls.com.au/event-calendar/mboro-services-mens-fours-carnival/
LOCATION:Maryborough Services Bowls Club\, Lennox St\, Maryborough\, QLD\, 4650\, Australia
CATEGORIES:Club Event
END:VEVENT
BEGIN:VEVENT
DTSTART;VALUE=DATE:20200417
DTEND;VALUE=DATE:20200418
DTSTAMP:20260426T002726
CREATED:20200303T195117Z
LAST-MODIFIED:20200303T195240Z
UID:1486-1587081600-1587167999@frasercoastdistrictbowls.com.au
SUMMARY:M'Boro Services Twilight Triples
DESCRIPTION:
URL:https://frasercoastdistrictbowls.com.au/event-calendar/mboro-services-twilight-triples/
LOCATION:Maryborough Services Bowls Club\, Lennox St\, Maryborough\, QLD\, 4650\, Australia
END:VEVENT
BEGIN:VEVENT
DTSTART;VALUE=DATE:20200413
DTEND;VALUE=DATE:20200414
DTSTAMP:20260426T002726
CREATED:20200308T015754Z
LAST-MODIFIED:20200308T015754Z
UID:1718-1586736000-1586822399@frasercoastdistrictbowls.com.au
SUMMARY:Easter Monday
DESCRIPTION:
URL:https://frasercoastdistrictbowls.com.au/event-calendar/easter-monday/
CATEGORIES:Other
END:VEVENT
BEGIN:VEVENT
DTSTART;VALUE=DATE:20200412
DTEND;VALUE=DATE:20200413
DTSTAMP:20260426T002726
CREATED:20200308T015725Z
LAST-MODIFIED:20200308T015725Z
UID:1716-1586649600-1586735999@frasercoastdistrictbowls.com.au
SUMMARY:Easter Sunday
DESCRIPTION:
URL:https://frasercoastdistrictbowls.com.au/event-calendar/easter-sunday/
CATEGORIES:Other
END:VEVENT
BEGIN:VEVENT
DTSTART;VALUE=DATE:20200412
DTEND;VALUE=DATE:20200413
DTSTAMP:20260426T002726
CREATED:20200303T194927Z
LAST-MODIFIED:20200824T022653Z
UID:1484-1586649600-1586735999@frasercoastdistrictbowls.com.au
SUMMARY:Kilkivan $1000 Open Monthly Fours
DESCRIPTION:
URL:https://frasercoastdistrictbowls.com.au/event-calendar/kilkivan-1000-open-monthly-fours-2/
LOCATION:Kilkivan Bowls Club\, Crescent St\, Kilkivan\, QLD\, 4600\, Australia
CATEGORIES:Club Event
END:VEVENT
END:VCALENDAR