BEGIN:VCALENDAR
VERSION:2.0
PRODID:-//Fraser Coast District Bowls Association - ECPv6.11.2.1//NONSGML v1.0//EN
CALSCALE:GREGORIAN
METHOD:PUBLISH
X-ORIGINAL-URL:https://frasercoastdistrictbowls.com.au
X-WR-CALDESC:Events for Fraser Coast District Bowls Association
REFRESH-INTERVAL;VALUE=DURATION:PT1H
X-Robots-Tag:noindex
X-PUBLISHED-TTL:PT1H
BEGIN:VTIMEZONE
TZID:Australia/Brisbane
BEGIN:STANDARD
TZOFFSETFROM:+1000
TZOFFSETTO:+1000
TZNAME:AEST
DTSTART:20220101T000000
END:STANDARD
END:VTIMEZONE
BEGIN:VEVENT
DTSTART;VALUE=DATE:20220403
DTEND;VALUE=DATE:20220404
DTSTAMP:20260425T204338
CREATED:20220112T135620Z
LAST-MODIFIED:20220118T001708Z
UID:2189-1648944000-1649030399@frasercoastdistrictbowls.com.au
SUMMARY:Challenge Match FCDBA v/s Bundaberg - Confirmed
DESCRIPTION:venue TBA \n16/20 x players \n 
URL:https://frasercoastdistrictbowls.com.au/event-calendar/challenge-match-fcdba-v-s-bundaberg-confirmed/
LOCATION:QLD
CATEGORIES:FCDBA Event
ORGANIZER;CN="Fraser Coast District Bowls Association":MAILTO:frasercoastdistbowls@y7mail.com
END:VEVENT
BEGIN:VEVENT
DTSTART;VALUE=DATE:20220406
DTEND;VALUE=DATE:20220407
DTSTAMP:20260425T204338
CREATED:20220112T135700Z
LAST-MODIFIED:20220112T135700Z
UID:2191-1649203200-1649289599@frasercoastdistrictbowls.com.au
SUMMARY:District Side Teams Due to BQ
DESCRIPTION:
URL:https://frasercoastdistrictbowls.com.au/event-calendar/district-side-teams-due-to-bq-3/
LOCATION:QLD
CATEGORIES:FCDBA Event
END:VEVENT
BEGIN:VEVENT
DTSTART;VALUE=DATE:20220409
DTEND;VALUE=DATE:20220410
DTSTAMP:20260425T204338
CREATED:20220112T133837Z
LAST-MODIFIED:20220112T133837Z
UID:2169-1649462400-1649548799@frasercoastdistrictbowls.com.au
SUMMARY:Clayton Hearing Wide Bay Challenge 2022
DESCRIPTION:
URL:https://frasercoastdistrictbowls.com.au/event-calendar/clayton-hearing-wide-bay-challenge-2022-11/
LOCATION:QLD
CATEGORIES:Other
END:VEVENT
BEGIN:VEVENT
DTSTART;VALUE=DATE:20220410
DTEND;VALUE=DATE:20220411
DTSTAMP:20260425T204338
CREATED:20211217T035928Z
LAST-MODIFIED:20220118T001744Z
UID:2082-1649548800-1649635199@frasercoastdistrictbowls.com.au
SUMMARY:Kandanga 1000 Can Day - Men's Fours
DESCRIPTION:Sponsored by Great Northern\n4 Games 15 ends 1hr 35 min\nWins + Margins \nEntry Fee is $120 per team \nFees include Morning Tea\, Lunch and Nibbles \nEntries close Monday prior to event \nFirst 16 teams accepted. \nGames Controllers \nGarry Dan: 0418 796 380 \nDoug Smith: 0455 367 153 \nTo enter www. kandangacountryclub.com.au/bowls/\n\nPrizes to be won\n1st 4 x 3 Cartons \n2nd 4 x 2 Cartons \n3rd 4 x 1 Cartons \nLucky Looser 1 Carton \nPlus \nRound 1 – 2 Cartons \nRound 2 – 2 Cartons \nRound 3 – 2 Cartons \nRound 4 – 2 Cartons \n 
URL:https://frasercoastdistrictbowls.com.au/event-calendar/1000-can-day-mens-fours/
LOCATION:Kandanga Bowls Club\, 4 Bowling Club Rd\, Kandanga\, QLD\, 4570\, Australia
CATEGORIES:Club Event
ATTACH;FMTTYPE=image/jpeg:https://frasercoastdistrictbowls.com.au/wp-content/uploads/2021/12/KANDANGA-GN-1000-CAN-DAY-20220410-scaled.jpg
END:VEVENT
BEGIN:VEVENT
DTSTART;VALUE=DATE:20220412
DTEND;VALUE=DATE:20220413
DTSTAMP:20260425T204338
CREATED:20220112T135844Z
LAST-MODIFIED:20220112T135844Z
UID:2193-1649721600-1649807999@frasercoastdistrictbowls.com.au
SUMMARY:Doon Villa's Seafood Day 4's Day
DESCRIPTION:
URL:https://frasercoastdistrictbowls.com.au/event-calendar/doon-villas-seafood-day-4s-day/
LOCATION:Doon Villa Bowls Club\, 297 Lennox St\, Maryborough\, QLD\, 4650\, Australia
CATEGORIES:Club Event
END:VEVENT
BEGIN:VEVENT
DTSTART;VALUE=DATE:20220415
DTEND;VALUE=DATE:20220416
DTSTAMP:20260425T204338
CREATED:20220112T135930Z
LAST-MODIFIED:20220112T135930Z
UID:2195-1649980800-1650067199@frasercoastdistrictbowls.com.au
SUMMARY:Good Friday
DESCRIPTION:
URL:https://frasercoastdistrictbowls.com.au/event-calendar/good-friday-2/
LOCATION:QLD
END:VEVENT
BEGIN:VEVENT
DTSTART;VALUE=DATE:20220416
DTEND;VALUE=DATE:20220417
DTSTAMP:20260425T204338
CREATED:20220112T140007Z
LAST-MODIFIED:20220112T140007Z
UID:2197-1650067200-1650153599@frasercoastdistrictbowls.com.au
SUMMARY:Easter Saturday
DESCRIPTION:
URL:https://frasercoastdistrictbowls.com.au/event-calendar/easter-saturday-2/
LOCATION:QLD
CATEGORIES:Other
END:VEVENT
BEGIN:VEVENT
DTSTART;VALUE=DATE:20220416
DTEND;VALUE=DATE:20220418
DTSTAMP:20260425T204338
CREATED:20220112T140204Z
LAST-MODIFIED:20220112T140204Z
UID:2199-1650067200-1650239999@frasercoastdistrictbowls.com.au
SUMMARY:Urangan Easter Mixed Fours Carnival
DESCRIPTION:
URL:https://frasercoastdistrictbowls.com.au/event-calendar/urangan-easter-mixed-fours-carnival/
LOCATION:Urangan Bowls Club\, Margaret St & Dayman Street\, Urangan\, QLD\, 4655\, Australia
CATEGORIES:Club Event
ORGANIZER;CN="Urangan Bowls Club":MAILTO:mens-section@uranganbowlsclub.org.au
END:VEVENT
BEGIN:VEVENT
DTSTART;VALUE=DATE:20220416
DTEND;VALUE=DATE:20220418
DTSTAMP:20260425T204338
CREATED:20220112T140336Z
LAST-MODIFIED:20220112T140336Z
UID:2201-1650067200-1650239999@frasercoastdistrictbowls.com.au
SUMMARY:Kenilworth Easter Carnival
DESCRIPTION:
URL:https://frasercoastdistrictbowls.com.au/event-calendar/kenilworth-easter-carnival-2/
LOCATION:Kenilworth Bowls Club\, Kenilworth\, QLD\, 4574\, Australia
CATEGORIES:Club Event
END:VEVENT
BEGIN:VEVENT
DTSTART;VALUE=DATE:20220417
DTEND;VALUE=DATE:20220418
DTSTAMP:20260425T204338
CREATED:20220112T140407Z
LAST-MODIFIED:20220112T140407Z
UID:2203-1650153600-1650239999@frasercoastdistrictbowls.com.au
SUMMARY:Easter Sunday
DESCRIPTION:
URL:https://frasercoastdistrictbowls.com.au/event-calendar/easter-sunday-2/
LOCATION:QLD
CATEGORIES:Other
END:VEVENT
BEGIN:VEVENT
DTSTART;VALUE=DATE:20220418
DTEND;VALUE=DATE:20220419
DTSTAMP:20260425T204338
CREATED:20220112T140524Z
LAST-MODIFIED:20220112T140524Z
UID:2205-1650240000-1650326399@frasercoastdistrictbowls.com.au
SUMMARY:Pialba's Easter Monday 1 Day Open Pairs Carnival
DESCRIPTION:
URL:https://frasercoastdistrictbowls.com.au/event-calendar/pialbas-easter-monday-1-day-open-pairs-carnival/
LOCATION:Pialba Bowls Club\, 56 Taylor St\, Pialba\, QLD\, 4655\, Australia
CATEGORIES:Club Event
ORGANIZER;CN="PIALBA BOWLS CLUB":MAILTO:bowls@pialbabowls.com.au
END:VEVENT
BEGIN:VEVENT
DTSTART;VALUE=DATE:20220420
DTEND;VALUE=DATE:20220421
DTSTAMP:20260425T204338
CREATED:20220112T140628Z
LAST-MODIFIED:20220112T140628Z
UID:2207-1650412800-1650499199@frasercoastdistrictbowls.com.au
SUMMARY:Entries Close Qld Indoor Qual Rnds
DESCRIPTION:
URL:https://frasercoastdistrictbowls.com.au/event-calendar/entries-close-qld-indoor-qual-rnds/
LOCATION:QLD
CATEGORIES:Club Event
END:VEVENT
BEGIN:VEVENT
DTSTART;VALUE=DATE:20220423
DTEND;VALUE=DATE:20220425
DTSTAMP:20260425T204338
CREATED:20220112T140811Z
LAST-MODIFIED:20220112T140811Z
UID:2209-1650672000-1650844799@frasercoastdistrictbowls.com.au
SUMMARY:M'Boro Services 2 Day Mens Fours Carnival
DESCRIPTION:
URL:https://frasercoastdistrictbowls.com.au/event-calendar/mboro-services-2-day-mens-fours-carnival/
LOCATION:Maryborough Services Bowls Club\, Lennox St\, Maryborough\, QLD\, 4650\, Australia
CATEGORIES:Club Event
END:VEVENT
BEGIN:VEVENT
DTSTART;VALUE=DATE:20220423
DTEND;VALUE=DATE:20220425
DTSTAMP:20260425T204338
CREATED:20220112T140906Z
LAST-MODIFIED:20220112T140906Z
UID:2211-1650672000-1650844799@frasercoastdistrictbowls.com.au
SUMMARY:2021 Aust Singles Ch'n of Ch'ns
DESCRIPTION:
URL:https://frasercoastdistrictbowls.com.au/event-calendar/2021-aust-singles-chn-of-chns/
LOCATION:QLD
CATEGORIES:FCDBA Event
END:VEVENT
BEGIN:VEVENT
DTSTART;VALUE=DATE:20220425
DTEND;VALUE=DATE:20220426
DTSTAMP:20260425T204338
CREATED:20220112T140947Z
LAST-MODIFIED:20220112T140947Z
UID:2213-1650844800-1650931199@frasercoastdistrictbowls.com.au
SUMMARY:Anzac Day
DESCRIPTION:
URL:https://frasercoastdistrictbowls.com.au/event-calendar/anzac-day-3/
LOCATION:QLD
CATEGORIES:Other
END:VEVENT
BEGIN:VEVENT
DTSTART;VALUE=DATE:20220426
DTEND;VALUE=DATE:20220430
DTSTAMP:20260425T204338
CREATED:20220112T141034Z
LAST-MODIFIED:20220112T141034Z
UID:2215-1650931200-1651276799@frasercoastdistrictbowls.com.au
SUMMARY:2021 Australian Championships
DESCRIPTION:
URL:https://frasercoastdistrictbowls.com.au/event-calendar/2021-australian-championships/
LOCATION:QLD
CATEGORIES:FCDBA Event
END:VEVENT
BEGIN:VEVENT
DTSTART;VALUE=DATE:20220430
DTEND;VALUE=DATE:20220501
DTSTAMP:20260425T204338
CREATED:20220112T141124Z
LAST-MODIFIED:20220112T141124Z
UID:2217-1651276800-1651363199@frasercoastdistrictbowls.com.au
SUMMARY:Urangan President's Day
DESCRIPTION:
URL:https://frasercoastdistrictbowls.com.au/event-calendar/urangan-presidents-day/
LOCATION:Urangan Bowls Club\, Margaret St & Dayman Street\, Urangan\, QLD\, 4655\, Australia
CATEGORIES:Club Event
ORGANIZER;CN="Urangan Bowls Club":MAILTO:mens-section@uranganbowlsclub.org.au
END:VEVENT
BEGIN:VEVENT
DTSTART;TZID=Australia/Brisbane:20220503T080000
DTEND;TZID=Australia/Brisbane:20220503T170000
DTSTAMP:20260425T204338
CREATED:20220118T002302Z
LAST-MODIFIED:20220118T003446Z
UID:2272-1651564800-1651597200@frasercoastdistrictbowls.com.au
SUMMARY:District Sides Travel Day
DESCRIPTION:District Sides Travel Day
URL:https://frasercoastdistrictbowls.com.au/event-calendar/district-sides-travel-day/
LOCATION:QLD
CATEGORIES:FCDBA Event
END:VEVENT
BEGIN:VEVENT
DTSTART;TZID=Australia/Brisbane:20220504T080000
DTEND;TZID=Australia/Brisbane:20220507T170000
DTSTAMP:20260425T204338
CREATED:20220118T002228Z
LAST-MODIFIED:20220118T003353Z
UID:2270-1651651200-1651942800@frasercoastdistrictbowls.com.au
SUMMARY:District Sides C'ships at Broadbeach
DESCRIPTION:
URL:https://frasercoastdistrictbowls.com.au/event-calendar/district-sides-cships-at-broadbeach/
LOCATION:Broadbeach Bowls Club\, 169 Surf Parade Broadbeach\, Gold Coast\, QLD\, QLD4218\, Australia
CATEGORIES:FCDBA Event
END:VEVENT
BEGIN:VEVENT
DTSTART;TZID=Australia/Brisbane:20220508T080000
DTEND;TZID=Australia/Brisbane:20220508T170000
DTSTAMP:20260425T204338
CREATED:20220118T002128Z
LAST-MODIFIED:20220118T003810Z
UID:2268-1651996800-1652029200@frasercoastdistrictbowls.com.au
SUMMARY:District Sides C'ships Travel Day
DESCRIPTION:District Sides C’ships Travel Day
URL:https://frasercoastdistrictbowls.com.au/event-calendar/2268/
LOCATION:QLD
CATEGORIES:FCDBA Event
END:VEVENT
BEGIN:VEVENT
DTSTART;TZID=Australia/Brisbane:20220509T080000
DTEND;TZID=Australia/Brisbane:20220522T170000
DTSTAMP:20260425T204338
CREATED:20220118T002356Z
LAST-MODIFIED:20220118T002356Z
UID:2274-1652083200-1653238800@frasercoastdistrictbowls.com.au
SUMMARY:State Ch'ships at Gold Coast Clubs
DESCRIPTION:
URL:https://frasercoastdistrictbowls.com.au/event-calendar/state-chships-at-gold-coast-clubs/
LOCATION:QLD
CATEGORIES:Other
END:VEVENT
BEGIN:VEVENT
DTSTART;TZID=Australia/Brisbane:20220518T080000
DTEND;TZID=Australia/Brisbane:20220518T170000
DTSTAMP:20260425T204338
CREATED:20220118T004303Z
LAST-MODIFIED:20220118T004303Z
UID:2287-1652860800-1652893200@frasercoastdistrictbowls.com.au
SUMMARY:FCDBA Delegates Meeting at Boonooroo
DESCRIPTION:
URL:https://frasercoastdistrictbowls.com.au/event-calendar/fcdba-delegates-meeting-at-boonooroo-7/
LOCATION:Boonooroo Bowls Club\, 125 Eckert Rd\, Boonooroo\, Queensland\, 4650\, Australia
CATEGORIES:Other
END:VEVENT
BEGIN:VEVENT
DTSTART;TZID=Australia/Brisbane:20220521T080000
DTEND;TZID=Australia/Brisbane:20220521T170000
DTSTAMP:20260425T204338
CREATED:20220118T004338Z
LAST-MODIFIED:20220118T004338Z
UID:2289-1653120000-1653152400@frasercoastdistrictbowls.com.au
SUMMARY:Doon Villa Presidents Day
DESCRIPTION:
URL:https://frasercoastdistrictbowls.com.au/event-calendar/doon-villa-presidents-day/
LOCATION:Doon Villa Bowls Club\, 297 Lennox St\, Maryborough\, QLD\, 4650\, Australia
CATEGORIES:Club Event
END:VEVENT
BEGIN:VEVENT
DTSTART;TZID=Australia/Brisbane:20220521T080000
DTEND;TZID=Australia/Brisbane:20220522T170000
DTSTAMP:20260425T204338
CREATED:20220118T003927Z
LAST-MODIFIED:20220209T214133Z
UID:2285-1653120000-1653238800@frasercoastdistrictbowls.com.au
SUMMARY:Maryborough 2 Day Fours Carnival
DESCRIPTION:Maryborough\n2 Day Fours Carnival \n*Please this event was moved from the 14/15th
URL:https://frasercoastdistrictbowls.com.au/event-calendar/maryborough-2-day-fours-carnival-2/
LOCATION:Maryborough Bowls Club\, 506 Kent St\, Maryborough\, QLD\, 4650\, Australia
CATEGORIES:Club Event
END:VEVENT
BEGIN:VEVENT
DTSTART;TZID=Australia/Brisbane:20220521T090000
DTEND;TZID=Australia/Brisbane:20220522T143000
DTSTAMP:20260425T204338
CREATED:20211217T034948Z
LAST-MODIFIED:20220118T002442Z
UID:2072-1653123600-1653229800@frasercoastdistrictbowls.com.au
SUMMARY:Kandanga Crack A Jack - Open Fours
DESCRIPTION:Entry Fee is $280 per team & includes Morning Tea\, Lunch Nibbles after the game + Breakfast on Sunday morning\n7 Games over 2 days\, 12 ends or BELL 1hr 30 min\nWins and Margins\, wins count first. No dead ends\, Respot on “T” \nAll games to be played under BA Rules and Bylaws. Dress Bowls Attire \nKadanga Country Club reserves the right to alter the prize money and & conditions of play \nGames Controllers \nDoug Smith: 0455 367 153 \nPuddy Dan: 0407 834 446 \nTo enter www. kandangacountryclub.com.au/bowls/\n\nCamping facilities available at the Club \nTo book Phone 07 5484 3253 \nPowered Sites $20 per van per night \nUnpowered sites $10 per van per night \nWe’ll Crack You Up on Saturday night with entertainment and an inexpensive meal. \n  \n 
URL:https://frasercoastdistrictbowls.com.au/event-calendar/crack-a-jack-open-fours/
LOCATION:Kandanga Bowls Club\, 4 Bowling Club Rd\, Kandanga\, QLD\, 4570\, Australia
CATEGORIES:Club Event
ATTACH;FMTTYPE=image/jpeg:https://frasercoastdistrictbowls.com.au/wp-content/uploads/2021/12/2022-CRACK-A-JACK-FOURS-scaled.jpg
END:VEVENT
BEGIN:VEVENT
DTSTART;TZID=Australia/Brisbane:20220525T080000
DTEND;TZID=Australia/Brisbane:20220525T170000
DTSTAMP:20260425T204338
CREATED:20220118T004441Z
LAST-MODIFIED:20220118T004441Z
UID:2291-1653465600-1653498000@frasercoastdistrictbowls.com.au
SUMMARY:Pialba 1 Day Open Pairs
DESCRIPTION:
URL:https://frasercoastdistrictbowls.com.au/event-calendar/pialba-1-day-open-pairs-2/
LOCATION:QLD
CATEGORIES:Club Event
END:VEVENT
BEGIN:VEVENT
DTSTART;TZID=Australia/Brisbane:20220528T080000
DTEND;TZID=Australia/Brisbane:20220529T170000
DTSTAMP:20260425T204338
CREATED:20220118T004531Z
LAST-MODIFIED:20220118T004531Z
UID:2293-1653724800-1653843600@frasercoastdistrictbowls.com.au
SUMMARY:Hervey Bay Classic Men's Pairs
DESCRIPTION:Hervey Bay
URL:https://frasercoastdistrictbowls.com.au/event-calendar/hervey-bay-classic-mens-pairs-2/
LOCATION:Hervey Bay Bowls Club
CATEGORIES:Club Event
END:VEVENT
BEGIN:VEVENT
DTSTART;TZID=Australia/Brisbane:20220529T080000
DTEND;TZID=Australia/Brisbane:20220529T170000
DTSTAMP:20260425T204338
CREATED:20220118T004620Z
LAST-MODIFIED:20220118T004620Z
UID:2295-1653811200-1653843600@frasercoastdistrictbowls.com.au
SUMMARY:Gympie Presidents Day
DESCRIPTION:Gympie Bowls Club
URL:https://frasercoastdistrictbowls.com.au/event-calendar/gympie-presidents-day/
LOCATION:The Albert Bowls Club Gympie\, River Rd\, Gympie\, QLD\, QLD 4570\, Australia
CATEGORIES:Club Event
END:VEVENT
BEGIN:VEVENT
DTSTART;TZID=Australia/Brisbane:20220529T080000
DTEND;TZID=Australia/Brisbane:20220529T170000
DTSTAMP:20260425T204338
CREATED:20220118T004658Z
LAST-MODIFIED:20220118T004835Z
UID:2297-1653811200-1653843600@frasercoastdistrictbowls.com.au
SUMMARY:QLD Indoor Qualifying Rounds
DESCRIPTION:
URL:https://frasercoastdistrictbowls.com.au/event-calendar/qld-indoor-qualifying-rounds-2/
LOCATION:QLD
CATEGORIES:Other
END:VEVENT
BEGIN:VEVENT
DTSTART;TZID=Australia/Brisbane:20220604T080000
DTEND;TZID=Australia/Brisbane:20220604T170000
DTSTAMP:20260425T204338
CREATED:20220118T004920Z
LAST-MODIFIED:20220118T004920Z
UID:2299-1654329600-1654362000@frasercoastdistrictbowls.com.au
SUMMARY:Maryborough Pres/Patrons Day
DESCRIPTION:
URL:https://frasercoastdistrictbowls.com.au/event-calendar/maryborough-pres-patrons-day/
LOCATION:Maryborough Bowls Club\, 506 Kent St\, Maryborough\, QLD\, 4650\, Australia
CATEGORIES:Club Event
END:VEVENT
END:VCALENDAR