BEGIN:VCALENDAR
VERSION:2.0
PRODID:-//Fraser Coast District Bowls Association - ECPv6.11.2.1//NONSGML v1.0//EN
CALSCALE:GREGORIAN
METHOD:PUBLISH
X-ORIGINAL-URL:https://frasercoastdistrictbowls.com.au
X-WR-CALDESC:Events for Fraser Coast District Bowls Association
REFRESH-INTERVAL;VALUE=DURATION:PT1H
X-Robots-Tag:noindex
X-PUBLISHED-TTL:PT1H
BEGIN:VTIMEZONE
TZID:Australia/Brisbane
BEGIN:STANDARD
TZOFFSETFROM:+1000
TZOFFSETTO:+1000
TZNAME:AEST
DTSTART:20230101T000000
END:STANDARD
END:VTIMEZONE
BEGIN:VTIMEZONE
TZID:UTC
BEGIN:STANDARD
TZOFFSETFROM:+0000
TZOFFSETTO:+0000
TZNAME:UTC
DTSTART:20230101T000000
END:STANDARD
END:VTIMEZONE
BEGIN:VEVENT
DTSTART;TZID=Australia/Brisbane:20231021T080000
DTEND;TZID=Australia/Brisbane:20231026T170000
DTSTAMP:20260424T043310
CREATED:20230130T054111Z
LAST-MODIFIED:20230130T054111Z
UID:2862-1697875200-1698339600@frasercoastdistrictbowls.com.au
SUMMARY:State Finals Ch'n of Ch'ns
DESCRIPTION:
URL:https://frasercoastdistrictbowls.com.au/event-calendar/state-finals-chn-of-chns-2/
LOCATION:QLD
CATEGORIES:Other
END:VEVENT
BEGIN:VEVENT
DTSTART;TZID=Australia/Brisbane:20231019T080000
DTEND;TZID=Australia/Brisbane:20231019T170000
DTSTAMP:20260424T043310
CREATED:20230130T053902Z
LAST-MODIFIED:20230130T053902Z
UID:2860-1697702400-1697734800@frasercoastdistrictbowls.com.au
SUMMARY:Cooloola Coast BC Winter Carnival
DESCRIPTION:
URL:https://frasercoastdistrictbowls.com.au/event-calendar/cooloola-coast-bc-winter-carnival/
LOCATION:QLD
CATEGORIES:Other
END:VEVENT
BEGIN:VEVENT
DTSTART;TZID=Australia/Brisbane:20231018T080000
DTEND;TZID=Australia/Brisbane:20231018T170000
DTSTAMP:20260424T043310
CREATED:20230127T011810Z
LAST-MODIFIED:20230127T011810Z
UID:2679-1697616000-1697648400@frasercoastdistrictbowls.com.au
SUMMARY:Burgowan Nominated Jackpot Fours
DESCRIPTION:
URL:https://frasercoastdistrictbowls.com.au/event-calendar/burgowan-nominated-jackpot-fours-10/
LOCATION:Burgowan Bowls Club\, 4 George St\, Torbanlea\, QLD\, 4662\, Australia
CATEGORIES:Club Event
END:VEVENT
BEGIN:VEVENT
DTSTART;TZID=Australia/Brisbane:20231016T080000
DTEND;TZID=Australia/Brisbane:20231016T170000
DTSTAMP:20260424T043310
CREATED:20230130T052723Z
LAST-MODIFIED:20230130T053234Z
UID:2852-1697443200-1697475600@frasercoastdistrictbowls.com.au
SUMMARY:Notify BQ Zone Dist Mixed Pairs
DESCRIPTION:
URL:https://frasercoastdistrictbowls.com.au/event-calendar/notify-bq-zone-8-a-side-winners-2/
LOCATION:QLD
CATEGORIES:Other
END:VEVENT
BEGIN:VEVENT
DTSTART;TZID=Australia/Brisbane:20231014T080000
DTEND;TZID=Australia/Brisbane:20231015T170000
DTSTAMP:20260424T043310
CREATED:20230130T052917Z
LAST-MODIFIED:20230130T052926Z
UID:2854-1697270400-1697389200@frasercoastdistrictbowls.com.au
SUMMARY:M'Boro Services Classic Mixed Triples
DESCRIPTION:
URL:https://frasercoastdistrictbowls.com.au/event-calendar/mboro-services-classic-mixed-triples/
LOCATION:QLD
CATEGORIES:Club Event
END:VEVENT
BEGIN:VEVENT
DTSTART;TZID=Australia/Brisbane:20231009T080000
DTEND;TZID=Australia/Brisbane:20231009T170000
DTSTAMP:20260424T043310
CREATED:20230130T053410Z
LAST-MODIFIED:20230130T053410Z
UID:2858-1696838400-1696870800@frasercoastdistrictbowls.com.au
SUMMARY:Notify BQ Zone 8 A Side Winners
DESCRIPTION:
URL:https://frasercoastdistrictbowls.com.au/event-calendar/notify-bq-zone-8-a-side-winners-3/
LOCATION:QLD
CATEGORIES:Other
END:VEVENT
BEGIN:VEVENT
DTSTART;TZID=Australia/Brisbane:20231008T080000
DTEND;TZID=Australia/Brisbane:20231008T170000
DTSTAMP:20260424T043310
CREATED:20230130T052312Z
LAST-MODIFIED:20230130T052312Z
UID:2850-1696752000-1696784400@frasercoastdistrictbowls.com.au
SUMMARY:Burgowan Invitation Jackpot Fours
DESCRIPTION:
URL:https://frasercoastdistrictbowls.com.au/event-calendar/burgowan-invitation-jackpot-fours/
LOCATION:QLD
CATEGORIES:Other
END:VEVENT
BEGIN:VEVENT
DTSTART;TZID=Australia/Brisbane:20231007T103000
DTEND;TZID=Australia/Brisbane:20231007T170000
DTSTAMP:20260424T043310
CREATED:20230130T052135Z
LAST-MODIFIED:20230821T085114Z
UID:2848-1696674600-1696698000@frasercoastdistrictbowls.com.au
SUMMARY:Zone 5 Pennant Finals - FCDBA AREA
DESCRIPTION:Division 1 Pennants playoff against Burnett will be on the 7th October at Gympie Bowls Club\, be there 10.30am for a 11am start.
URL:https://frasercoastdistrictbowls.com.au/event-calendar/zone-5-pennant-finals-fcdba-area/
LOCATION:Gympie Bowls Club\, 16 Bowlers Dr\, Southside\, QLD\, 4570\, Australia
CATEGORIES:FCDBA Event
END:VEVENT
BEGIN:VEVENT
DTSTART;TZID=Australia/Brisbane:20231005T080000
DTEND;TZID=Australia/Brisbane:20231020T170000
DTSTAMP:20260424T043310
CREATED:20230130T051947Z
LAST-MODIFIED:20230130T051947Z
UID:2846-1696492800-1697821200@frasercoastdistrictbowls.com.au
SUMMARY:The Nationals
DESCRIPTION:Aus Sides\, Sen Sides etc  Aus Ch’n of Ch’ns In Western Australia
URL:https://frasercoastdistrictbowls.com.au/event-calendar/the-nationals-3/
LOCATION:QLD
CATEGORIES:Other
END:VEVENT
BEGIN:VEVENT
DTSTART;TZID=Australia/Brisbane:20231002T080000
DTEND;TZID=Australia/Brisbane:20231002T170000
DTSTAMP:20260424T043310
CREATED:20230130T051725Z
LAST-MODIFIED:20230130T051725Z
UID:2844-1696233600-1696266000@frasercoastdistrictbowls.com.au
SUMMARY:Notify BQ Zone Pennant Winners
DESCRIPTION:
URL:https://frasercoastdistrictbowls.com.au/event-calendar/notify-bq-zone-pennant-winners-2/
LOCATION:QLD
CATEGORIES:Other
END:VEVENT
BEGIN:VEVENT
DTSTART;TZID=Australia/Brisbane:20230930T080000
DTEND;TZID=Australia/Brisbane:20230930T170000
DTSTAMP:20260424T043310
CREATED:20230130T051204Z
LAST-MODIFIED:20230130T051204Z
UID:2841-1696060800-1696093200@frasercoastdistrictbowls.com.au
SUMMARY:RSL Mixed Pairs at Albert B.C.
DESCRIPTION:
URL:https://frasercoastdistrictbowls.com.au/event-calendar/rsl-mixed-pairs-at-albert-b-c/
LOCATION:QLD
CATEGORIES:Club Event
END:VEVENT
BEGIN:VEVENT
DTSTART;TZID=UTC:20230930T080000
DTEND;TZID=UTC:20230930T170000
DTSTAMP:20260424T043310
CREATED:20230130T042200Z
LAST-MODIFIED:20230130T042200Z
UID:2830-1696060800-1696093200@frasercoastdistrictbowls.com.au
SUMMARY:Reserved for FCDBA Pennant North & South
DESCRIPTION:
URL:https://frasercoastdistrictbowls.com.au/event-calendar/reserved-for-fcdba-pennant-north-south-19/
LOCATION:QLD
CATEGORIES:FCDBA Event
END:VEVENT
BEGIN:VEVENT
DTSTART;TZID=Australia/Brisbane:20230927T080000
DTEND;TZID=Australia/Brisbane:20230927T170000
DTSTAMP:20260424T043310
CREATED:20230127T011331Z
LAST-MODIFIED:20230127T011331Z
UID:2661-1695801600-1695834000@frasercoastdistrictbowls.com.au
SUMMARY:Pialba's 1 Day Open 3 Bowl Pairs
DESCRIPTION:
URL:https://frasercoastdistrictbowls.com.au/event-calendar/pialbas-1-day-open-3-bowl-pairs-14/
LOCATION:Pialba Bowls Club\, 56 Taylor St\, Pialba\, QLD\, 4655\, Australia
CATEGORIES:Club Event
END:VEVENT
BEGIN:VEVENT
DTSTART;TZID=UTC:20230923T113000
DTEND;TZID=UTC:20230923T170000
DTSTAMP:20260424T043310
CREATED:20230130T042137Z
LAST-MODIFIED:20230821T085234Z
UID:2828-1695468600-1695488400@frasercoastdistrictbowls.com.au
SUMMARY:FCDBA Pennant North & South Playoffs Boonooroo
DESCRIPTION:Division 2 and 3 North and South playoffs will be held at Boonooroo Bowls Club on the 23rd September\, 11.30am or a 12pm start.
URL:https://frasercoastdistrictbowls.com.au/event-calendar/reserved-for-fcdba-pennant-north-south-18/
LOCATION:Boonooroo Bowls Club\, 125 Eckert Rd\, Boonooroo\, Queensland\, 4650\, Australia
CATEGORIES:FCDBA Event
END:VEVENT
BEGIN:VEVENT
DTSTART;TZID=Australia/Brisbane:20230921T080000
DTEND;TZID=Australia/Brisbane:20230921T170000
DTSTAMP:20260424T043310
CREATED:20220927T041432Z
LAST-MODIFIED:20220927T041532Z
UID:2559-1695283200-1695315600@frasercoastdistrictbowls.com.au
SUMMARY:Gunsmoke Pairs – 2023
DESCRIPTION:
URL:https://frasercoastdistrictbowls.com.au/event-calendar/gunsmoke-pairs-2023-5/
LOCATION:QLD
CATEGORIES:FCDBA Event
END:VEVENT
BEGIN:VEVENT
DTSTART;TZID=Australia/Brisbane:20230920T080000
DTEND;TZID=Australia/Brisbane:20230920T170000
DTSTAMP:20260424T043310
CREATED:20230127T011751Z
LAST-MODIFIED:20230127T011751Z
UID:2677-1695196800-1695229200@frasercoastdistrictbowls.com.au
SUMMARY:Burgowan Nominated Jackpot Fours
DESCRIPTION:
URL:https://frasercoastdistrictbowls.com.au/event-calendar/burgowan-nominated-jackpot-fours-9/
LOCATION:Burgowan Bowls Club\, 4 George St\, Torbanlea\, QLD\, 4662\, Australia
CATEGORIES:Club Event
END:VEVENT
BEGIN:VEVENT
DTSTART;TZID=UTC:20230916T080000
DTEND;TZID=UTC:20230916T170000
DTSTAMP:20260424T043310
CREATED:20230130T042113Z
LAST-MODIFIED:20230130T042113Z
UID:2826-1694851200-1694883600@frasercoastdistrictbowls.com.au
SUMMARY:Reserved for FCDBA Pennant North & South
DESCRIPTION:
URL:https://frasercoastdistrictbowls.com.au/event-calendar/reserved-for-fcdba-pennant-north-south-17/
LOCATION:QLD
CATEGORIES:FCDBA Event
END:VEVENT
BEGIN:VEVENT
DTSTART;TZID=Australia/Brisbane:20230911T080000
DTEND;TZID=Australia/Brisbane:20230911T170000
DTSTAMP:20260424T043310
CREATED:20230130T051017Z
LAST-MODIFIED:20230130T051017Z
UID:2838-1694419200-1694451600@frasercoastdistrictbowls.com.au
SUMMARY:2024 District Sides Nominations Close
DESCRIPTION:
URL:https://frasercoastdistrictbowls.com.au/event-calendar/2024-district-sides-nominations-close/
LOCATION:QLD
CATEGORIES:Club Event
END:VEVENT
BEGIN:VEVENT
DTSTART;TZID=Australia/Brisbane:20230911T080000
DTEND;TZID=Australia/Brisbane:20230911T170000
DTSTAMP:20260424T043310
CREATED:20230130T050159Z
LAST-MODIFIED:20230130T050834Z
UID:2836-1694419200-1694451600@frasercoastdistrictbowls.com.au
SUMMARY:Notify BQ Zone Ch'n of Champions
DESCRIPTION:
URL:https://frasercoastdistrictbowls.com.au/event-calendar/notify-bq-zone-chn-of-champions-2/
LOCATION:QLD
CATEGORIES:Other
END:VEVENT
BEGIN:VEVENT
DTSTART;TZID=Australia/Brisbane:20230910T080000
DTEND;TZID=Australia/Brisbane:20230910T170000
DTSTAMP:20260424T043310
CREATED:20230130T050018Z
LAST-MODIFIED:20230130T050018Z
UID:2834-1694332800-1694365200@frasercoastdistrictbowls.com.au
SUMMARY:Pomona's President's Day
DESCRIPTION:
URL:https://frasercoastdistrictbowls.com.au/event-calendar/pomonas-presidents-day/
LOCATION:QLD
CATEGORIES:Other
END:VEVENT
BEGIN:VEVENT
DTSTART;TZID=UTC:20230909T080000
DTEND;TZID=UTC:20230909T170000
DTSTAMP:20260424T043310
CREATED:20230130T042031Z
LAST-MODIFIED:20230130T042040Z
UID:2824-1694246400-1694278800@frasercoastdistrictbowls.com.au
SUMMARY:Reserved for FCDBA Pennant North & South
DESCRIPTION:
URL:https://frasercoastdistrictbowls.com.au/event-calendar/reserved-for-fcdba-pennant-north-south-16/
LOCATION:QLD
CATEGORIES:FCDBA Event
END:VEVENT
BEGIN:VEVENT
DTSTART;TZID=Australia/Brisbane:20230903T083000
DTEND;TZID=Australia/Brisbane:20230903T170000
DTSTAMP:20260424T043310
CREATED:20230130T044705Z
LAST-MODIFIED:20230130T044705Z
UID:2832-1693729800-1693760400@frasercoastdistrictbowls.com.au
SUMMARY:FCDBA PRESIDENT'S DAY at venue Nth
DESCRIPTION:
URL:https://frasercoastdistrictbowls.com.au/event-calendar/fcdba-presidents-day-at-venue-nth/
LOCATION:QLD
CATEGORIES:FCDBA Event
ORGANIZER;CN="Fraser Coast District Bowls Association":MAILTO:frasercoastdistbowls@y7mail.com
END:VEVENT
BEGIN:VEVENT
DTSTART;TZID=UTC:20230902T080000
DTEND;TZID=UTC:20230902T170000
DTSTAMP:20260424T043310
CREATED:20230130T042016Z
LAST-MODIFIED:20230130T042016Z
UID:2822-1693641600-1693674000@frasercoastdistrictbowls.com.au
SUMMARY:Reserved for FCDBA Pennant North & South
DESCRIPTION:
URL:https://frasercoastdistrictbowls.com.au/event-calendar/reserved-for-fcdba-pennant-north-south-15/
LOCATION:QLD
CATEGORIES:FCDBA Event
END:VEVENT
BEGIN:VEVENT
DTSTART;TZID=Australia/Brisbane:20230830T080000
DTEND;TZID=Australia/Brisbane:20230830T170000
DTSTAMP:20260424T043310
CREATED:20230127T011317Z
LAST-MODIFIED:20230127T011317Z
UID:2659-1693382400-1693414800@frasercoastdistrictbowls.com.au
SUMMARY:Pialba's 1 Day Open 3 Bowl Pairs
DESCRIPTION:
URL:https://frasercoastdistrictbowls.com.au/event-calendar/pialbas-1-day-open-3-bowl-pairs-13/
LOCATION:Pialba Bowls Club\, 56 Taylor St\, Pialba\, QLD\, 4655\, Australia
CATEGORIES:Club Event
END:VEVENT
BEGIN:VEVENT
DTSTART;TZID=Australia/Brisbane:20230829T080000
DTEND;TZID=Australia/Brisbane:20230910T170000
DTSTAMP:20260424T043310
CREATED:20230130T041718Z
LAST-MODIFIED:20230130T041834Z
UID:2820-1693296000-1694365200@frasercoastdistrictbowls.com.au
SUMMARY:World Ch'ships at Gold Coast
DESCRIPTION:
URL:https://frasercoastdistrictbowls.com.au/event-calendar/world-chships-at-gold-coast/
LOCATION:QLD
CATEGORIES:Club Event
END:VEVENT
BEGIN:VEVENT
DTSTART;TZID=UTC:20230826T080000
DTEND;TZID=UTC:20230826T170000
DTSTAMP:20260424T043310
CREATED:20230130T035822Z
LAST-MODIFIED:20230821T084925Z
UID:2805-1693036800-1693069200@frasercoastdistrictbowls.com.au
SUMMARY:FCDBA Pennant North & South - Week 8
DESCRIPTION:
URL:https://frasercoastdistrictbowls.com.au/event-calendar/reserved-for-fcdba-pennant-north-south-14/
LOCATION:QLD
CATEGORIES:FCDBA Event
END:VEVENT
BEGIN:VEVENT
DTSTART;TZID=Australia/Brisbane:20230823T080000
DTEND;TZID=Australia/Brisbane:20230824T170000
DTSTAMP:20260424T043310
CREATED:20230130T041518Z
LAST-MODIFIED:20230130T041518Z
UID:2818-1692777600-1692896400@frasercoastdistrictbowls.com.au
SUMMARY:Queensland Secondary Schools Cup
DESCRIPTION:
URL:https://frasercoastdistrictbowls.com.au/event-calendar/queensland-secondary-schools-cup/
LOCATION:QLD
CATEGORIES:Club Event
END:VEVENT
BEGIN:VEVENT
DTSTART;TZID=UTC:20230819T080000
DTEND;TZID=UTC:20230819T170000
DTSTAMP:20260424T043310
CREATED:20230130T035755Z
LAST-MODIFIED:20230821T084804Z
UID:2803-1692432000-1692464400@frasercoastdistrictbowls.com.au
SUMMARY:FCDBA Pennant North & South - Week 7
DESCRIPTION:Week 7 Results \n2023 FCDBA Pennant Results & Ladders Week 7 – All DIVs-1
URL:https://frasercoastdistrictbowls.com.au/event-calendar/reserved-for-fcdba-pennant-north-south-12/
LOCATION:QLD
CATEGORIES:FCDBA Event
END:VEVENT
BEGIN:VEVENT
DTSTART;TZID=Australia/Brisbane:20230818T080000
DTEND;TZID=Australia/Brisbane:20230820T170000
DTSTAMP:20260424T043310
CREATED:20230130T041249Z
LAST-MODIFIED:20230130T041249Z
UID:2816-1692345600-1692550800@frasercoastdistrictbowls.com.au
SUMMARY:Cooloola Coast Winter Carnival
DESCRIPTION:
URL:https://frasercoastdistrictbowls.com.au/event-calendar/cooloola-coast-winter-carnival-2/
LOCATION:Cooloola Bowls Club\, QLD\, Australia
CATEGORIES:Club Event
END:VEVENT
BEGIN:VEVENT
DTSTART;TZID=Australia/Brisbane:20230816T080000
DTEND;TZID=Australia/Brisbane:20230816T170000
DTSTAMP:20260424T043310
CREATED:20230127T011737Z
LAST-MODIFIED:20230127T011737Z
UID:2675-1692172800-1692205200@frasercoastdistrictbowls.com.au
SUMMARY:Burgowan Nominated Jackpot Fours
DESCRIPTION:
URL:https://frasercoastdistrictbowls.com.au/event-calendar/burgowan-nominated-jackpot-fours-8/
LOCATION:Burgowan Bowls Club\, 4 George St\, Torbanlea\, QLD\, 4662\, Australia
CATEGORIES:Club Event
END:VEVENT
END:VCALENDAR