BEGIN:VCALENDAR
VERSION:2.0
PRODID:-//Fraser Coast District Bowls Association - ECPv6.11.2.1//NONSGML v1.0//EN
CALSCALE:GREGORIAN
METHOD:PUBLISH
X-WR-CALNAME:Fraser Coast District Bowls Association
X-ORIGINAL-URL:https://frasercoastdistrictbowls.com.au
X-WR-CALDESC:Events for Fraser Coast District Bowls Association
REFRESH-INTERVAL;VALUE=DURATION:PT1H
X-Robots-Tag:noindex
X-PUBLISHED-TTL:PT1H
BEGIN:VTIMEZONE
TZID:UTC
BEGIN:STANDARD
TZOFFSETFROM:+0000
TZOFFSETTO:+0000
TZNAME:UTC
DTSTART:20190101T000000
END:STANDARD
END:VTIMEZONE
BEGIN:VEVENT
DTSTART;TZID=UTC:20190630T080000
DTEND;TZID=UTC:20190630T170000
DTSTAMP:20260426T135757
CREATED:20190506T171044Z
LAST-MODIFIED:20190702T204344Z
UID:1238-1561881600-1561914000@frasercoastdistrictbowls.com.au
SUMMARY:FCDBA CH'N OF CH'NS Mens Fours at Maryborough
DESCRIPTION:Winner:\nThe Albert\nKosta Ladas\, Steve Mandaloff\, Brad Mitchell & Peter Worth (s)\nCh’n of Ch’ns Mens Fours Final Results 2019
URL:https://frasercoastdistrictbowls.com.au/event-calendar/fcdba-chn-of-chns-mens-fours-at-maryborough/
CATEGORIES:Club Event
ATTACH;FMTTYPE=image/jpeg:https://frasercoastdistrictbowls.com.au/wp-content/uploads/2019/05/albert4s-e1562136207334.jpg
END:VEVENT
BEGIN:VEVENT
DTSTART;TZID=UTC:20190629T080000
DTEND;TZID=UTC:20190629T170000
DTSTAMP:20260426T135757
CREATED:20190402T171744Z
LAST-MODIFIED:20190402T171744Z
UID:1225-1561795200-1561827600@frasercoastdistrictbowls.com.au
SUMMARY:HERVEY BAY Presidents & Patrons Day
DESCRIPTION:
URL:https://frasercoastdistrictbowls.com.au/event-calendar/hervey-bay-presidents-patrons-day-2/
CATEGORIES:Other
END:VEVENT
BEGIN:VEVENT
DTSTART;VALUE=DATE:20190629
DTEND;VALUE=DATE:20190630
DTSTAMP:20260426T135757
CREATED:20190311T222617Z
LAST-MODIFIED:20190709T000907Z
UID:1161-1561766400-1561852799@frasercoastdistrictbowls.com.au
SUMMARY:FCDBA CH'N OF CH'NS Mens Fours at TBA
DESCRIPTION:Winner:\nThe Albert\nKosta Ladas\, Steve Mandaloff\, Brad Mitchell & Peter Worth (s)\nCh’n of Ch’ns Mens Fours Final Results 2019
URL:https://frasercoastdistrictbowls.com.au/event-calendar/fcdba-chn-of-chns-mens-fours/
CATEGORIES:FCDBA Event
ATTACH;FMTTYPE=image/jpeg:https://frasercoastdistrictbowls.com.au/wp-content/uploads/2019/05/albert4s-e1562136207334.jpg
END:VEVENT
BEGIN:VEVENT
DTSTART;VALUE=DATE:20190622
DTEND;VALUE=DATE:20190624
DTSTAMP:20260426T135757
CREATED:20190311T222541Z
LAST-MODIFIED:20190702T204806Z
UID:1160-1561161600-1561334399@frasercoastdistrictbowls.com.au
SUMMARY:FCDBA CH'N OF CH'NS Mens Pairs at Gympie BC
DESCRIPTION:Winner:\nPialba\nD. Pritchard & B. Kunde\nCh’n of Ch’ns Pairs Final Results 2019
URL:https://frasercoastdistrictbowls.com.au/event-calendar/fcdba-chn-of-chns-mens-pairs/
LOCATION:Gympie Bowls Club\, 16 Bowlers Dr\, Southside\, QLD\, 4570\, Australia
CATEGORIES:FCDBA Event
ATTACH;FMTTYPE=image/jpeg:https://frasercoastdistrictbowls.com.au/wp-content/uploads/2019/03/Pialba-pairs.jpg
END:VEVENT
BEGIN:VEVENT
DTSTART;VALUE=DATE:20190621
DTEND;VALUE=DATE:20190624
DTSTAMP:20260426T135757
CREATED:20190311T224343Z
LAST-MODIFIED:20190311T224343Z
UID:1162-1561075200-1561334399@frasercoastdistrictbowls.com.au
SUMMARY:MOOLOOLABA Top Draw
DESCRIPTION:
URL:https://frasercoastdistrictbowls.com.au/event-calendar/mooloolaba-invitation/
LOCATION:Club Mooloolaba\, Brisbane Rd & Kapala St\, Brisbane\, QLD\, QLD 4557\, Australia
CATEGORIES:Club Event
END:VEVENT
BEGIN:VEVENT
DTSTART;TZID=UTC:20190615T080000
DTEND;TZID=UTC:20190615T170000
DTSTAMP:20260426T135757
CREATED:20190402T171424Z
LAST-MODIFIED:20190402T171424Z
UID:1224-1560585600-1560618000@frasercoastdistrictbowls.com.au
SUMMARY:BURGOWAN President & Patrons Day
DESCRIPTION:
URL:https://frasercoastdistrictbowls.com.au/event-calendar/burgowan-president-patrons-day/
CATEGORIES:Other
END:VEVENT
BEGIN:VEVENT
DTSTART;VALUE=DATE:20190615
DTEND;VALUE=DATE:20190617
DTSTAMP:20260426T135757
CREATED:20190311T222452Z
LAST-MODIFIED:20190616T142126Z
UID:1159-1560556800-1560729599@frasercoastdistrictbowls.com.au
SUMMARY:FCDBA CH'N OF CH'NS Singles at at Pialba BC
DESCRIPTION:Winner:\nPialba\nAlan Pritchard\nCh’n of Ch’ns Singles Final result 2019
URL:https://frasercoastdistrictbowls.com.au/event-calendar/fcdba-chn-of-chns-singles/
LOCATION:Pialba Bowls Club\, 56 Taylor St\, Pialba\, QLD\, 4655\, Australia
CATEGORIES:FCDBA Event
ATTACH;FMTTYPE=image/jpeg:https://frasercoastdistrictbowls.com.au/wp-content/uploads/2019/03/Singles-Fraser-Coast-Champions-of-Champions.jpg
END:VEVENT
BEGIN:VEVENT
DTSTART;TZID=UTC:20190609T080000
DTEND;TZID=UTC:20190609T170000
DTSTAMP:20260426T135757
CREATED:20190402T170143Z
LAST-MODIFIED:20190402T170143Z
UID:1223-1560067200-1560099600@frasercoastdistrictbowls.com.au
SUMMARY:THE ALBERT President's Day
DESCRIPTION:
URL:https://frasercoastdistrictbowls.com.au/event-calendar/the-albert-presidents-day/
CATEGORIES:Other
END:VEVENT
BEGIN:VEVENT
DTSTART;VALUE=DATE:20190608
DTEND;VALUE=DATE:20190610
DTSTAMP:20260426T135757
CREATED:20190311T222031Z
LAST-MODIFIED:20190506T230623Z
UID:1158-1559952000-1560124799@frasercoastdistrictbowls.com.au
SUMMARY:BURRUM HEADS INVITE MEN'S FOURS
DESCRIPTION:
URL:https://frasercoastdistrictbowls.com.au/event-calendar/burrum-heads-invit-mens-fours/
LOCATION:Burrum Heads Bowls Club\, 189 Burrum Heads Rd\, Burrum Heads\, Queensland\, 4659\, Australia
CATEGORIES:Club Event
END:VEVENT
BEGIN:VEVENT
DTSTART;TZID=UTC:20190601T080000
DTEND;TZID=UTC:20190601T170000
DTSTAMP:20260426T135757
CREATED:20190402T165646Z
LAST-MODIFIED:20190402T165646Z
UID:1222-1559376000-1559408400@frasercoastdistrictbowls.com.au
SUMMARY:MARYBOROUGH MEN’S President/Patron Day
DESCRIPTION:
URL:https://frasercoastdistrictbowls.com.au/event-calendar/maryborough-mens-president-patron-day/
LOCATION:Maryborough Bowls Club\, 506 Kent St\, Maryborough\, QLD\, 4650\, Australia
CATEGORIES:Other
END:VEVENT
BEGIN:VEVENT
DTSTART;VALUE=DATE:20190601
DTEND;VALUE=DATE:20190615
DTSTAMP:20260426T135757
CREATED:20190311T221657Z
LAST-MODIFIED:20190506T230923Z
UID:1157-1559347200-1560556799@frasercoastdistrictbowls.com.au
SUMMARY:AUSTRALIAN OPEN at Gold Coast
DESCRIPTION:  \n\nAfter moving to the sunny Gold Coast in 2015\, the Australian Open has become a true festival of bowls\, with 14 days of action played across the 15 host clubs on the Gold Coast. \nOver 2\,000 bowlers from across Australia\, and indeed the world are expected to attend again\, with entry being completely open to any registered bowler! \nNot only is the Australian Open the World’s Biggest Bowls Festival\, it is also the richest bowls event in the world with a staggering total of over AUD250\,000 prize money across more than 780 prize money placings in the 13 disciplines. \nAustralian Open fast facts: \nA completely open-to-enter event with no qualifying; \nSectional rounds played in each discipline initially\, with qualifiers progressing through to knockouts; Completely random draw – no seedings in either sectional or knockout play; Up to 15 hosts clubs; 14 days of competition; 16 disciplines with a total prize pool of over AUD250\,000; Over 780 prize money places across all disciplines – an increase of over 180 prize money places!; A true festival atmosphere\, with live events and “Mega Bowl” events; Two days of finals filmed. \n\n\nEvent Dates\nThis event occurs annually: \n1 – 14 June 2019\n\n\n\nEvent Venues\n\nBroadbeach Bowls Club\nAddress:\n169 Surf Parade\nBroadbeach\nQueensland\, Australia 4218
URL:https://frasercoastdistrictbowls.com.au/event-calendar/australian-open-bowls-at-gold-coast/
LOCATION:Broadbeach Bowls Club\, 169 Surf Parade Broadbeach\, Gold Coast\, QLD\, QLD4218\, Australia
CATEGORIES:Club Event
END:VEVENT
BEGIN:VEVENT
DTSTART;VALUE=DATE:20190601
DTEND;VALUE=DATE:20190603
DTSTAMP:20260426T135757
CREATED:20190311T221252Z
LAST-MODIFIED:20190617T125632Z
UID:1156-1559347200-1559519999@frasercoastdistrictbowls.com.au
SUMMARY:FCDBA State Qualifying Final Mixed Pairs
DESCRIPTION:Winner:\nBarrum Heads\nBobby Lane and Liz Walton\nState Mixed Pairs Final Result 2019
URL:https://frasercoastdistrictbowls.com.au/event-calendar/fcdba-state-qualifying-final-mixed-pairs/
CATEGORIES:FCDBA Event
ATTACH;FMTTYPE=image/jpeg:https://frasercoastdistrictbowls.com.au/wp-content/uploads/2019/03/Mixed-Pairs-State-Championships-FCDBA.jpg
END:VEVENT
BEGIN:VEVENT
DTSTART;VALUE=DATE:20190525
DTEND;VALUE=DATE:20190527
DTSTAMP:20260426T135757
CREATED:20190311T213912Z
LAST-MODIFIED:20190311T213912Z
UID:1155-1558742400-1558915199@frasercoastdistrictbowls.com.au
SUMMARY:HERVEY BAY CLASSIC PAIRS at Hervey Bay Bowls Club
DESCRIPTION:
URL:https://frasercoastdistrictbowls.com.au/event-calendar/hervey-bay-classic-pairs-at-hervey-bay/
LOCATION:Hervey Bay Bowls Club
CATEGORIES:Club Event
END:VEVENT
BEGIN:VEVENT
DTSTART;VALUE=DATE:20190522
DTEND;VALUE=DATE:20190523
DTSTAMP:20260426T135757
CREATED:20190311T213638Z
LAST-MODIFIED:20190311T213638Z
UID:1154-1558483200-1558569599@frasercoastdistrictbowls.com.au
SUMMARY:FCDBA Delegates Meeting at Boonooroo
DESCRIPTION:
URL:https://frasercoastdistrictbowls.com.au/event-calendar/fcdba-delegates-meeting-at-boonooroo/
CATEGORIES:Other
END:VEVENT
BEGIN:VEVENT
DTSTART;TZID=UTC:20190518T080000
DTEND;TZID=UTC:20190519T170000
DTSTAMP:20260426T135757
CREATED:20190506T183947Z
LAST-MODIFIED:20190506T183947Z
UID:1241-1558166400-1558285200@frasercoastdistrictbowls.com.au
SUMMARY:COOROORA TRIPLES at Pomona
DESCRIPTION:
URL:https://frasercoastdistrictbowls.com.au/event-calendar/cooroora-triples-at-pomona/
LOCATION:Pomona Bowls Club\, 4-6 School St\, Pomona\, QLD\, 4568\, Australia
CATEGORIES:Club Event
END:VEVENT
BEGIN:VEVENT
DTSTART;VALUE=DATE:20190518
DTEND;VALUE=DATE:20190520
DTSTAMP:20260426T135757
CREATED:20190311T211958Z
LAST-MODIFIED:20190311T211958Z
UID:1152-1558137600-1558310399@frasercoastdistrictbowls.com.au
SUMMARY:PIALBA MIXED FOURS 2 Day Carnival
DESCRIPTION:
URL:https://frasercoastdistrictbowls.com.au/event-calendar/pialba-mixed-fours-2-day-carnival/
LOCATION:Pialba Bowls Club\, 56 Taylor St\, Pialba\, QLD\, 4655\, Australia
CATEGORIES:Other
END:VEVENT
BEGIN:VEVENT
DTSTART;VALUE=DATE:20190513
DTEND;VALUE=DATE:20190527
DTSTAMP:20260426T135757
CREATED:20190311T212445Z
LAST-MODIFIED:20190311T212445Z
UID:1153-1557705600-1558915199@frasercoastdistrictbowls.com.au
SUMMARY:BOWLS QUEENSLAND STATE CHAMPIONSHIPS at Gold Coast
DESCRIPTION:
URL:https://frasercoastdistrictbowls.com.au/event-calendar/bowls-queensland-state-championships-at-gold-coast/
CATEGORIES:Other
END:VEVENT
BEGIN:VEVENT
DTSTART;TZID=UTC:20190512T080000
DTEND;TZID=UTC:20190512T170000
DTSTAMP:20260426T135757
CREATED:20190506T204338Z
LAST-MODIFIED:20190506T204338Z
UID:1249-1557648000-1557680400@frasercoastdistrictbowls.com.au
SUMMARY:Travel Home Day: DISTRICT SIDES CHAMPIONSHIPS at Gold Coast
DESCRIPTION:
URL:https://frasercoastdistrictbowls.com.au/event-calendar/travel-home-day-district-sides-championships-at-gold-coast/
CATEGORIES:Other
END:VEVENT
BEGIN:VEVENT
DTSTART;VALUE=DATE:20190511
DTEND;VALUE=DATE:20190513
DTSTAMP:20260426T135757
CREATED:20190311T211345Z
LAST-MODIFIED:20190311T211345Z
UID:1151-1557532800-1557705599@frasercoastdistrictbowls.com.au
SUMMARY:DODT CUP at The Albert Bowls Club
DESCRIPTION:
URL:https://frasercoastdistrictbowls.com.au/event-calendar/dodt-cup/
LOCATION:The Albert Bowls Club Gympie\, River Rd\, Gympie\, QLD\, QLD 4570\, Australia
CATEGORIES:Club Event
END:VEVENT
BEGIN:VEVENT
DTSTART;TZID=UTC:20190508T070000
DTEND;TZID=UTC:20190511T170000
DTSTAMP:20260426T135757
CREATED:20190311T203820Z
LAST-MODIFIED:20190311T203820Z
UID:1150-1557298800-1557594000@frasercoastdistrictbowls.com.au
SUMMARY:DISTRICT SIDES CHAMPIONSHIPS at Gold Coast
DESCRIPTION:
URL:https://frasercoastdistrictbowls.com.au/event-calendar/district-sides-championships-at-gold-coast-2/
CATEGORIES:Other
END:VEVENT
BEGIN:VEVENT
DTSTART;VALUE=DATE:20190507
DTEND;VALUE=DATE:20190508
DTSTAMP:20260426T135757
CREATED:20190311T203715Z
LAST-MODIFIED:20190311T203715Z
UID:1149-1557187200-1557273599@frasercoastdistrictbowls.com.au
SUMMARY:Travel Day: DISTRICT SIDES CHAMPIONSHIPS at Gold Coast
DESCRIPTION:TRAVEL DAY
URL:https://frasercoastdistrictbowls.com.au/event-calendar/district-sides-championships-at-gold-coast/
CATEGORIES:Other
END:VEVENT
BEGIN:VEVENT
DTSTART;VALUE=DATE:20190504
DTEND;VALUE=DATE:20190506
DTSTAMP:20260426T135757
CREATED:20190311T203048Z
LAST-MODIFIED:20190311T203048Z
UID:1148-1556928000-1557100799@frasercoastdistrictbowls.com.au
SUMMARY:Maryborough 2 Day Fours Carnival
DESCRIPTION:
URL:https://frasercoastdistrictbowls.com.au/event-calendar/maryborough-2-day-fours-carnival/
LOCATION:Maryborough Bowls Club\, 506 Kent St\, Maryborough\, QLD\, 4650\, Australia
CATEGORIES:Club Event
END:VEVENT
BEGIN:VEVENT
DTSTART;TZID=UTC:20190501T080000
DTEND;TZID=UTC:20190501T170000
DTSTAMP:20260426T135757
CREATED:20190506T203917Z
LAST-MODIFIED:20190506T203917Z
UID:1248-1556697600-1556730000@frasercoastdistrictbowls.com.au
SUMMARY:FCDBA Delegates Meeting at Boonooroo
DESCRIPTION:
URL:https://frasercoastdistrictbowls.com.au/event-calendar/fcdba-delegates-meeting-at-boonooroo-3/
LOCATION:Boonooroo Bowls Club\, 125 Eckert Rd\, Boonooroo\, Queensland\, 4650\, Australia
CATEGORIES:Other
END:VEVENT
BEGIN:VEVENT
DTSTART;TZID=UTC:20190428T080000
DTEND;TZID=UTC:20190428T170000
DTSTAMP:20260426T135757
CREATED:20190402T163523Z
LAST-MODIFIED:20190402T163523Z
UID:1221-1556438400-1556470800@frasercoastdistrictbowls.com.au
SUMMARY:GYMPIE OPEN MIXED Carnival Day
DESCRIPTION:
URL:https://frasercoastdistrictbowls.com.au/event-calendar/gympie-open-mixed-carnival-day/
CATEGORIES:Other
END:VEVENT
BEGIN:VEVENT
DTSTART;VALUE=DATE:20190427
DTEND;VALUE=DATE:20190502
DTSTAMP:20260426T135757
CREATED:20190311T202843Z
LAST-MODIFIED:20190311T202843Z
UID:1147-1556323200-1556755199@frasercoastdistrictbowls.com.au
SUMMARY:QLD STATE ARM BOWLER CHAMPIONSHIPS at
DESCRIPTION:
URL:https://frasercoastdistrictbowls.com.au/event-calendar/qld-state-arm-bowler-championships/
CATEGORIES:Other
END:VEVENT
BEGIN:VEVENT
DTSTART;TZID=UTC:20190425T080000
DTEND;TZID=UTC:20190425T170000
DTSTAMP:20260426T135757
CREATED:20190506T203741Z
LAST-MODIFIED:20190506T203741Z
UID:1247-1556179200-1556211600@frasercoastdistrictbowls.com.au
SUMMARY:Anzac Day
DESCRIPTION:
URL:https://frasercoastdistrictbowls.com.au/event-calendar/anzac-day/
CATEGORIES:Other
END:VEVENT
BEGIN:VEVENT
DTSTART;VALUE=DATE:20190420
DTEND;VALUE=DATE:20190422
DTSTAMP:20260426T135757
CREATED:20190311T202504Z
LAST-MODIFIED:20190311T202504Z
UID:1146-1555718400-1555891199@frasercoastdistrictbowls.com.au
SUMMARY:KENILWORTH EASTER Carnival
DESCRIPTION:
URL:https://frasercoastdistrictbowls.com.au/event-calendar/kenilworth-easter-carnival/
CATEGORIES:Club Event
END:VEVENT
BEGIN:VEVENT
DTSTART;VALUE=DATE:20190420
DTEND;VALUE=DATE:20190422
DTSTAMP:20260426T135757
CREATED:20190311T202312Z
LAST-MODIFIED:20190311T202312Z
UID:1145-1555718400-1555891199@frasercoastdistrictbowls.com.au
SUMMARY:Urangan Easter Mixed 4's Carnival
DESCRIPTION:
URL:https://frasercoastdistrictbowls.com.au/event-calendar/urangan-easter-mixed-4s-carnival/
CATEGORIES:Club Event
END:VEVENT
BEGIN:VEVENT
DTSTART;VALUE=DATE:20190417
DTEND;VALUE=DATE:20190418
DTSTAMP:20260426T135757
CREATED:20190311T202125Z
LAST-MODIFIED:20190311T202125Z
UID:1144-1555459200-1555545599@frasercoastdistrictbowls.com.au
SUMMARY:Entries Close 2019 QLD Indoor Championships
DESCRIPTION:
URL:https://frasercoastdistrictbowls.com.au/event-calendar/entries-close-2019-qld-indoor-championships/
CATEGORIES:Other
END:VEVENT
BEGIN:VEVENT
DTSTART;VALUE=DATE:20190413
DTEND;VALUE=DATE:20190415
DTSTAMP:20260426T135757
CREATED:20190311T201535Z
LAST-MODIFIED:20190311T201535Z
UID:1143-1555113600-1555286399@frasercoastdistrictbowls.com.au
SUMMARY:MIDDLESBORO SERVICES 2 Day Carnival
DESCRIPTION:
URL:https://frasercoastdistrictbowls.com.au/event-calendar/middlesboro-services-2-day-carnival/
CATEGORIES:Club Event
END:VEVENT
END:VCALENDAR