BEGIN:VCALENDAR
VERSION:2.0
PRODID:-//Fraser Coast District Bowls Association - ECPv6.11.2.1//NONSGML v1.0//EN
CALSCALE:GREGORIAN
METHOD:PUBLISH
X-WR-CALNAME:Fraser Coast District Bowls Association
X-ORIGINAL-URL:https://frasercoastdistrictbowls.com.au
X-WR-CALDESC:Events for Fraser Coast District Bowls Association
REFRESH-INTERVAL;VALUE=DURATION:PT1H
X-Robots-Tag:noindex
X-PUBLISHED-TTL:PT1H
BEGIN:VTIMEZONE
TZID:UTC
BEGIN:STANDARD
TZOFFSETFROM:+0000
TZOFFSETTO:+0000
TZNAME:UTC
DTSTART:20190101T000000
END:STANDARD
END:VTIMEZONE
BEGIN:VEVENT
DTSTART;TZID=UTC:20190908T080000
DTEND;TZID=UTC:20190908T170000
DTSTAMP:20260426T110138
CREATED:20190402T175530Z
LAST-MODIFIED:20190402T175530Z
UID:1227-1567929600-1567962000@frasercoastdistrictbowls.com.au
SUMMARY:GYMPIE MEN'S President's Day
DESCRIPTION:
URL:https://frasercoastdistrictbowls.com.au/event-calendar/gympie-mens-presidents-day/
CATEGORIES:FCDBA Event
END:VEVENT
BEGIN:VEVENT
DTSTART;TZID=UTC:20190907T130000
DTEND;TZID=UTC:20190907T170000
DTSTAMP:20260426T110138
CREATED:20190312T173554Z
LAST-MODIFIED:20190312T173554Z
UID:1173-1567861200-1567875600@frasercoastdistrictbowls.com.au
SUMMARY:PENNANT DAY Div 1 District Finals\, Div 2&3 North Finals\, Div 2&3 South Finals
DESCRIPTION:
URL:https://frasercoastdistrictbowls.com.au/event-calendar/pennant-day-round-9/
CATEGORIES:FCDBA Event
END:VEVENT
BEGIN:VEVENT
DTSTART;VALUE=DATE:20190831
DTEND;VALUE=DATE:20190901
DTSTAMP:20260426T110138
CREATED:20190312T173503Z
LAST-MODIFIED:20190312T173503Z
UID:1172-1567209600-1567295999@frasercoastdistrictbowls.com.au
SUMMARY:PENNANT DAY Spare Day For Inclement Weather
DESCRIPTION:
URL:https://frasercoastdistrictbowls.com.au/event-calendar/pennant-day-round-8/
CATEGORIES:FCDBA Event
END:VEVENT
BEGIN:VEVENT
DTSTART;VALUE=DATE:20190826
DTEND;VALUE=DATE:20190830
DTSTAMP:20260426T110138
CREATED:20190313T193937Z
LAST-MODIFIED:20190313T193937Z
UID:1213-1566777600-1567123199@frasercoastdistrictbowls.com.au
SUMMARY:AUSTRALIAN INDOOR Championships at Tweed Heads Bowls Club
DESCRIPTION:
URL:https://frasercoastdistrictbowls.com.au/event-calendar/australian-indoor-championships-at-tweed-heads-bowls-club/
CATEGORIES:Other
END:VEVENT
BEGIN:VEVENT
DTSTART;VALUE=DATE:20190825
DTEND;VALUE=DATE:20190826
DTSTAMP:20260426T110138
CREATED:20190313T193423Z
LAST-MODIFIED:20190313T193423Z
UID:1211-1566691200-1566777599@frasercoastdistrictbowls.com.au
SUMMARY:ZONE 5 MENS FOURS CH'N OF CH'NS at Fraser Coast District Bowls
DESCRIPTION:
URL:https://frasercoastdistrictbowls.com.au/event-calendar/zone-5-mens-fours-chn-of-chns/
CATEGORIES:FCDBA Event
END:VEVENT
BEGIN:VEVENT
DTSTART;TZID=UTC:20190824T130000
DTEND;TZID=UTC:20190824T170000
DTSTAMP:20260426T110138
CREATED:20190312T173412Z
LAST-MODIFIED:20190312T173412Z
UID:1171-1566651600-1566666000@frasercoastdistrictbowls.com.au
SUMMARY:PENNANT DAY Round 7 North & South Zone
DESCRIPTION:
URL:https://frasercoastdistrictbowls.com.au/event-calendar/pennant-day-round-7/
CATEGORIES:FCDBA Event
END:VEVENT
BEGIN:VEVENT
DTSTART;VALUE=DATE:20190818
DTEND;VALUE=DATE:20190819
DTSTAMP:20260426T110138
CREATED:20190313T193710Z
LAST-MODIFIED:20190313T193710Z
UID:1212-1566086400-1566172799@frasercoastdistrictbowls.com.au
SUMMARY:ZONE 5 MENS PAIRS CH'N OF CH'NS at Fraser Coast District Bowls
DESCRIPTION:
URL:https://frasercoastdistrictbowls.com.au/event-calendar/zone-5-mens-pairs-chn-of-chns-at-fraser-coast-district-bowls/
CATEGORIES:FCDBA Event
END:VEVENT
BEGIN:VEVENT
DTSTART;TZID=UTC:20190817T130000
DTEND;TZID=UTC:20190817T170000
DTSTAMP:20260426T110138
CREATED:20190312T173224Z
LAST-MODIFIED:20190818T152206Z
UID:1170-1566046800-1566061200@frasercoastdistrictbowls.com.au
SUMMARY:PENNANT DAY Round 6 North Zone Only
DESCRIPTION:Pennants Week 6 Results Draw
URL:https://frasercoastdistrictbowls.com.au/event-calendar/pennant-day-round-6/
CATEGORIES:FCDBA Event
END:VEVENT
BEGIN:VEVENT
DTSTART;VALUE=DATE:20190816
DTEND;VALUE=DATE:20190819
DTSTAMP:20260426T110138
CREATED:20190313T193041Z
LAST-MODIFIED:20190313T193041Z
UID:1208-1565913600-1566172799@frasercoastdistrictbowls.com.au
SUMMARY:COOLOOLA OPEN Winter Carnival
DESCRIPTION:
URL:https://frasercoastdistrictbowls.com.au/event-calendar/cooloola-open-winter-carnival/
CATEGORIES:Other
END:VEVENT
BEGIN:VEVENT
DTSTART;VALUE=DATE:20190811
DTEND;VALUE=DATE:20190812
DTSTAMP:20260426T110138
CREATED:20190313T193327Z
LAST-MODIFIED:20190313T193327Z
UID:1210-1565481600-1565567999@frasercoastdistrictbowls.com.au
SUMMARY:ZONE 5 MENS SINGLES CH'N OF CH'NS at Fraser Coast District Bowls
DESCRIPTION:
URL:https://frasercoastdistrictbowls.com.au/event-calendar/zone-5-mens-singles-chn-of-chns/
CATEGORIES:FCDBA Event
END:VEVENT
BEGIN:VEVENT
DTSTART;TZID=UTC:20190810T130000
DTEND;TZID=UTC:20190810T170000
DTSTAMP:20260426T110138
CREATED:20190312T172719Z
LAST-MODIFIED:20190811T143504Z
UID:1169-1565442000-1565456400@frasercoastdistrictbowls.com.au
SUMMARY:PENNANT DAY Round 5 North & South Zone
DESCRIPTION:Pennants Week 5 Results Draw
URL:https://frasercoastdistrictbowls.com.au/event-calendar/pennant-day-round-5/
CATEGORIES:FCDBA Event
END:VEVENT
BEGIN:VEVENT
DTSTART;TZID=UTC:20190807T080000
DTEND;TZID=UTC:20190807T170000
DTSTAMP:20260426T110138
CREATED:20190402T174443Z
LAST-MODIFIED:20190402T174443Z
UID:1226-1565164800-1565197200@frasercoastdistrictbowls.com.au
SUMMARY:FCDBA DELEGATES MEETING at Boonooroo QLD
DESCRIPTION:
URL:https://frasercoastdistrictbowls.com.au/event-calendar/fcdba-delegates-meeting-at-boonooroo-qld/
CATEGORIES:Other
END:VEVENT
BEGIN:VEVENT
DTSTART;VALUE=DATE:20190804
DTEND;VALUE=DATE:20190805
DTSTAMP:20260426T110138
CREATED:20190313T193205Z
LAST-MODIFIED:20190313T193205Z
UID:1209-1564876800-1564963199@frasercoastdistrictbowls.com.au
SUMMARY:ZONE 5 MIXED PAIRS CH'N OF CH'NS at Fraser Coast District Bowls
DESCRIPTION:
URL:https://frasercoastdistrictbowls.com.au/event-calendar/zone-5-mixed-pairs-chn-of-chns/
CATEGORIES:FCDBA Event
END:VEVENT
BEGIN:VEVENT
DTSTART;VALUE=DATE:20190803
DTEND;VALUE=DATE:20190804
DTSTAMP:20260426T110138
CREATED:20190312T171735Z
LAST-MODIFIED:20190805T024249Z
UID:1166-1564790400-1564876799@frasercoastdistrictbowls.com.au
SUMMARY:PENNANT DAY Round 4 North & South Zone
DESCRIPTION:Pennants Week 4 Results Draw
URL:https://frasercoastdistrictbowls.com.au/event-calendar/pennant-day-round-4/
CATEGORIES:FCDBA Event
END:VEVENT
BEGIN:VEVENT
DTSTART;VALUE=DATE:20190727
DTEND;VALUE=DATE:20190729
DTSTAMP:20260426T110138
CREATED:20190312T172535Z
LAST-MODIFIED:20190312T172535Z
UID:1168-1564185600-1564358399@frasercoastdistrictbowls.com.au
SUMMARY:KING OF THE MOUNTAIN MASTERS at The Pomona King of the Mountain Festival
DESCRIPTION:
URL:https://frasercoastdistrictbowls.com.au/event-calendar/king-of-the-mountain-masters-at-the-pomona-king-of-the-mountain-festival/
LOCATION:Pomona Bowls Club\, 4-6 School St\, Pomona\, QLD\, 4568\, Australia
CATEGORIES:Club Event
END:VEVENT
BEGIN:VEVENT
DTSTART;VALUE=DATE:20190727
DTEND;VALUE=DATE:20190728
DTSTAMP:20260426T110138
CREATED:20190312T171705Z
LAST-MODIFIED:20190805T024219Z
UID:1165-1564185600-1564271999@frasercoastdistrictbowls.com.au
SUMMARY:PENNANT DAY Round 3 North Zone Only
DESCRIPTION:Pennants Week 3 Results Draw
URL:https://frasercoastdistrictbowls.com.au/event-calendar/pennant-day-round-3/
CATEGORIES:FCDBA Event
END:VEVENT
BEGIN:VEVENT
DTSTART;VALUE=DATE:20190720
DTEND;VALUE=DATE:20190721
DTSTAMP:20260426T110138
CREATED:20190312T171634Z
LAST-MODIFIED:20190728T164618Z
UID:1164-1563580800-1563667199@frasercoastdistrictbowls.com.au
SUMMARY:PENNANT DAY Round 2 North & South Zone
DESCRIPTION:Pennants Week 2 Result Draw
URL:https://frasercoastdistrictbowls.com.au/event-calendar/pennant-day-round-2/
CATEGORIES:FCDBA Event
END:VEVENT
BEGIN:VEVENT
DTSTART;VALUE=DATE:20190713
DTEND;VALUE=DATE:20190714
DTSTAMP:20260426T110138
CREATED:20190312T171536Z
LAST-MODIFIED:20190728T164251Z
UID:1163-1562976000-1563062399@frasercoastdistrictbowls.com.au
SUMMARY:PENNANT DAY Round 1 North & South Zone
DESCRIPTION:Pennants Week 1 Results Draw
URL:https://frasercoastdistrictbowls.com.au/event-calendar/pennant-day-round-1/
CATEGORIES:FCDBA Event
END:VEVENT
BEGIN:VEVENT
DTSTART;VALUE=DATE:20190706
DTEND;VALUE=DATE:20190708
DTSTAMP:20260426T110138
CREATED:20190506T171740Z
LAST-MODIFIED:20190506T171740Z
UID:1239-1562371200-1562543999@frasercoastdistrictbowls.com.au
SUMMARY:MONTO Carnival
DESCRIPTION:
URL:https://frasercoastdistrictbowls.com.au/event-calendar/monto-carnival/
CATEGORIES:Other
END:VEVENT
BEGIN:VEVENT
DTSTART;VALUE=DATE:20190706
DTEND;VALUE=DATE:20190708
DTSTAMP:20260426T110138
CREATED:20190312T172204Z
LAST-MODIFIED:20190312T172204Z
UID:1167-1562371200-1562543999@frasercoastdistrictbowls.com.au
SUMMARY:QUEENSLAND INDOOR Qualifying Rounds for Men
DESCRIPTION:
URL:https://frasercoastdistrictbowls.com.au/event-calendar/queensland-indoor-qualifying-rounds-for-men/
CATEGORIES:Other
END:VEVENT
BEGIN:VEVENT
DTSTART;TZID=UTC:20190630T080000
DTEND;TZID=UTC:20190630T170000
DTSTAMP:20260426T110138
CREATED:20190506T171044Z
LAST-MODIFIED:20190702T204344Z
UID:1238-1561881600-1561914000@frasercoastdistrictbowls.com.au
SUMMARY:FCDBA CH'N OF CH'NS Mens Fours at Maryborough
DESCRIPTION:Winner:\nThe Albert\nKosta Ladas\, Steve Mandaloff\, Brad Mitchell & Peter Worth (s)\nCh’n of Ch’ns Mens Fours Final Results 2019
URL:https://frasercoastdistrictbowls.com.au/event-calendar/fcdba-chn-of-chns-mens-fours-at-maryborough/
CATEGORIES:Club Event
ATTACH;FMTTYPE=image/jpeg:https://frasercoastdistrictbowls.com.au/wp-content/uploads/2019/05/albert4s-e1562136207334.jpg
END:VEVENT
BEGIN:VEVENT
DTSTART;TZID=UTC:20190629T080000
DTEND;TZID=UTC:20190629T170000
DTSTAMP:20260426T110138
CREATED:20190402T171744Z
LAST-MODIFIED:20190402T171744Z
UID:1225-1561795200-1561827600@frasercoastdistrictbowls.com.au
SUMMARY:HERVEY BAY Presidents & Patrons Day
DESCRIPTION:
URL:https://frasercoastdistrictbowls.com.au/event-calendar/hervey-bay-presidents-patrons-day-2/
CATEGORIES:Other
END:VEVENT
BEGIN:VEVENT
DTSTART;VALUE=DATE:20190629
DTEND;VALUE=DATE:20190630
DTSTAMP:20260426T110138
CREATED:20190311T222617Z
LAST-MODIFIED:20190709T000907Z
UID:1161-1561766400-1561852799@frasercoastdistrictbowls.com.au
SUMMARY:FCDBA CH'N OF CH'NS Mens Fours at TBA
DESCRIPTION:Winner:\nThe Albert\nKosta Ladas\, Steve Mandaloff\, Brad Mitchell & Peter Worth (s)\nCh’n of Ch’ns Mens Fours Final Results 2019
URL:https://frasercoastdistrictbowls.com.au/event-calendar/fcdba-chn-of-chns-mens-fours/
CATEGORIES:FCDBA Event
ATTACH;FMTTYPE=image/jpeg:https://frasercoastdistrictbowls.com.au/wp-content/uploads/2019/05/albert4s-e1562136207334.jpg
END:VEVENT
BEGIN:VEVENT
DTSTART;VALUE=DATE:20190622
DTEND;VALUE=DATE:20190624
DTSTAMP:20260426T110138
CREATED:20190311T222541Z
LAST-MODIFIED:20190702T204806Z
UID:1160-1561161600-1561334399@frasercoastdistrictbowls.com.au
SUMMARY:FCDBA CH'N OF CH'NS Mens Pairs at Gympie BC
DESCRIPTION:Winner:\nPialba\nD. Pritchard & B. Kunde\nCh’n of Ch’ns Pairs Final Results 2019
URL:https://frasercoastdistrictbowls.com.au/event-calendar/fcdba-chn-of-chns-mens-pairs/
LOCATION:Gympie Bowls Club\, 16 Bowlers Dr\, Southside\, QLD\, 4570\, Australia
CATEGORIES:FCDBA Event
ATTACH;FMTTYPE=image/jpeg:https://frasercoastdistrictbowls.com.au/wp-content/uploads/2019/03/Pialba-pairs.jpg
END:VEVENT
BEGIN:VEVENT
DTSTART;VALUE=DATE:20190621
DTEND;VALUE=DATE:20190624
DTSTAMP:20260426T110138
CREATED:20190311T224343Z
LAST-MODIFIED:20190311T224343Z
UID:1162-1561075200-1561334399@frasercoastdistrictbowls.com.au
SUMMARY:MOOLOOLABA Top Draw
DESCRIPTION:
URL:https://frasercoastdistrictbowls.com.au/event-calendar/mooloolaba-invitation/
LOCATION:Club Mooloolaba\, Brisbane Rd & Kapala St\, Brisbane\, QLD\, QLD 4557\, Australia
CATEGORIES:Club Event
END:VEVENT
BEGIN:VEVENT
DTSTART;TZID=UTC:20190615T080000
DTEND;TZID=UTC:20190615T170000
DTSTAMP:20260426T110138
CREATED:20190402T171424Z
LAST-MODIFIED:20190402T171424Z
UID:1224-1560585600-1560618000@frasercoastdistrictbowls.com.au
SUMMARY:BURGOWAN President & Patrons Day
DESCRIPTION:
URL:https://frasercoastdistrictbowls.com.au/event-calendar/burgowan-president-patrons-day/
CATEGORIES:Other
END:VEVENT
BEGIN:VEVENT
DTSTART;VALUE=DATE:20190615
DTEND;VALUE=DATE:20190617
DTSTAMP:20260426T110138
CREATED:20190311T222452Z
LAST-MODIFIED:20190616T142126Z
UID:1159-1560556800-1560729599@frasercoastdistrictbowls.com.au
SUMMARY:FCDBA CH'N OF CH'NS Singles at at Pialba BC
DESCRIPTION:Winner:\nPialba\nAlan Pritchard\nCh’n of Ch’ns Singles Final result 2019
URL:https://frasercoastdistrictbowls.com.au/event-calendar/fcdba-chn-of-chns-singles/
LOCATION:Pialba Bowls Club\, 56 Taylor St\, Pialba\, QLD\, 4655\, Australia
CATEGORIES:FCDBA Event
ATTACH;FMTTYPE=image/jpeg:https://frasercoastdistrictbowls.com.au/wp-content/uploads/2019/03/Singles-Fraser-Coast-Champions-of-Champions.jpg
END:VEVENT
BEGIN:VEVENT
DTSTART;TZID=UTC:20190609T080000
DTEND;TZID=UTC:20190609T170000
DTSTAMP:20260426T110138
CREATED:20190402T170143Z
LAST-MODIFIED:20190402T170143Z
UID:1223-1560067200-1560099600@frasercoastdistrictbowls.com.au
SUMMARY:THE ALBERT President's Day
DESCRIPTION:
URL:https://frasercoastdistrictbowls.com.au/event-calendar/the-albert-presidents-day/
CATEGORIES:Other
END:VEVENT
BEGIN:VEVENT
DTSTART;VALUE=DATE:20190608
DTEND;VALUE=DATE:20190610
DTSTAMP:20260426T110138
CREATED:20190311T222031Z
LAST-MODIFIED:20190506T230623Z
UID:1158-1559952000-1560124799@frasercoastdistrictbowls.com.au
SUMMARY:BURRUM HEADS INVITE MEN'S FOURS
DESCRIPTION:
URL:https://frasercoastdistrictbowls.com.au/event-calendar/burrum-heads-invit-mens-fours/
LOCATION:Burrum Heads Bowls Club\, 189 Burrum Heads Rd\, Burrum Heads\, Queensland\, 4659\, Australia
CATEGORIES:Club Event
END:VEVENT
BEGIN:VEVENT
DTSTART;TZID=UTC:20190601T080000
DTEND;TZID=UTC:20190601T170000
DTSTAMP:20260426T110138
CREATED:20190402T165646Z
LAST-MODIFIED:20190402T165646Z
UID:1222-1559376000-1559408400@frasercoastdistrictbowls.com.au
SUMMARY:MARYBOROUGH MEN’S President/Patron Day
DESCRIPTION:
URL:https://frasercoastdistrictbowls.com.au/event-calendar/maryborough-mens-president-patron-day/
LOCATION:Maryborough Bowls Club\, 506 Kent St\, Maryborough\, QLD\, 4650\, Australia
CATEGORIES:Other
END:VEVENT
END:VCALENDAR