BEGIN:VCALENDAR
VERSION:2.0
PRODID:-//Fraser Coast District Bowls Association - ECPv6.11.2.1//NONSGML v1.0//EN
CALSCALE:GREGORIAN
METHOD:PUBLISH
X-WR-CALNAME:Fraser Coast District Bowls Association
X-ORIGINAL-URL:https://frasercoastdistrictbowls.com.au
X-WR-CALDESC:Events for Fraser Coast District Bowls Association
REFRESH-INTERVAL;VALUE=DURATION:PT1H
X-Robots-Tag:noindex
X-PUBLISHED-TTL:PT1H
BEGIN:VTIMEZONE
TZID:UTC
BEGIN:STANDARD
TZOFFSETFROM:+0000
TZOFFSETTO:+0000
TZNAME:UTC
DTSTART:20190101T000000
END:STANDARD
END:VTIMEZONE
BEGIN:VTIMEZONE
TZID:Australia/Brisbane
BEGIN:STANDARD
TZOFFSETFROM:+1000
TZOFFSETTO:+1000
TZNAME:AEST
DTSTART:20200101T000000
END:STANDARD
END:VTIMEZONE
BEGIN:VEVENT
DTSTART;TZID=UTC:20200315T093000
DTEND;TZID=UTC:20200315T093000
DTSTAMP:20260426T020843
CREATED:20200303T193509Z
LAST-MODIFIED:20200303T193509Z
UID:1466-1584264600-1584264600@frasercoastdistrictbowls.com.au
SUMMARY:Inter District Match FCDBA v Burnett at Burnett Dist 9.30am Start
DESCRIPTION:
URL:https://frasercoastdistrictbowls.com.au/event-calendar/inter-district-match-fcdba-v-burnett-at-burnett-dist-9-30am-start/
LOCATION:Queensland
END:VEVENT
BEGIN:VEVENT
DTSTART;TZID=UTC:20200308T080000
DTEND;TZID=UTC:20200308T170000
DTSTAMP:20260426T020843
CREATED:20200303T193312Z
LAST-MODIFIED:20200303T193312Z
UID:1464-1583654400-1583686800@frasercoastdistrictbowls.com.au
SUMMARY:Kilkivan $1000 Open Monthly Fours
DESCRIPTION:
URL:https://frasercoastdistrictbowls.com.au/event-calendar/kilkivan-1000-open-monthly-fours/
LOCATION:Kilkivan Bowls Club\, Crescent St\, Kilkivan\, QLD\, 4600\, Australia
END:VEVENT
BEGIN:VEVENT
DTSTART;VALUE=DATE:20200301
DTEND;VALUE=DATE:20200302
DTSTAMP:20260426T020843
CREATED:20200303T192854Z
LAST-MODIFIED:20200303T193126Z
UID:1459-1583020800-1583107199@frasercoastdistrictbowls.com.au
SUMMARY:Kandanga Pig Day Men's Fours
DESCRIPTION:
URL:https://frasercoastdistrictbowls.com.au/event-calendar/kandanga-pig-day/
LOCATION:Kandanga Bowls Club\, 4 Bowling Club Rd\, Kandanga\, QLD\, 4570\, Australia
END:VEVENT
BEGIN:VEVENT
DTSTART;TZID=Australia/Brisbane:20200223T110000
DTEND;TZID=Australia/Brisbane:20200223T170000
DTSTAMP:20260426T020843
CREATED:20200308T015052Z
LAST-MODIFIED:20200308T015052Z
UID:1710-1582455600-1582477200@frasercoastdistrictbowls.com.au
SUMMARY:FCDBA District Sides Trials
DESCRIPTION:24 PLAYERS at MSM
URL:https://frasercoastdistrictbowls.com.au/event-calendar/fcdba-district-sides-trials/
LOCATION:Queensland
CATEGORIES:FCDBA Event
END:VEVENT
BEGIN:VEVENT
DTSTART;TZID=Australia/Brisbane:20200209T080000
DTEND;TZID=Australia/Brisbane:20200209T170000
DTSTAMP:20260426T020843
CREATED:20200308T014720Z
LAST-MODIFIED:20200308T014720Z
UID:1708-1581235200-1581267600@frasercoastdistrictbowls.com.au
SUMMARY:Kilkivan $1000
DESCRIPTION:Open Monthly Fours
URL:https://frasercoastdistrictbowls.com.au/event-calendar/kilkivan-1000-2/
LOCATION:Queensland
CATEGORIES:Other
END:VEVENT
BEGIN:VEVENT
DTSTART;TZID=Australia/Brisbane:20200205T080000
DTEND;TZID=Australia/Brisbane:20200205T170000
DTSTAMP:20260426T020843
CREATED:20200308T014605Z
LAST-MODIFIED:20200308T014605Z
UID:1706-1580889600-1580922000@frasercoastdistrictbowls.com.au
SUMMARY:FCDBA Delegates Meeting
DESCRIPTION:
URL:https://frasercoastdistrictbowls.com.au/event-calendar/fcdba-delegates-meeting/
LOCATION:Boonooroo Bowls Club\, 125 Eckert Rd\, Boonooroo\, Queensland\, 4650\, Australia
CATEGORIES:FCDBA Event
END:VEVENT
BEGIN:VEVENT
DTSTART;TZID=Australia/Brisbane:20200202T090000
DTEND;TZID=Australia/Brisbane:20200202T170000
DTSTAMP:20260426T020843
CREATED:20200308T014303Z
LAST-MODIFIED:20200308T033141Z
UID:1704-1580634000-1580662800@frasercoastdistrictbowls.com.au
SUMMARY:District Nth vs Sth Challenge
DESCRIPTION:32 PLAYERS\nClubs Phone Email Addresses 2020
URL:https://frasercoastdistrictbowls.com.au/event-calendar/district-nth-vs-sth-challenge/
LOCATION:Queensland
CATEGORIES:Other
END:VEVENT
BEGIN:VEVENT
DTSTART;TZID=Australia/Brisbane:20200126T080000
DTEND;TZID=Australia/Brisbane:20200126T170000
DTSTAMP:20260426T020843
CREATED:20200308T014057Z
LAST-MODIFIED:20200308T014057Z
UID:1702-1580025600-1580058000@frasercoastdistrictbowls.com.au
SUMMARY:Australia Day
DESCRIPTION:
URL:https://frasercoastdistrictbowls.com.au/event-calendar/australia-day-2/
LOCATION:Queensland
CATEGORIES:Other
END:VEVENT
BEGIN:VEVENT
DTSTART;TZID=Australia/Brisbane:20200125T080000
DTEND;TZID=Australia/Brisbane:20200125T170000
DTSTAMP:20260426T020843
CREATED:20200308T014030Z
LAST-MODIFIED:20200308T014030Z
UID:1700-1579939200-1579971600@frasercoastdistrictbowls.com.au
SUMMARY:Chinese New Year
DESCRIPTION:
URL:https://frasercoastdistrictbowls.com.au/event-calendar/chinese-new-year/
LOCATION:Queensland
CATEGORIES:Other
END:VEVENT
BEGIN:VEVENT
DTSTART;TZID=Australia/Brisbane:20200119T080000
DTEND;TZID=Australia/Brisbane:20200124T170000
DTSTAMP:20260426T020843
CREATED:20200308T013840Z
LAST-MODIFIED:20200308T013840Z
UID:1698-1579420800-1579885200@frasercoastdistrictbowls.com.au
SUMMARY:Junior State Championships
DESCRIPTION:
URL:https://frasercoastdistrictbowls.com.au/event-calendar/junior-state-championships-2/
LOCATION:Queensland
CATEGORIES:Other
END:VEVENT
BEGIN:VEVENT
DTSTART;TZID=Australia/Brisbane:20200112T080000
DTEND;TZID=Australia/Brisbane:20200112T170000
DTSTAMP:20260426T020843
CREATED:20200308T013640Z
LAST-MODIFIED:20200308T013640Z
UID:1696-1578816000-1578848400@frasercoastdistrictbowls.com.au
SUMMARY:Kilkivan $1000
DESCRIPTION:Open Monthly Fours
URL:https://frasercoastdistrictbowls.com.au/event-calendar/kilkivan-1000/
LOCATION:Queensland
CATEGORIES:Other
END:VEVENT
BEGIN:VEVENT
DTSTART;VALUE=DATE:20191207
DTEND;VALUE=DATE:20191209
DTSTAMP:20260426T020843
CREATED:20190312T234957Z
LAST-MODIFIED:20190506T225203Z
UID:1195-1575676800-1575849599@frasercoastdistrictbowls.com.au
SUMMARY:URANGAN Men’s Fours Carnival
DESCRIPTION:
URL:https://frasercoastdistrictbowls.com.au/event-calendar/urangan-mens-fours-carnival/
LOCATION:Urangan Bowls Club\, Margaret St & Dayman Street\, Urangan\, QLD\, 4655\, Australia
CATEGORIES:Club Event
ORGANIZER;CN="Urangan Bowls Club":MAILTO:mens-section@uranganbowlsclub.org.au
END:VEVENT
BEGIN:VEVENT
DTSTART;TZID=UTC:20191206T080000
DTEND;TZID=UTC:20191207T170000
DTSTAMP:20260426T020843
CREATED:20190402T192817Z
LAST-MODIFIED:20190402T192817Z
UID:1237-1575619200-1575738000@frasercoastdistrictbowls.com.au
SUMMARY:BRIBIE PRESTIGE Mens Fours
DESCRIPTION:
URL:https://frasercoastdistrictbowls.com.au/event-calendar/bribie-prestige-mens-fours/
LOCATION:Queensland
CATEGORIES:Club Event
END:VEVENT
BEGIN:VEVENT
DTSTART;TZID=UTC:20191203T080000
DTEND;TZID=UTC:20191205T170000
DTSTAMP:20260426T020843
CREATED:20190402T192425Z
LAST-MODIFIED:20190402T192425Z
UID:1236-1575360000-1575565200@frasercoastdistrictbowls.com.au
SUMMARY:BRIBIE PRESTIGE Pairs
DESCRIPTION:
URL:https://frasercoastdistrictbowls.com.au/event-calendar/bribie-prestige-pairs/
LOCATION:Queensland
CATEGORIES:Club Event
END:VEVENT
BEGIN:VEVENT
DTSTART;VALUE=DATE:20191202
DTEND;VALUE=DATE:20191206
DTSTAMP:20260426T020843
CREATED:20190312T234615Z
LAST-MODIFIED:20190312T234615Z
UID:1194-1575244800-1575590399@frasercoastdistrictbowls.com.au
SUMMARY:AUSTRALIAN BOWLS CHAMPIONSHIPS at Merimbula
DESCRIPTION:The Australian Championships\, one of the country’s premier bowling events\, will again be held at Club Sapphire\, Merimbula this December.  The tournament will run over four days\, from December 2nd to 5th and will showcase some fabulous bowls action at this world class venue. \nWhy not stay on in town for a few days after the event and explore the bowling on offer\, here on the Sapphire Coast.   From companionable beachside greens at Tathra to world class covered rinks at Merimbula\, there’s something for everyone to enjoy.
URL:https://frasercoastdistrictbowls.com.au/event-calendar/australian-bowls-championships-at-merimbula/
LOCATION:Club Sapphire\, 119 Main Street\, Merimbula\, New South Wales\, 2548\, Australia
CATEGORIES:Club Event
END:VEVENT
BEGIN:VEVENT
DTSTART;TZID=UTC:20191130T080000
DTEND;TZID=UTC:20191201T170000
DTSTAMP:20260426T020843
CREATED:20190402T180439Z
LAST-MODIFIED:20190402T180439Z
UID:1232-1575100800-1575219600@frasercoastdistrictbowls.com.au
SUMMARY:URANGAN MEN'S $10\,000 Fours Carnival
DESCRIPTION:
URL:https://frasercoastdistrictbowls.com.au/event-calendar/urangan-mens-10000-fours-carnival/
LOCATION:Queensland
CATEGORIES:Club Event
END:VEVENT
BEGIN:VEVENT
DTSTART;VALUE=DATE:20191123
DTEND;VALUE=DATE:20191125
DTSTAMP:20260426T020843
CREATED:20190312T223204Z
LAST-MODIFIED:20190312T223204Z
UID:1193-1574467200-1574639999@frasercoastdistrictbowls.com.au
SUMMARY:PIALBA'S $10\,800 Classic Men's Fours
DESCRIPTION:
URL:https://frasercoastdistrictbowls.com.au/event-calendar/pialbas-10800-classic-mens-fours/
LOCATION:Pialba Bowls Club\, 56 Taylor St\, Pialba\, QLD\, 4655\, Australia
CATEGORIES:Club Event
END:VEVENT
BEGIN:VEVENT
DTSTART;TZID=UTC:20191120T080000
DTEND;TZID=UTC:20191120T170000
DTSTAMP:20260426T020843
CREATED:20190402T180513Z
LAST-MODIFIED:20190402T180513Z
UID:1233-1574236800-1574269200@frasercoastdistrictbowls.com.au
SUMMARY:FCDBA AGM & Delegates Meeting at Boonooroo QLD
DESCRIPTION:
URL:https://frasercoastdistrictbowls.com.au/event-calendar/fcdba-agm-delegates-meeting-at-boonooroo-qld/
LOCATION:Queensland
CATEGORIES:Other
END:VEVENT
BEGIN:VEVENT
DTSTART;VALUE=DATE:20191116
DTEND;VALUE=DATE:20191118
DTSTAMP:20260426T020843
CREATED:20190312T223024Z
LAST-MODIFIED:20190312T223024Z
UID:1192-1573862400-1574035199@frasercoastdistrictbowls.com.au
SUMMARY:KADANGA $4000 Invitation Fours
DESCRIPTION:
URL:https://frasercoastdistrictbowls.com.au/event-calendar/kadanga-4000-invitation-fours/
LOCATION:Queensland
CATEGORIES:Club Event
END:VEVENT
BEGIN:VEVENT
DTSTART;VALUE=DATE:20191109
DTEND;VALUE=DATE:20191111
DTSTAMP:20260426T020843
CREATED:20190312T222749Z
LAST-MODIFIED:20190312T222749Z
UID:1190-1573257600-1573430399@frasercoastdistrictbowls.com.au
SUMMARY:STATE PENNANT Finals
DESCRIPTION:
URL:https://frasercoastdistrictbowls.com.au/event-calendar/state-pennant-finals/
LOCATION:Queensland
CATEGORIES:Club Event
END:VEVENT
BEGIN:VEVENT
DTSTART;VALUE=DATE:20191108
DTEND;VALUE=DATE:20191111
DTSTAMP:20260426T020843
CREATED:20190312T222918Z
LAST-MODIFIED:20190312T222918Z
UID:1191-1573171200-1573430399@frasercoastdistrictbowls.com.au
SUMMARY:WOOMBYE $10\,000
DESCRIPTION:
URL:https://frasercoastdistrictbowls.com.au/event-calendar/woombye-10000/
LOCATION:Queensland
CATEGORIES:Club Event
END:VEVENT
BEGIN:VEVENT
DTSTART;TZID=UTC:20191103T080000
DTEND;TZID=UTC:20191103T170000
DTSTAMP:20260426T020843
CREATED:20190402T181009Z
LAST-MODIFIED:20190402T181009Z
UID:1235-1572768000-1572800400@frasercoastdistrictbowls.com.au
SUMMARY:BURRUM HEADS 1 Day Mixed Fours
DESCRIPTION:
URL:https://frasercoastdistrictbowls.com.au/event-calendar/burrum-heads-1-day-mixed-fours/
LOCATION:Queensland
CATEGORIES:Club Event
END:VEVENT
BEGIN:VEVENT
DTSTART;TZID=UTC:20191102T080000
DTEND;TZID=UTC:20191102T170000
DTSTAMP:20260426T020843
CREATED:20190402T180923Z
LAST-MODIFIED:20190402T180923Z
UID:1234-1572681600-1572714000@frasercoastdistrictbowls.com.au
SUMMARY:MARYBOROUGH 1 DAY Mixed Triples
DESCRIPTION:
URL:https://frasercoastdistrictbowls.com.au/event-calendar/maryborough-1-day-mixed-triples/
LOCATION:Queensland
CATEGORIES:Club Event
END:VEVENT
BEGIN:VEVENT
DTSTART;TZID=UTC:20191102T080000
DTEND;TZID=UTC:20191102T170000
DTSTAMP:20260426T020843
CREATED:20190402T180319Z
LAST-MODIFIED:20190402T180319Z
UID:1231-1572681600-1572714000@frasercoastdistrictbowls.com.au
SUMMARY:KILKIVAN Presidents Day
DESCRIPTION:
URL:https://frasercoastdistrictbowls.com.au/event-calendar/kilkivan-presidents-day/
LOCATION:Queensland
CATEGORIES:Club Event
END:VEVENT
BEGIN:VEVENT
DTSTART;VALUE=DATE:20191026
DTEND;VALUE=DATE:20191101
DTSTAMP:20260426T020843
CREATED:20190312T222312Z
LAST-MODIFIED:20190312T222312Z
UID:1188-1572048000-1572566399@frasercoastdistrictbowls.com.au
SUMMARY:CH'N OF CLUB CH'NS State Finals
DESCRIPTION:
URL:https://frasercoastdistrictbowls.com.au/event-calendar/chn-of-club-chns-state-finals/
LOCATION:Queensland
CATEGORIES:Club Event
END:VEVENT
BEGIN:VEVENT
DTSTART;VALUE=DATE:20191026
DTEND;VALUE=DATE:20191028
DTSTAMP:20260426T020843
CREATED:20190312T222515Z
LAST-MODIFIED:20190312T222515Z
UID:1189-1572048000-1572220799@frasercoastdistrictbowls.com.au
SUMMARY:RAINBOW BEACH Invitation Fours
DESCRIPTION:
URL:https://frasercoastdistrictbowls.com.au/event-calendar/rainbow-beach-invitation-fours/
LOCATION:Queensland
CATEGORIES:Club Event
END:VEVENT
BEGIN:VEVENT
DTSTART;TZID=UTC:20191025T080000
DTEND;TZID=UTC:20191025T170000
DTSTAMP:20260426T020843
CREATED:20190402T175951Z
LAST-MODIFIED:20190402T175951Z
UID:1230-1571990400-1572022800@frasercoastdistrictbowls.com.au
SUMMARY:BURRUM HEADS Presidents & Patrons Day
DESCRIPTION:
URL:https://frasercoastdistrictbowls.com.au/event-calendar/burrum-heads-presidents-patrons-day/
LOCATION:Queensland
CATEGORIES:Club Event
END:VEVENT
BEGIN:VEVENT
DTSTART;VALUE=DATE:20191021
DTEND;VALUE=DATE:20191025
DTSTAMP:20260426T020843
CREATED:20190313T192206Z
LAST-MODIFIED:20190313T192206Z
UID:1207-1571616000-1571961599@frasercoastdistrictbowls.com.au
SUMMARY:AUSTRALIAN SENIOR SIDES Championships 
DESCRIPTION:
URL:https://frasercoastdistrictbowls.com.au/event-calendar/australian-senior-sides-championships/
LOCATION:Queensland
CATEGORIES:Other
END:VEVENT
BEGIN:VEVENT
DTSTART;TZID=UTC:20191019T080000
DTEND;TZID=UTC:20191019T170000
DTSTAMP:20260426T020843
CREATED:20190402T175902Z
LAST-MODIFIED:20190402T175902Z
UID:1229-1571472000-1571504400@frasercoastdistrictbowls.com.au
SUMMARY:M'BORO SERVICES President's Day
DESCRIPTION:
URL:https://frasercoastdistrictbowls.com.au/event-calendar/mboro-services-presidents-day/
LOCATION:Queensland
CATEGORIES:Club Event
END:VEVENT
BEGIN:VEVENT
DTSTART;VALUE=DATE:20191019
DTEND;VALUE=DATE:20191021
DTSTAMP:20260426T020843
CREATED:20190312T222146Z
LAST-MODIFIED:20190312T222146Z
UID:1187-1571443200-1571615999@frasercoastdistrictbowls.com.au
SUMMARY:WOODGATE $11000
DESCRIPTION:
URL:https://frasercoastdistrictbowls.com.au/event-calendar/woodgate-11000/
LOCATION:Queensland
CATEGORIES:Club Event
END:VEVENT
END:VCALENDAR