BEGIN:VCALENDAR
VERSION:2.0
PRODID:-//Fraser Coast District Bowls Association - ECPv6.11.2.1//NONSGML v1.0//EN
CALSCALE:GREGORIAN
METHOD:PUBLISH
X-WR-CALNAME:Fraser Coast District Bowls Association
X-ORIGINAL-URL:https://frasercoastdistrictbowls.com.au
X-WR-CALDESC:Events for Fraser Coast District Bowls Association
REFRESH-INTERVAL;VALUE=DURATION:PT1H
X-Robots-Tag:noindex
X-PUBLISHED-TTL:PT1H
BEGIN:VTIMEZONE
TZID:Australia/Brisbane
BEGIN:STANDARD
TZOFFSETFROM:+1000
TZOFFSETTO:+1000
TZNAME:AEST
DTSTART:20220101T000000
END:STANDARD
END:VTIMEZONE
BEGIN:VTIMEZONE
TZID:UTC
BEGIN:STANDARD
TZOFFSETFROM:+0000
TZOFFSETTO:+0000
TZNAME:UTC
DTSTART:20200101T000000
END:STANDARD
END:VTIMEZONE
BEGIN:VEVENT
DTSTART;VALUE=DATE:20220321
DTEND;VALUE=DATE:20220322
DTSTAMP:20260425T205225
CREATED:20220112T135030Z
LAST-MODIFIED:20220112T135030Z
UID:2183-1647820800-1647907199@frasercoastdistrictbowls.com.au
SUMMARY:Entries Close State Championships
DESCRIPTION:
URL:https://frasercoastdistrictbowls.com.au/event-calendar/entries-close-state-championships-2/
CATEGORIES:Other
END:VEVENT
BEGIN:VEVENT
DTSTART;VALUE=DATE:20220320
DTEND;VALUE=DATE:20220321
DTSTAMP:20260425T205225
CREATED:20220112T134939Z
LAST-MODIFIED:20220112T134939Z
UID:2181-1647734400-1647820799@frasercoastdistrictbowls.com.au
SUMMARY:Doon Villa 1 Day Fours Carnival
DESCRIPTION:
URL:https://frasercoastdistrictbowls.com.au/event-calendar/doon-villa-1-day-fours-carnival/
LOCATION:Doon Villa Bowls Club\, 297 Lennox St\, Maryborough\, QLD\, 4650\, Australia
CATEGORIES:Club Event
END:VEVENT
BEGIN:VEVENT
DTSTART;VALUE=DATE:20220319
DTEND;VALUE=DATE:20220320
DTSTAMP:20260425T205225
CREATED:20220112T133717Z
LAST-MODIFIED:20220112T133717Z
UID:2163-1647648000-1647734399@frasercoastdistrictbowls.com.au
SUMMARY:Clayton Hearing Wide Bay Challenge 2022
DESCRIPTION:
URL:https://frasercoastdistrictbowls.com.au/event-calendar/clayton-hearing-wide-bay-challenge-2022-8/
CATEGORIES:Other
END:VEVENT
BEGIN:VEVENT
DTSTART;VALUE=DATE:20220313
DTEND;VALUE=DATE:20220314
DTSTAMP:20260425T205225
CREATED:20220112T134742Z
LAST-MODIFIED:20220118T001255Z
UID:2179-1647129600-1647215999@frasercoastdistrictbowls.com.au
SUMMARY:Inter District Match - FCDBA v Burnett
DESCRIPTION:At M’Boro Services \n20 x players 9.30am
URL:https://frasercoastdistrictbowls.com.au/event-calendar/inter-district-match-fcdba-v-burnett/
LOCATION:Maryborough Services Bowls Club\, Lennox St\, Maryborough\, QLD\, 4650\, Australia
CATEGORIES:FCDBA Event
ORGANIZER;CN="Fraser Coast District Bowls Association":MAILTO:frasercoastdistbowls@y7mail.com
END:VEVENT
BEGIN:VEVENT
DTSTART;VALUE=DATE:20220312
DTEND;VALUE=DATE:20220313
DTSTAMP:20260425T205225
CREATED:20220112T134506Z
LAST-MODIFIED:20220112T134506Z
UID:2177-1647043200-1647129599@frasercoastdistrictbowls.com.au
SUMMARY:Burnett AGM
DESCRIPTION:
URL:https://frasercoastdistrictbowls.com.au/event-calendar/burnett-agm/
END:VEVENT
BEGIN:VEVENT
DTSTART;VALUE=DATE:20220312
DTEND;VALUE=DATE:20220313
DTSTAMP:20260425T205225
CREATED:20220112T133640Z
LAST-MODIFIED:20220112T133640Z
UID:2161-1647043200-1647129599@frasercoastdistrictbowls.com.au
SUMMARY:Clayton Hearing Wide Bay Challenge 2022
DESCRIPTION:
URL:https://frasercoastdistrictbowls.com.au/event-calendar/clayton-hearing-wide-bay-challenge-2022-7/
CATEGORIES:Other
END:VEVENT
BEGIN:VEVENT
DTSTART;TZID=Australia/Brisbane:20220306T083000
DTEND;TZID=Australia/Brisbane:20220306T165500
DTSTAMP:20260425T205225
CREATED:20211217T041208Z
LAST-MODIFIED:20220118T001419Z
UID:2088-1646555400-1646585700@frasercoastdistrictbowls.com.au
SUMMARY:Kandanga $900 Pig Day Men's Fours
DESCRIPTION:You are invited to play at Kandanga\n1st Prize 4 x $100 Pork\n2nd Prize 4 x $80 Pork\n3rd Prize 4 x $45 Pork\nEntry Fee is $120 per team \n3 Games of 2 hours 10 minutes or 18 ends \nWins count first and take preference over draws then count margins \nGames Controllers \nGarry Dan: 0418 796 380 \nDoug Smith: 0455 367 153 \nTo enter www. kandangacountryclub.com.au/bowls/
URL:https://frasercoastdistrictbowls.com.au/event-calendar/900-pig-day-mens-fours/
LOCATION:Kandanga Bowls Club\, 4 Bowling Club Rd\, Kandanga\, QLD\, 4570\, Australia
CATEGORIES:Club Event
ATTACH;FMTTYPE=image/jpeg:https://frasercoastdistrictbowls.com.au/wp-content/uploads/2021/12/KANDANGA-PIG-DAY-SUMMARY-2022-scaled.jpg
END:VEVENT
BEGIN:VEVENT
DTSTART;VALUE=DATE:20220305
DTEND;VALUE=DATE:20220306
DTSTAMP:20260425T205225
CREATED:20220112T133557Z
LAST-MODIFIED:20220112T133557Z
UID:2159-1646438400-1646524799@frasercoastdistrictbowls.com.au
SUMMARY:Clayton Hearing Wide Bay Challenge 2022
DESCRIPTION:
URL:https://frasercoastdistrictbowls.com.au/event-calendar/clayton-hearing-wide-bay-challenge-2022-6/
CATEGORIES:Other
END:VEVENT
BEGIN:VEVENT
DTSTART;VALUE=DATE:20220226
DTEND;VALUE=DATE:20220227
DTSTAMP:20260425T205225
CREATED:20220112T133530Z
LAST-MODIFIED:20220112T133530Z
UID:2157-1645833600-1645919999@frasercoastdistrictbowls.com.au
SUMMARY:Clayton Hearing Wide Bay Challenge 2022
DESCRIPTION:
URL:https://frasercoastdistrictbowls.com.au/event-calendar/clayton-hearing-wide-bay-challenge-2022-5/
CATEGORIES:Other
END:VEVENT
BEGIN:VEVENT
DTSTART;VALUE=DATE:20220223
DTEND;VALUE=DATE:20220224
DTSTAMP:20260425T205225
CREATED:20220112T134247Z
LAST-MODIFIED:20220112T134247Z
UID:2175-1645574400-1645660799@frasercoastdistrictbowls.com.au
SUMMARY:Pialba's 1 Day Open 3 Bowl Pairs
DESCRIPTION:
URL:https://frasercoastdistrictbowls.com.au/event-calendar/pialbas-1-day-open-3-bowl-pairs/
LOCATION:Pialba Bowls Club\, 56 Taylor St\, Pialba\, QLD\, 4655\, Australia
CATEGORIES:Club Event
ORGANIZER;CN="PIALBA BOWLS CLUB":MAILTO:bowls@pialbabowls.com.au
END:VEVENT
BEGIN:VEVENT
DTSTART;VALUE=DATE:20220220
DTEND;VALUE=DATE:20220221
DTSTAMP:20260425T205225
CREATED:20220112T134139Z
LAST-MODIFIED:20220112T134139Z
UID:2173-1645315200-1645401599@frasercoastdistrictbowls.com.au
SUMMARY:FCDBA District Sides Trials
DESCRIPTION:24 x PLAYERS at TBA. 10AM
URL:https://frasercoastdistrictbowls.com.au/event-calendar/fcdba-district-sides-trials-2/
CATEGORIES:FCDBA Event
ORGANIZER;CN="Fraser Coast District Bowls Association":MAILTO:frasercoastdistbowls@y7mail.com
END:VEVENT
BEGIN:VEVENT
DTSTART;VALUE=DATE:20220219
DTEND;VALUE=DATE:20220220
DTSTAMP:20260425T205225
CREATED:20220112T133511Z
LAST-MODIFIED:20220112T133511Z
UID:2155-1645228800-1645315199@frasercoastdistrictbowls.com.au
SUMMARY:Clayton Hearing Wide Bay Challenge 2022
DESCRIPTION:
URL:https://frasercoastdistrictbowls.com.au/event-calendar/clayton-hearing-wide-bay-challenge-2022-4/
CATEGORIES:Other
END:VEVENT
BEGIN:VEVENT
DTSTART;VALUE=DATE:20220212
DTEND;VALUE=DATE:20220213
DTSTAMP:20260425T205225
CREATED:20220112T133450Z
LAST-MODIFIED:20220112T133450Z
UID:2153-1644624000-1644710399@frasercoastdistrictbowls.com.au
SUMMARY:Clayton Hearing Wide Bay Challenge 2022
DESCRIPTION:
URL:https://frasercoastdistrictbowls.com.au/event-calendar/clayton-hearing-wide-bay-challenge-2022-3/
CATEGORIES:Other
END:VEVENT
BEGIN:VEVENT
DTSTART;VALUE=DATE:20220206
DTEND;VALUE=DATE:20220207
DTSTAMP:20260425T205225
CREATED:20220112T134016Z
LAST-MODIFIED:20220116T233339Z
UID:2171-1644105600-1644191999@frasercoastdistrictbowls.com.au
SUMMARY:FCDBA President’s Day at Gympie
DESCRIPTION:President Pat Walsh cordially invites you to enter a representative side from your Club to participate in his \nFCDBA Presidents Day\nSunday 6th February 2022 – 9.30 for 10am start\nTo be held at Gympie Bowls Club\nFormat for the Day: \n930am – meet and greet and welcoming speech from host Club President.\n10am – call of the cards\, Game 1 start. No Roll Up – 16 ends or bell. (dead ends – respot jack)\n12.15pm – Lunch & Drinks. FCDBA President welcoming and brief talk on the future of the\ndistrict for year 2022.\n1 pm – call of the cards\, Game 2 start. No Roll Up – 16 ends or Bell (dead ends – respot jack)\n3.30pm – Presentation of Trophies and farewell. \nEntering \nThe FCDBA will pay the entry fee of $60 for 1 representative side from your club.\nShould you wish to enter an extra side to make up numbers the cost will be $15 per player or\n$60 per team. (Tea\, Coffee and Lunch is all inclusive with fees) \nClubs are asked to enter a club side of mainly your executive or senior members of the club. \nNominations and extra teams are required by the 1st of February 2022 or earlier.\nSend by email to President Patrick Walsh walshie1962@optusnet.com.au \nClub………………………………………………………\nLead……………………………………………………… Second…………………………………………………\nThird…………………………………………………….. Skip……………………………………………………….\nContact Phone Number……………………………………………………………………………………………. \nCovid – Gympie Bowls club is Covid compliant – players and visitors must be full vaccinated to attend \nPDF Flyer – Presidents Day 6th Feb
URL:https://frasercoastdistrictbowls.com.au/event-calendar/nth-v-s-sth-challenge-proposed/
LOCATION:The Albert Bowls Club Gympie\, River Rd\, Gympie\, QLD\, QLD 4570\, Australia
CATEGORIES:FCDBA Event
ATTACH;FMTTYPE=image/png:https://frasercoastdistrictbowls.com.au/wp-content/uploads/2019/04/Pat-Walsh-President.png
ORGANIZER;CN="Fraser Coast District Bowls Association":MAILTO:frasercoastdistbowls@y7mail.com
END:VEVENT
BEGIN:VEVENT
DTSTART;VALUE=DATE:20220205
DTEND;VALUE=DATE:20220206
DTSTAMP:20260425T205225
CREATED:20220112T133400Z
LAST-MODIFIED:20220112T133400Z
UID:2151-1644019200-1644105599@frasercoastdistrictbowls.com.au
SUMMARY:Clayton Hearing Wide Bay Challenge 2022
DESCRIPTION:
URL:https://frasercoastdistrictbowls.com.au/event-calendar/clayton-hearing-wide-bay-challenge-2022-2/
CATEGORIES:Other
END:VEVENT
BEGIN:VEVENT
DTSTART;VALUE=DATE:20220202
DTEND;VALUE=DATE:20220203
DTSTAMP:20260425T205225
CREATED:20220112T133314Z
LAST-MODIFIED:20220112T133314Z
UID:2149-1643760000-1643846399@frasercoastdistrictbowls.com.au
SUMMARY:FCDBA Delegates Meeting at Boonooroo
DESCRIPTION:
URL:https://frasercoastdistrictbowls.com.au/event-calendar/fcdba-delegates-meeting-at-boonooroo-6/
LOCATION:Boonooroo Bowls Club\, 125 Eckert Rd\, Boonooroo\, Queensland\, 4650\, Australia
CATEGORIES:FCDBA Event
ORGANIZER;CN="Fraser Coast District Bowls Association":MAILTO:frasercoastdistbowls@y7mail.com
END:VEVENT
BEGIN:VEVENT
DTSTART;VALUE=DATE:20220129
DTEND;VALUE=DATE:20220130
DTSTAMP:20260425T205225
CREATED:20220112T133202Z
LAST-MODIFIED:20220112T133202Z
UID:2147-1643414400-1643500799@frasercoastdistrictbowls.com.au
SUMMARY:Clayton Hearing Wide Bay Challenge 2022
DESCRIPTION:
URL:https://frasercoastdistrictbowls.com.au/event-calendar/clayton-hearing-wide-bay-challenge-2022/
CATEGORIES:Other
END:VEVENT
BEGIN:VEVENT
DTSTART;VALUE=DATE:20220122
DTEND;VALUE=DATE:20220124
DTSTAMP:20260425T205225
CREATED:20220112T132758Z
LAST-MODIFIED:20220112T132926Z
UID:2143-1642809600-1642982399@frasercoastdistrictbowls.com.au
SUMMARY:Australia Day Bargara Carnival
DESCRIPTION:
URL:https://frasercoastdistrictbowls.com.au/event-calendar/australia-day-bargara-carnival/
LOCATION:Bargara Bowls Club\, Whalley St\,\, Bargara\, QLD\, 4670\, Australia
CATEGORIES:Club Event
END:VEVENT
BEGIN:VEVENT
DTSTART;VALUE=DATE:20220116
DTEND;VALUE=DATE:20220122
DTSTAMP:20260425T205225
CREATED:20220112T132413Z
LAST-MODIFIED:20220112T132413Z
UID:2139-1642291200-1642809599@frasercoastdistrictbowls.com.au
SUMMARY:Junior State Championships
DESCRIPTION:
URL:https://frasercoastdistrictbowls.com.au/event-calendar/junior-state-championships-3/
LOCATION:North Toowoomba Bowls Club\, Lemnos St\,\, Toowoomba City\, QLD\, 4350\, Australia
CATEGORIES:Other
END:VEVENT
BEGIN:VEVENT
DTSTART;VALUE=DATE:20220115
DTEND;VALUE=DATE:20220116
DTSTAMP:20260425T205225
CREATED:20220112T132108Z
LAST-MODIFIED:20220112T132108Z
UID:2137-1642204800-1642291199@frasercoastdistrictbowls.com.au
SUMMARY:FCDBA PRESIDENT'S DAY at venue Sth
DESCRIPTION:
URL:https://frasercoastdistrictbowls.com.au/event-calendar/fcdba-presidents-day-at-venue-sth/
CATEGORIES:FCDBA Event
ORGANIZER;CN="Fraser Coast District Bowls Association":MAILTO:frasercoastdistbowls@y7mail.com
END:VEVENT
BEGIN:VEVENT
DTSTART;VALUE=DATE:20201205
DTEND;VALUE=DATE:20201207
DTSTAMP:20260425T205225
CREATED:20200303T212524Z
LAST-MODIFIED:20201028T051425Z
UID:1663-1607126400-1607299199@frasercoastdistrictbowls.com.au
SUMMARY:Urangan Men's Fours Carnival
DESCRIPTION:URANGAN BOWLS CLUB\nINVITES PLAYERS TO THE\nMEN’S 2 BOWL TRIPLES\nSATURDAY & SUNDAY 5TH – 6TH DECEMBER\, 2020\n$5\,000 IN PRIZE MONEY \n5 Games of 21 Ends or Bell at 2 hrs 15 mins\n3 games Saturday commencing 9am & 2 games Sunday \nEntry Fee $180 per team includes Green Fees\, Light Lunch both days and nibbles’ after games \nPrize Money \nWinner $1\,800\nRunner Up $900\nThird Place $600\n4th Place $480\n5th Place $360 \n5 Round Winners\n$180 per round. \nSome Conditions of play: 10 points for a win 2 points for a draw. Only one cash prize can be won by any one team. Dead ends to be re-spotted at the tee.\nFirst 32 Paid Teams accepted. Deposit $90 to be paid with Nomination Form by 21st November 2020. \nDRESS: Bowls Australia Approved attire to be worn.\nNominations Close 21 November 2020 \nEnquiries: Games Controller UBC\, John Brown\nPh: 07 4128 9679\nMen’s President Bob Hasemann\nPh: 04 2765 3377 \nUrangan-Bowls-Club-Flyer
URL:https://frasercoastdistrictbowls.com.au/event-calendar/urangan-mens-fours-carnival-2/
LOCATION:Urangan Bowls Club\, Margaret St & Dayman Street\, Urangan\, QLD\, 4655\, Australia
CATEGORIES:Club Event
END:VEVENT
BEGIN:VEVENT
DTSTART;VALUE=DATE:20201128
DTEND;VALUE=DATE:20201130
DTSTAMP:20260425T205225
CREATED:20200303T212412Z
LAST-MODIFIED:20201026T055815Z
UID:1661-1606521600-1606694399@frasercoastdistrictbowls.com.au
SUMMARY:Pialba's Classic Men's Fours Carnival
DESCRIPTION:$10\,900 Prizemoney\nMajor Sponsors:\n* Kayron Construction Vic. *Churches of Christ Qld *Hervey Bay RSL *Fraser Coast Motor Centre *Clayton Hearing Hervey Bay * Sid Boshammer Prime real Estate * BCIB Insurance *Riviera Resort\nOrganiser\nJohn Walker\nbowls@pialbabowls.com.au\nEntry Form
URL:https://frasercoastdistrictbowls.com.au/event-calendar/pialbas-classic-mens-fours-carnival/
LOCATION:Pialba Bowls Club\, 56 Taylor St\, Pialba\, QLD\, 4655\, Australia
CATEGORIES:Club Event
END:VEVENT
BEGIN:VEVENT
DTSTART;VALUE=DATE:20201125
DTEND;VALUE=DATE:20201126
DTSTAMP:20260425T205225
CREATED:20200303T212336Z
LAST-MODIFIED:20200824T022119Z
UID:1659-1606262400-1606348799@frasercoastdistrictbowls.com.au
SUMMARY:FCDBA AGM & Delegates Meeting at Boonooroo
DESCRIPTION:
URL:https://frasercoastdistrictbowls.com.au/event-calendar/fcdba-agm-delegates-meeting-at-boonooroo/
LOCATION:Boonooroo Bowls Club\, 125 Eckert Rd\, Boonooroo\, Queensland\, 4650\, Australia
CATEGORIES:FCDBA Event
END:VEVENT
BEGIN:VEVENT
DTSTART;VALUE=DATE:20201121
DTEND;VALUE=DATE:20201122
DTSTAMP:20260425T205225
CREATED:20200303T212254Z
LAST-MODIFIED:20200824T021211Z
UID:1657-1605916800-1606003199@frasercoastdistrictbowls.com.au
SUMMARY:Kandanga Men's Invitation Fours
DESCRIPTION:
URL:https://frasercoastdistrictbowls.com.au/event-calendar/kandanga-mens-invitation-fours/
LOCATION:Kandanga Bowls Club\, 4 Bowling Club Rd\, Kandanga\, QLD\, 4570\, Australia
CATEGORIES:Club Event
END:VEVENT
BEGIN:VEVENT
DTSTART;VALUE=DATE:20201114
DTEND;VALUE=DATE:20201115
DTSTAMP:20260425T205225
CREATED:20200303T212126Z
LAST-MODIFIED:20201021T044005Z
UID:1653-1605312000-1605398399@frasercoastdistrictbowls.com.au
SUMMARY:Maryborough 1 Day Mixed Triples
DESCRIPTION:
URL:https://frasercoastdistrictbowls.com.au/event-calendar/maryborough-1-day-mixed-triples-2/
LOCATION:Maryborough Bowls Club\, 506 Kent St\, Maryborough\, QLD\, 4650\, Australia
CATEGORIES:Club Event
ATTACH;FMTTYPE=image/jpeg:https://frasercoastdistrictbowls.com.au/wp-content/uploads/2019/04/FCDBA-Home-CTA.jpg
END:VEVENT
BEGIN:VEVENT
DTSTART;VALUE=DATE:20201110
DTEND;VALUE=DATE:20201114
DTSTAMP:20260425T205225
CREATED:20200303T212158Z
LAST-MODIFIED:20200303T212158Z
UID:1655-1604966400-1605311999@frasercoastdistrictbowls.com.au
SUMMARY:BPL at Pine Rivers
DESCRIPTION:
URL:https://frasercoastdistrictbowls.com.au/event-calendar/bpl-at-pine-rivers/
END:VEVENT
BEGIN:VEVENT
DTSTART;VALUE=DATE:20201107
DTEND;VALUE=DATE:20201109
DTSTAMP:20260425T205225
CREATED:20200303T212045Z
LAST-MODIFIED:20200303T212045Z
UID:1651-1604707200-1604879999@frasercoastdistrictbowls.com.au
SUMMARY:State Pennant Finals at TBA
DESCRIPTION:
URL:https://frasercoastdistrictbowls.com.au/event-calendar/state-pennant-finals-at-tba/
END:VEVENT
BEGIN:VEVENT
DTSTART;VALUE=DATE:20201101
DTEND;VALUE=DATE:20201102
DTSTAMP:20260425T205225
CREATED:20200303T211956Z
LAST-MODIFIED:20200824T021646Z
UID:1649-1604188800-1604275199@frasercoastdistrictbowls.com.au
SUMMARY:Kilkivan President's Day
DESCRIPTION:
URL:https://frasercoastdistrictbowls.com.au/event-calendar/kilkivan-presidents-day-2/
LOCATION:Kilkivan Bowls Club\, Crescent St\, Kilkivan\, QLD\, 4600\, Australia
CATEGORIES:Club Event
END:VEVENT
BEGIN:VEVENT
DTSTART;VALUE=DATE:20201101
DTEND;VALUE=DATE:20201102
DTSTAMP:20260425T205225
CREATED:20200303T211906Z
LAST-MODIFIED:20200824T021308Z
UID:1647-1604188800-1604275199@frasercoastdistrictbowls.com.au
SUMMARY:Burrum Heads Mixed 4's Carnival
DESCRIPTION:
URL:https://frasercoastdistrictbowls.com.au/event-calendar/burrum-heads-mixed-4s-carnival-3/
LOCATION:Burrum Heads Bowls Club\, 189 Burrum Heads Rd\, Burrum Heads\, Queensland\, 4659\, Australia
CATEGORIES:Club Event
END:VEVENT
BEGIN:VEVENT
DTSTART;VALUE=DATE:20201031
DTEND;VALUE=DATE:20201102
DTSTAMP:20260425T205225
CREATED:20200303T211728Z
LAST-MODIFIED:20200303T211816Z
UID:1645-1604102400-1604275199@frasercoastdistrictbowls.com.au
SUMMARY:Nth v/s Sth Bowls Qld Challenge
DESCRIPTION:
URL:https://frasercoastdistrictbowls.com.au/event-calendar/nth-v-s-sth-bowls-qld-challenge/
END:VEVENT
END:VCALENDAR