BEGIN:VCALENDAR
VERSION:2.0
PRODID:-//Fraser Coast District Bowls Association - ECPv6.11.2.1//NONSGML v1.0//EN
CALSCALE:GREGORIAN
METHOD:PUBLISH
X-ORIGINAL-URL:https://frasercoastdistrictbowls.com.au
X-WR-CALDESC:Events for Fraser Coast District Bowls Association
REFRESH-INTERVAL;VALUE=DURATION:PT1H
X-Robots-Tag:noindex
X-PUBLISHED-TTL:PT1H
BEGIN:VTIMEZONE
TZID:Australia/Brisbane
BEGIN:STANDARD
TZOFFSETFROM:+1000
TZOFFSETTO:+1000
TZNAME:AEST
DTSTART:20240101T000000
END:STANDARD
END:VTIMEZONE
BEGIN:VEVENT
DTSTART;VALUE=DATE:20240529
DTEND;VALUE=DATE:20240530
DTSTAMP:20260425T011450
CREATED:20240502T231439Z
LAST-MODIFIED:20240502T231439Z
UID:3095-1716940800-1717027199@frasercoastdistrictbowls.com.au
SUMMARY:Pialba Monthly Open 2 Bowl Triples
DESCRIPTION:
URL:https://frasercoastdistrictbowls.com.au/event-calendar/pialba-monthly-open-2-bowl-triples-2/
LOCATION:Pialba Bowls Club\, 56 Taylor St\, Pialba\, QLD\, 4655\, Australia
CATEGORIES:Club Event
END:VEVENT
BEGIN:VEVENT
DTSTART;VALUE=DATE:20240528
DTEND;VALUE=DATE:20240529
DTSTAMP:20260425T011450
CREATED:20240502T231351Z
LAST-MODIFIED:20240502T231502Z
UID:3093-1716854400-1716940799@frasercoastdistrictbowls.com.au
SUMMARY:MBH 2 Bowl triples
DESCRIPTION:
URL:https://frasercoastdistrictbowls.com.au/event-calendar/mbh-2-bowl-triples/
LOCATION:QLD
CATEGORIES:Club Event
END:VEVENT
BEGIN:VEVENT
DTSTART;VALUE=DATE:20240525
DTEND;VALUE=DATE:20240527
DTSTAMP:20260425T011450
CREATED:20240502T231100Z
LAST-MODIFIED:20240502T231215Z
UID:3087-1716595200-1716767999@frasercoastdistrictbowls.com.au
SUMMARY:Hervey Bay Classic Men's Pairs
DESCRIPTION:
URL:https://frasercoastdistrictbowls.com.au/event-calendar/hervey-bay-classic-mens-pairs-3/
LOCATION:Hervey Bay Bowls Club
CATEGORIES:Club Event
END:VEVENT
BEGIN:VEVENT
DTSTART;VALUE=DATE:20240520
DTEND;VALUE=DATE:20240526
DTSTAMP:20260425T011450
CREATED:20240502T230856Z
LAST-MODIFIED:20240502T230856Z
UID:3083-1716163200-1716681599@frasercoastdistrictbowls.com.au
SUMMARY:Burgowan Centenary Celebrations
DESCRIPTION:
URL:https://frasercoastdistrictbowls.com.au/event-calendar/burgowan-centenary-celebrations/
LOCATION:Burgowan Bowls Club\, 4 George St\, Torbanlea\, QLD\, 4662\, Australia
CATEGORIES:Club Event
END:VEVENT
BEGIN:VEVENT
DTSTART;VALUE=DATE:20240518
DTEND;VALUE=DATE:20240519
DTSTAMP:20260425T011450
CREATED:20240502T121737Z
LAST-MODIFIED:20240502T121737Z
UID:3081-1715990400-1716076799@frasercoastdistrictbowls.com.au
SUMMARY:Maryborough BC President & Patrons Day
DESCRIPTION:
URL:https://frasercoastdistrictbowls.com.au/event-calendar/maryborough-bc-president-patrons-day/
LOCATION:Maryborough Bowls Club\, 506 Kent St\, Maryborough\, QLD\, 4650\, Australia
CATEGORIES:Club Event
END:VEVENT
BEGIN:VEVENT
DTSTART;VALUE=DATE:20240516
DTEND;VALUE=DATE:20240517
DTSTAMP:20260425T011450
CREATED:20240502T121426Z
LAST-MODIFIED:20240502T121426Z
UID:3077-1715817600-1715903999@frasercoastdistrictbowls.com.au
SUMMARY:Burrum Heads Gunsmoke Pairs
DESCRIPTION:
URL:https://frasercoastdistrictbowls.com.au/event-calendar/burrum-heads-gunsmoke-pairs-2/
LOCATION:Burrum Heads Bowls Club\, 189 Burrum Heads Rd\, Burrum Heads\, Queensland\, 4659\, Australia
CATEGORIES:Club Event
END:VEVENT
BEGIN:VEVENT
DTSTART;VALUE=DATE:20240515
DTEND;VALUE=DATE:20240516
DTSTAMP:20260425T011450
CREATED:20240502T121533Z
LAST-MODIFIED:20240502T121533Z
UID:3079-1715731200-1715817599@frasercoastdistrictbowls.com.au
SUMMARY:Burgowan Nominated Jackpot Fours
DESCRIPTION:
URL:https://frasercoastdistrictbowls.com.au/event-calendar/burgowan-nominated-jackpot-fours-17/
LOCATION:Burgowan Bowls Club\, 4 George St\, Torbanlea\, QLD\, 4662\, Australia
CATEGORIES:Club Event
END:VEVENT
BEGIN:VEVENT
DTSTART;VALUE=DATE:20240514
DTEND;VALUE=DATE:20240515
DTSTAMP:20260425T011450
CREATED:20240502T121409Z
LAST-MODIFIED:20240502T121409Z
UID:3075-1715644800-1715731199@frasercoastdistrictbowls.com.au
SUMMARY:Burrum Heads Gunsmoke Pairs
DESCRIPTION:
URL:https://frasercoastdistrictbowls.com.au/event-calendar/burrum-heads-gunsmoke-pairs/
LOCATION:Burrum Heads Bowls Club\, 189 Burrum Heads Rd\, Burrum Heads\, Queensland\, 4659\, Australia
CATEGORIES:Club Event
END:VEVENT
BEGIN:VEVENT
DTSTART;VALUE=DATE:20240511
DTEND;VALUE=DATE:20240513
DTSTAMP:20260425T011450
CREATED:20240502T121030Z
LAST-MODIFIED:20240502T121048Z
UID:3071-1715385600-1715558399@frasercoastdistrictbowls.com.au
SUMMARY:DODT Cup at Albert
DESCRIPTION:
URL:https://frasercoastdistrictbowls.com.au/event-calendar/dodt-cup-at-albert-3/
LOCATION:The Albert Bowls Club Gympie\, River Rd\, Gympie\, QLD\, QLD 4570\, Australia
CATEGORIES:Club Event
END:VEVENT
BEGIN:VEVENT
DTSTART;VALUE=DATE:20240504
DTEND;VALUE=DATE:20240505
DTSTAMP:20260425T011450
CREATED:20240502T120037Z
LAST-MODIFIED:20240502T120524Z
UID:3062-1714780800-1714867199@frasercoastdistrictbowls.com.au
SUMMARY:Maryborough May Day Open Fours
DESCRIPTION:
URL:https://frasercoastdistrictbowls.com.au/event-calendar/maryborough-may-day-open-fours-2/
LOCATION:Maryborough Bowls Club\, 506 Kent St\, Maryborough\, QLD\, 4650\, Australia
CATEGORIES:Club Event
END:VEVENT
BEGIN:VEVENT
DTSTART;VALUE=DATE:20240502
DTEND;VALUE=DATE:20240503
DTSTAMP:20260425T011450
CREATED:20240502T115920Z
LAST-MODIFIED:20240502T120754Z
UID:3060-1714608000-1714694399@frasercoastdistrictbowls.com.au
SUMMARY:Doon Villa Meat Triples
DESCRIPTION:
URL:https://frasercoastdistrictbowls.com.au/event-calendar/doon-villa-meat-triples-2/
LOCATION:Doon Villa Bowls Club\, 297 Lennox St\, Maryborough\, QLD\, 4650\, Australia
CATEGORIES:Club Event
END:VEVENT
BEGIN:VEVENT
DTSTART;TZID=Australia/Brisbane:20240430T090000
DTEND;TZID=Australia/Brisbane:20240430T170000
DTSTAMP:20260425T011450
CREATED:20240206T215145Z
LAST-MODIFIED:20240206T215145Z
UID:3056-1714467600-1714496400@frasercoastdistrictbowls.com.au
SUMMARY:Gympie Bowls Club	 President's Day
DESCRIPTION:
URL:https://frasercoastdistrictbowls.com.au/event-calendar/gympie-bowls-club-presidents-day/
LOCATION:The Albert Bowls Club Gympie\, River Rd\, Gympie\, QLD\, QLD 4570\, Australia
CATEGORIES:Club Event
END:VEVENT
BEGIN:VEVENT
DTSTART;TZID=Australia/Brisbane:20240428T080000
DTEND;TZID=Australia/Brisbane:20240428T170000
DTSTAMP:20260425T011450
CREATED:20240206T215051Z
LAST-MODIFIED:20240206T215051Z
UID:3054-1714291200-1714323600@frasercoastdistrictbowls.com.au
SUMMARY:Hervey Bay Mixed triples
DESCRIPTION:
URL:https://frasercoastdistrictbowls.com.au/event-calendar/hervey-bay-mixed-triples/
LOCATION:Hervey Bay Bowls Club\, 11-17 Denmans Camp Rd\, Scarness\, QLD\, 4655\, Australia
CATEGORIES:Club Event
END:VEVENT
BEGIN:VEVENT
DTSTART;TZID=Australia/Brisbane:20240427T090000
DTEND;TZID=Australia/Brisbane:20240428T170000
DTSTAMP:20260425T011450
CREATED:20240206T214944Z
LAST-MODIFIED:20240206T215016Z
UID:3052-1714208400-1714323600@frasercoastdistrictbowls.com.au
SUMMARY:M'Boro Services 2 Day Men's Fours Carnival
DESCRIPTION:
URL:https://frasercoastdistrictbowls.com.au/event-calendar/mboro-services-2-day-mens-fours-carnival-3/
LOCATION:Maryborough Bowls Club\, 506 Kent St\, Maryborough\, QLD\, 4650\, Australia
CATEGORIES:Club Event
END:VEVENT
BEGIN:VEVENT
DTSTART;TZID=Australia/Brisbane:20240423T090000
DTEND;TZID=Australia/Brisbane:20240423T170000
DTSTAMP:20260425T011450
CREATED:20240206T214048Z
LAST-MODIFIED:20240206T214901Z
UID:3050-1713862800-1713891600@frasercoastdistrictbowls.com.au
SUMMARY:MBH Jackpot 2 bowl Triples
DESCRIPTION:
URL:https://frasercoastdistrictbowls.com.au/event-calendar/mbh-jackpot-2-bowl-triples-3/
LOCATION:Maryborough Bowls Club\, 506 Kent St\, Maryborough\, QLD\, 4650\, Australia
CATEGORIES:Club Event
END:VEVENT
BEGIN:VEVENT
DTSTART;TZID=Australia/Brisbane:20240417T090000
DTEND;TZID=Australia/Brisbane:20240417T170000
DTSTAMP:20260425T011450
CREATED:20240206T213431Z
LAST-MODIFIED:20240206T213505Z
UID:3046-1713344400-1713373200@frasercoastdistrictbowls.com.au
SUMMARY:Burgowan Nominated Jackpot Fours
DESCRIPTION:
URL:https://frasercoastdistrictbowls.com.au/event-calendar/burgowan-nominated-jackpot-fours-16/
LOCATION:Burgowan Bowls Club\, 4 George St\, Torbanlea\, QLD\, 4662\, Australia
CATEGORIES:Club Event
END:VEVENT
BEGIN:VEVENT
DTSTART;TZID=Australia/Brisbane:20240404T080000
DTEND;TZID=Australia/Brisbane:20240404T170000
DTSTAMP:20260425T011450
CREATED:20240129T075151Z
LAST-MODIFIED:20240129T104422Z
UID:3041-1712217600-1712250000@frasercoastdistrictbowls.com.au
SUMMARY:Doon Villa Meat Triples
DESCRIPTION:
URL:https://frasercoastdistrictbowls.com.au/event-calendar/doon-villa-meat-triples/
LOCATION:Doon Villa Bowls Club\, 297 Lennox St\, Maryborough\, QLD\, 4650\, Australia
CATEGORIES:Club Event
END:VEVENT
BEGIN:VEVENT
DTSTART;TZID=Australia/Brisbane:20240330T080000
DTEND;TZID=Australia/Brisbane:20240331T170000
DTSTAMP:20260425T011450
CREATED:20240129T074548Z
LAST-MODIFIED:20240129T074635Z
UID:3037-1711785600-1711904400@frasercoastdistrictbowls.com.au
SUMMARY:Kenilworth Easter Carnival
DESCRIPTION:Kenilworth\nEaster Carnival
URL:https://frasercoastdistrictbowls.com.au/event-calendar/kenilworth-easter-carnival-4/
LOCATION:Kenilworth Bowls Club\, Kenilworth\, QLD\, 4574\, Australia
CATEGORIES:Club Event
END:VEVENT
BEGIN:VEVENT
DTSTART;TZID=Australia/Brisbane:20240330T080000
DTEND;TZID=Australia/Brisbane:20240331T170000
DTSTAMP:20260425T011450
CREATED:20240129T074508Z
LAST-MODIFIED:20240129T074726Z
UID:3035-1711785600-1711904400@frasercoastdistrictbowls.com.au
SUMMARY:Urangan Easter Mixed Fours Carnival
DESCRIPTION:Urangan\nEaster Mixed Fours\nCarnival
URL:https://frasercoastdistrictbowls.com.au/event-calendar/urangan-easter-mixed-fours-carnival-3/
LOCATION:Urangan Bowls Club\, Margaret St & Dayman Street\, Urangan\, QLD\, 4655\, Australia
CATEGORIES:Club Event
END:VEVENT
BEGIN:VEVENT
DTSTART;TZID=Australia/Brisbane:20240327T080000
DTEND;TZID=Australia/Brisbane:20240327T170000
DTSTAMP:20260425T011450
CREATED:20240129T074354Z
LAST-MODIFIED:20240129T074354Z
UID:3033-1711526400-1711558800@frasercoastdistrictbowls.com.au
SUMMARY:Pialba Monthly Open 2 Bowl Triples
DESCRIPTION:Pialba Monthly Open\n2 Bowl Triples
URL:https://frasercoastdistrictbowls.com.au/event-calendar/pialba-monthly-open-2-bowl-triples/
LOCATION:Pialba Bowls Club\, 56 Taylor St\, Pialba\, QLD\, 4655\, Australia
CATEGORIES:Club Event
END:VEVENT
BEGIN:VEVENT
DTSTART;TZID=Australia/Brisbane:20240326T080000
DTEND;TZID=Australia/Brisbane:20240326T170000
DTSTAMP:20260425T011450
CREATED:20240129T074254Z
LAST-MODIFIED:20240129T074254Z
UID:3031-1711440000-1711472400@frasercoastdistrictbowls.com.au
SUMMARY:MBH Jackpot 2 Bowl triples
DESCRIPTION:MBH Jackpot\n2 Bowl triples
URL:https://frasercoastdistrictbowls.com.au/event-calendar/mbh-jackpot-2-bowl-triples-2/
LOCATION:Maryborough Bowls Club\, 506 Kent St\, Maryborough\, QLD\, 4650\, Australia
CATEGORIES:Club Event
END:VEVENT
BEGIN:VEVENT
DTSTART;TZID=Australia/Brisbane:20240321T080000
DTEND;TZID=Australia/Brisbane:20240321T170000
DTSTAMP:20260425T011450
CREATED:20240129T072354Z
LAST-MODIFIED:20240129T074143Z
UID:3029-1711008000-1711040400@frasercoastdistrictbowls.com.au
SUMMARY:Burrum Heads Gunsmoke Fours
DESCRIPTION:
URL:https://frasercoastdistrictbowls.com.au/event-calendar/burrum-heads-gunsmoke-fours-2/
LOCATION:Burrum Heads Bowls Club\, 189 Burrum Heads Rd\, Burrum Heads\, Queensland\, 4659\, Australia
CATEGORIES:Club Event
END:VEVENT
BEGIN:VEVENT
DTSTART;TZID=Australia/Brisbane:20240320T080000
DTEND;TZID=Australia/Brisbane:20240320T170000
DTSTAMP:20260425T011450
CREATED:20240129T072315Z
LAST-MODIFIED:20240129T072315Z
UID:3027-1710921600-1710954000@frasercoastdistrictbowls.com.au
SUMMARY:Burgowan Nominated Jackpot Fours
DESCRIPTION:Burgowan Nominated\n\n\nJackpot Fours
URL:https://frasercoastdistrictbowls.com.au/event-calendar/burgowan-nominated-jackpot-fours-15/
LOCATION:Burgowan Bowls Club\, 4 George St\, Torbanlea\, QLD\, 4662\, Australia
CATEGORIES:Club Event
END:VEVENT
BEGIN:VEVENT
DTSTART;TZID=Australia/Brisbane:20240307T080000
DTEND;TZID=Australia/Brisbane:20240307T170000
DTSTAMP:20260425T011450
CREATED:20240129T070823Z
LAST-MODIFIED:20240129T070823Z
UID:3017-1709798400-1709830800@frasercoastdistrictbowls.com.au
SUMMARY:Doona Villa Meat Triples
DESCRIPTION:
URL:https://frasercoastdistrictbowls.com.au/event-calendar/doona-villa-meat-triples-3/
LOCATION:Doon Villa Bowls Club\, 297 Lennox St\, Maryborough\, QLD\, 4650\, Australia
CATEGORIES:Club Event
END:VEVENT
BEGIN:VEVENT
DTSTART;TZID=Australia/Brisbane:20240227T080000
DTEND;TZID=Australia/Brisbane:20240227T170000
DTSTAMP:20260425T011450
CREATED:20240129T063105Z
LAST-MODIFIED:20240129T063105Z
UID:2995-1709020800-1709053200@frasercoastdistrictbowls.com.au
SUMMARY:MBH Jackpot 2 Bowl Triples
DESCRIPTION:
URL:https://frasercoastdistrictbowls.com.au/event-calendar/mbh-jackpot-2-bowl-triples/
LOCATION:QLD
CATEGORIES:Club Event
END:VEVENT
BEGIN:VEVENT
DTSTART;TZID=Australia/Brisbane:20240221T080000
DTEND;TZID=Australia/Brisbane:20240221T170000
DTSTAMP:20260425T011450
CREATED:20240129T063155Z
LAST-MODIFIED:20240129T064329Z
UID:2998-1708502400-1708534800@frasercoastdistrictbowls.com.au
SUMMARY:Burgowan Nominated Jackpot Fours
DESCRIPTION:
URL:https://frasercoastdistrictbowls.com.au/event-calendar/burgowan-nominated-jackpot-fours-14/
LOCATION:Burgowan Bowls Club\, 4 George St\, Torbanlea\, QLD\, 4662\, Australia
CATEGORIES:Club Event
END:VEVENT
BEGIN:VEVENT
DTSTART;TZID=Australia/Brisbane:20240201T080000
DTEND;TZID=Australia/Brisbane:20240201T170000
DTSTAMP:20260425T011450
CREATED:20240101T061429Z
LAST-MODIFIED:20240129T061547Z
UID:2977-1706774400-1706806800@frasercoastdistrictbowls.com.au
SUMMARY:Doona Villa Meat Triples
DESCRIPTION:
URL:https://frasercoastdistrictbowls.com.au/event-calendar/doona-villa-meat-triples-2/
LOCATION:Doon Villa Bowls Club\, 297 Lennox St\, Maryborough\, QLD\, 4650\, Australia
CATEGORIES:Club Event
END:VEVENT
BEGIN:VEVENT
DTSTART;TZID=Australia/Brisbane:20240118T080000
DTEND;TZID=Australia/Brisbane:20240118T170000
DTSTAMP:20260425T011450
CREATED:20240129T060330Z
LAST-MODIFIED:20240129T060414Z
UID:2973-1705564800-1705597200@frasercoastdistrictbowls.com.au
SUMMARY:Burrum Heads Gunsmoke Fours
DESCRIPTION:
URL:https://frasercoastdistrictbowls.com.au/event-calendar/burrum-heads-gunsmoke-fours/
LOCATION:Burrum Heads Bowls Club\, 189 Burrum Heads Rd\, Burrum Heads\, Queensland\, 4659\, Australia
CATEGORIES:Club Event
END:VEVENT
BEGIN:VEVENT
DTSTART;TZID=Australia/Brisbane:20240117T080000
DTEND;TZID=Australia/Brisbane:20240117T170000
DTSTAMP:20260425T011450
CREATED:20240129T060055Z
LAST-MODIFIED:20240129T060055Z
UID:2971-1705478400-1705510800@frasercoastdistrictbowls.com.au
SUMMARY:Burgowan Nominated Jackpot Fours
DESCRIPTION:
URL:https://frasercoastdistrictbowls.com.au/event-calendar/burgowan-nominated-jackpot-fours-13/
LOCATION:QLD
CATEGORIES:Club Event
END:VEVENT
BEGIN:VEVENT
DTSTART;TZID=Australia/Brisbane:20240104T080000
DTEND;TZID=Australia/Brisbane:20240104T170000
DTSTAMP:20260425T011450
CREATED:20240129T055935Z
LAST-MODIFIED:20240129T055935Z
UID:2969-1704355200-1704387600@frasercoastdistrictbowls.com.au
SUMMARY:Doona Villa Meat Triples
DESCRIPTION:
URL:https://frasercoastdistrictbowls.com.au/event-calendar/doona-villa-meat-triples/
LOCATION:Doon Villa Bowls Club\, 297 Lennox St\, Maryborough\, QLD\, 4650\, Australia
CATEGORIES:Club Event
END:VEVENT
END:VCALENDAR