BEGIN:VCALENDAR
VERSION:2.0
PRODID:-//Fraser Coast District Bowls Association - ECPv6.11.2.1//NONSGML v1.0//EN
CALSCALE:GREGORIAN
METHOD:PUBLISH
X-WR-CALNAME:Fraser Coast District Bowls Association
X-ORIGINAL-URL:https://frasercoastdistrictbowls.com.au
X-WR-CALDESC:Events for Fraser Coast District Bowls Association
REFRESH-INTERVAL;VALUE=DURATION:PT1H
X-Robots-Tag:noindex
X-PUBLISHED-TTL:PT1H
BEGIN:VTIMEZONE
TZID:Australia/Brisbane
BEGIN:STANDARD
TZOFFSETFROM:+1000
TZOFFSETTO:+1000
TZNAME:AEST
DTSTART:20240101T000000
END:STANDARD
END:VTIMEZONE
BEGIN:VEVENT
DTSTART;VALUE=DATE:20241016
DTEND;VALUE=DATE:20241017
DTSTAMP:20260424T210015
CREATED:20240507T105952Z
LAST-MODIFIED:20240507T105952Z
UID:3219-1729036800-1729123199@frasercoastdistrictbowls.com.au
SUMMARY:Burgowan Nominated Jackpot Fours
DESCRIPTION:
URL:https://frasercoastdistrictbowls.com.au/event-calendar/burgowan-nominated-jackpot-fours-20/
LOCATION:Burgowan Bowls Club\, 4 George St\, Torbanlea\, QLD\, 4662\, Australia
CATEGORIES:Club Event
END:VEVENT
BEGIN:VEVENT
DTSTART;VALUE=DATE:20241013
DTEND;VALUE=DATE:20241014
DTSTAMP:20260424T210015
CREATED:20240507T105728Z
LAST-MODIFIED:20240507T105728Z
UID:3215-1728777600-1728863999@frasercoastdistrictbowls.com.au
SUMMARY:Maryborough Services Classic Mixed Triples
DESCRIPTION:
URL:https://frasercoastdistrictbowls.com.au/event-calendar/maryborough-services-classic-mixed-triples/
LOCATION:Maryborough Services Bowls Club\, Lennox St\, Maryborough\, QLD\, 4650\, Australia
CATEGORIES:Club Event
END:VEVENT
BEGIN:VEVENT
DTSTART;VALUE=DATE:20241006
DTEND;VALUE=DATE:20241007
DTSTAMP:20260424T210015
CREATED:20240507T105557Z
LAST-MODIFIED:20240507T105557Z
UID:3211-1728172800-1728259199@frasercoastdistrictbowls.com.au
SUMMARY:Burgowan Invitational Jackpot Fours
DESCRIPTION:
URL:https://frasercoastdistrictbowls.com.au/event-calendar/burgowan-invitational-jackpot-fours/
LOCATION:Burgowan Bowls Club\, 4 George St\, Torbanlea\, QLD\, 4662\, Australia
CATEGORIES:Club Event
END:VEVENT
BEGIN:VEVENT
DTSTART;VALUE=DATE:20240929
DTEND;VALUE=DATE:20240930
DTSTAMP:20260424T210015
CREATED:20240507T092011Z
LAST-MODIFIED:20240507T092011Z
UID:3201-1727568000-1727654399@frasercoastdistrictbowls.com.au
SUMMARY:Kandanga 75th Anniversary Men's Fours Live Stream
DESCRIPTION:
URL:https://frasercoastdistrictbowls.com.au/event-calendar/kandanga-75th-anniversary-mens-fours-live-stream/
LOCATION:Kandanga Bowls Club\, 4 Bowling Club Rd\, Kandanga\, QLD\, 4570\, Australia
CATEGORIES:Club Event
END:VEVENT
BEGIN:VEVENT
DTSTART;VALUE=DATE:20240928
DTEND;VALUE=DATE:20240929
DTSTAMP:20260424T210015
CREATED:20240507T092126Z
LAST-MODIFIED:20240507T092126Z
UID:3203-1727481600-1727567999@frasercoastdistrictbowls.com.au
SUMMARY:Kandanga 75th Anniversary Junior/Seniors Live Stream
DESCRIPTION:
URL:https://frasercoastdistrictbowls.com.au/event-calendar/kandanga-75th-anniversary-junior-seniors-live-stream/
LOCATION:Kandanga Bowls Club\, 4 Bowling Club Rd\, Kandanga\, QLD\, 4570\, Australia
CATEGORIES:Club Event
END:VEVENT
BEGIN:VEVENT
DTSTART;VALUE=DATE:20240928
DTEND;VALUE=DATE:20240929
DTSTAMP:20260424T210015
CREATED:20240507T091624Z
LAST-MODIFIED:20240507T091624Z
UID:3199-1727481600-1727567999@frasercoastdistrictbowls.com.au
SUMMARY:RSL Mixed Pairs at Albert BC
DESCRIPTION:
URL:https://frasercoastdistrictbowls.com.au/event-calendar/rsl-mixed-pairs-at-albert-bc/
LOCATION:The Albert Bowls Club Gympie\, River Rd\, Gympie\, QLD\, QLD 4570\, Australia
CATEGORIES:Club Event
END:VEVENT
BEGIN:VEVENT
DTSTART;VALUE=DATE:20240927
DTEND;VALUE=DATE:20240928
DTSTAMP:20260424T210015
CREATED:20240507T091500Z
LAST-MODIFIED:20240507T095314Z
UID:3197-1727395200-1727481599@frasercoastdistrictbowls.com.au
SUMMARY:Kandanga BC 75th Anniversary Open Pairs
DESCRIPTION:
URL:https://frasercoastdistrictbowls.com.au/event-calendar/kandanga-bc-75th-anniversary-open-pairs/
LOCATION:Kandanga Bowls Club\, 4 Bowling Club Rd\, Kandanga\, QLD\, 4570\, Australia
CATEGORIES:Club Event
END:VEVENT
BEGIN:VEVENT
DTSTART;VALUE=DATE:20240925
DTEND;VALUE=DATE:20240926
DTSTAMP:20260424T210015
CREATED:20240507T091155Z
LAST-MODIFIED:20240507T091155Z
UID:3195-1727222400-1727308799@frasercoastdistrictbowls.com.au
SUMMARY:Pialba Monthly Open 2 Bowl Triples
DESCRIPTION:
URL:https://frasercoastdistrictbowls.com.au/event-calendar/pialba-monthly-open-2-bowl-triples-4/
LOCATION:Pialba Bowls Club\, 56 Taylor St\, Pialba\, QLD\, 4655\, Australia
CATEGORIES:Club Event
END:VEVENT
BEGIN:VEVENT
DTSTART;VALUE=DATE:20240924
DTEND;VALUE=DATE:20240925
DTSTAMP:20260424T210015
CREATED:20240507T091106Z
LAST-MODIFIED:20240507T091106Z
UID:3193-1727136000-1727222399@frasercoastdistrictbowls.com.au
SUMMARY:MBH Jackpot 2 Bowl Triples
DESCRIPTION:
URL:https://frasercoastdistrictbowls.com.au/event-calendar/mbh-jackpot-2-bowl-triples-7/
LOCATION:Maryborough Bowls Club\, 506 Kent St\, Maryborough\, QLD\, 4650\, Australia
CATEGORIES:Club Event
END:VEVENT
BEGIN:VEVENT
DTSTART;VALUE=DATE:20240919
DTEND;VALUE=DATE:20240920
DTSTAMP:20260424T210015
CREATED:20240507T090959Z
LAST-MODIFIED:20240507T090959Z
UID:3191-1726704000-1726790399@frasercoastdistrictbowls.com.au
SUMMARY:Burrum Heads Gunsmoke Pairs
DESCRIPTION:
URL:https://frasercoastdistrictbowls.com.au/event-calendar/burrum-heads-gunsmoke-pairs-4/
LOCATION:Burrum Heads Bowls Club\, 189 Burrum Heads Rd\, Burrum Heads\, Queensland\, 4659\, Australia
CATEGORIES:Club Event
END:VEVENT
BEGIN:VEVENT
DTSTART;VALUE=DATE:20240918
DTEND;VALUE=DATE:20240919
DTSTAMP:20260424T210015
CREATED:20240507T090925Z
LAST-MODIFIED:20240507T090925Z
UID:3189-1726617600-1726703999@frasercoastdistrictbowls.com.au
SUMMARY:Burgowan Nominated Jackpot Fours
DESCRIPTION:
URL:https://frasercoastdistrictbowls.com.au/event-calendar/burgowan-nominated-jackpot-fours-19/
LOCATION:Burgowan Bowls Club\, 4 George St\, Torbanlea\, QLD\, 4662\, Australia
CATEGORIES:Club Event
END:VEVENT
BEGIN:VEVENT
DTSTART;VALUE=DATE:20240915
DTEND;VALUE=DATE:20240916
DTSTAMP:20260424T210015
CREATED:20240507T085709Z
LAST-MODIFIED:20240507T085709Z
UID:3185-1726358400-1726444799@frasercoastdistrictbowls.com.au
SUMMARY:Pomona Presidents Day
DESCRIPTION:
URL:https://frasercoastdistrictbowls.com.au/event-calendar/pomona-presidents-day/
LOCATION:Pomona Bowls Club\, 4-6 School St\, Pomona\, QLD\, 4568\, Australia
CATEGORIES:Club Event
END:VEVENT
BEGIN:VEVENT
DTSTART;VALUE=DATE:20240901
DTEND;VALUE=DATE:20240902
DTSTAMP:20260424T210015
CREATED:20240506T074321Z
LAST-MODIFIED:20240506T074321Z
UID:3171-1725148800-1725235199@frasercoastdistrictbowls.com.au
SUMMARY:Tin Can Bay Presidents Day
DESCRIPTION:
URL:https://frasercoastdistrictbowls.com.au/event-calendar/tin-can-bay-presidents-day-3/
LOCATION:Tin Can Bay Bowls Club\, Tin Can Bay\, QLD\, 4580\, Australia
CATEGORIES:Club Event
END:VEVENT
BEGIN:VEVENT
DTSTART;VALUE=DATE:20240827
DTEND;VALUE=DATE:20240828
DTSTAMP:20260424T210015
CREATED:20240506T063555Z
LAST-MODIFIED:20240506T063555Z
UID:3169-1724716800-1724803199@frasercoastdistrictbowls.com.au
SUMMARY:MBH Jackpot 2 Bowl Triples
DESCRIPTION:
URL:https://frasercoastdistrictbowls.com.au/event-calendar/mbh-jackpot-2-bowl-triples-6/
LOCATION:Maryborough Bowls Club\, 506 Kent St\, Maryborough\, QLD\, 4650\, Australia
CATEGORIES:Club Event
END:VEVENT
BEGIN:VEVENT
DTSTART;VALUE=DATE:20240825
DTEND;VALUE=DATE:20240826
DTSTAMP:20260424T210015
CREATED:20240506T063502Z
LAST-MODIFIED:20240506T063502Z
UID:3167-1724544000-1724630399@frasercoastdistrictbowls.com.au
SUMMARY:Hervey Bay Mix Triples
DESCRIPTION:
URL:https://frasercoastdistrictbowls.com.au/event-calendar/hervey-bay-mix-triples/
LOCATION:Hervey Bay Bowls Club
CATEGORIES:Club Event
END:VEVENT
BEGIN:VEVENT
DTSTART;VALUE=DATE:20240821
DTEND;VALUE=DATE:20240823
DTSTAMP:20260424T210015
CREATED:20240506T063426Z
LAST-MODIFIED:20240506T063426Z
UID:3165-1724198400-1724371199@frasercoastdistrictbowls.com.au
SUMMARY:Hervey Bay Memorial Pairs
DESCRIPTION:
URL:https://frasercoastdistrictbowls.com.au/event-calendar/hervey-bay-memorial-pairs/
LOCATION:Hervey Bay Bowls Club
CATEGORIES:Club Event
END:VEVENT
BEGIN:VEVENT
DTSTART;VALUE=DATE:20240821
DTEND;VALUE=DATE:20240822
DTSTAMP:20260424T210015
CREATED:20240506T063342Z
LAST-MODIFIED:20240506T063342Z
UID:3163-1724198400-1724284799@frasercoastdistrictbowls.com.au
SUMMARY:Burgowan Nominated Jackpot Fours
DESCRIPTION:
URL:https://frasercoastdistrictbowls.com.au/event-calendar/burgowan-nominated-jackpot-fours-18/
LOCATION:Burgowan Bowls Club\, 4 George St\, Torbanlea\, QLD\, 4662\, Australia
CATEGORIES:Club Event
END:VEVENT
BEGIN:VEVENT
DTSTART;VALUE=DATE:20240731
DTEND;VALUE=DATE:20240801
DTSTAMP:20260424T210015
CREATED:20240506T060134Z
LAST-MODIFIED:20240506T060134Z
UID:3142-1722384000-1722470399@frasercoastdistrictbowls.com.au
SUMMARY:Pialba Monthly Open 2 Bowl Triples
DESCRIPTION:
URL:https://frasercoastdistrictbowls.com.au/event-calendar/pialba-monthly-open-2-bowl-triples-3/
LOCATION:Pialba Bowls Club\, 56 Taylor St\, Pialba\, QLD\, 4655\, Australia
CATEGORIES:Club Event
END:VEVENT
BEGIN:VEVENT
DTSTART;VALUE=DATE:20240723
DTEND;VALUE=DATE:20240724
DTSTAMP:20260424T210015
CREATED:20240506T060045Z
LAST-MODIFIED:20240506T060045Z
UID:3140-1721692800-1721779199@frasercoastdistrictbowls.com.au
SUMMARY:MBH Jackpot 2 Bowl Triples
DESCRIPTION:
URL:https://frasercoastdistrictbowls.com.au/event-calendar/mbh-jackpot-2-bowl-triples-5/
LOCATION:Maryborough Bowls Club\, 506 Kent St\, Maryborough\, QLD\, 4650\, Australia
CATEGORIES:Club Event
END:VEVENT
BEGIN:VEVENT
DTSTART;VALUE=DATE:20240718
DTEND;VALUE=DATE:20240719
DTSTAMP:20260424T210015
CREATED:20240506T055959Z
LAST-MODIFIED:20240506T055959Z
UID:3138-1721260800-1721347199@frasercoastdistrictbowls.com.au
SUMMARY:Burrum Heads Gunsmoke Pairs
DESCRIPTION:
URL:https://frasercoastdistrictbowls.com.au/event-calendar/burrum-heads-gunsmoke-pairs-3/
LOCATION:QLD
CATEGORIES:Club Event
END:VEVENT
BEGIN:VEVENT
DTSTART;VALUE=DATE:20240717
DTEND;VALUE=DATE:20240718
DTSTAMP:20260424T210015
CREATED:20240506T055927Z
LAST-MODIFIED:20240506T055927Z
UID:3136-1721174400-1721260799@frasercoastdistrictbowls.com.au
SUMMARY:Burgowan Nomimated Jackpot Fours
DESCRIPTION:
URL:https://frasercoastdistrictbowls.com.au/event-calendar/burgowan-nomimated-jackpot-fours/
LOCATION:QLD
CATEGORIES:Club Event
END:VEVENT
BEGIN:VEVENT
DTSTART;VALUE=DATE:20240707
DTEND;VALUE=DATE:20240708
DTSTAMP:20260424T210015
CREATED:20240506T055655Z
LAST-MODIFIED:20240506T055655Z
UID:3126-1720310400-1720396799@frasercoastdistrictbowls.com.au
SUMMARY:Gary Evans Memorial Day
DESCRIPTION:
URL:https://frasercoastdistrictbowls.com.au/event-calendar/gary-evans-memorial-day-2/
LOCATION:Pomona Bowls Club\, 4-6 School St\, Pomona\, QLD\, 4568\, Australia
CATEGORIES:Club Event
END:VEVENT
BEGIN:VEVENT
DTSTART;VALUE=DATE:20240704
DTEND;VALUE=DATE:20240705
DTSTAMP:20260424T210015
CREATED:20240506T055515Z
LAST-MODIFIED:20240506T055515Z
UID:3122-1720051200-1720137599@frasercoastdistrictbowls.com.au
SUMMARY:Doona Villa Meat Triples
DESCRIPTION:
URL:https://frasercoastdistrictbowls.com.au/event-calendar/doona-villa-meat-triples-4/
LOCATION:Doon Villa Bowls Club\, 297 Lennox St\, Maryborough\, QLD\, 4650\, Australia
CATEGORIES:Club Event
END:VEVENT
BEGIN:VEVENT
DTSTART;VALUE=DATE:20240630
DTEND;VALUE=DATE:20240701
DTSTAMP:20260424T210015
CREATED:20240506T023124Z
LAST-MODIFIED:20240506T023124Z
UID:3118-1719705600-1719791999@frasercoastdistrictbowls.com.au
SUMMARY:Hervey Bay Mixed Triples
DESCRIPTION:
URL:https://frasercoastdistrictbowls.com.au/event-calendar/hervey-bay-mixed-triples-2/
LOCATION:Hervey Bay Bowls Club
CATEGORIES:Club Event
END:VEVENT
BEGIN:VEVENT
DTSTART;VALUE=DATE:20240625
DTEND;VALUE=DATE:20240626
DTSTAMP:20260424T210015
CREATED:20240506T023020Z
LAST-MODIFIED:20240506T023020Z
UID:3116-1719273600-1719359999@frasercoastdistrictbowls.com.au
SUMMARY:MBH Jackpot 2 Bowl Triples
DESCRIPTION:
URL:https://frasercoastdistrictbowls.com.au/event-calendar/mbh-jackpot-2-bowl-triples-4/
LOCATION:QLD
CATEGORIES:Club Event
END:VEVENT
BEGIN:VEVENT
DTSTART;VALUE=DATE:20240619
DTEND;VALUE=DATE:20240620
DTSTAMP:20260424T210015
CREATED:20240506T022807Z
LAST-MODIFIED:20240506T022807Z
UID:3112-1718755200-1718841599@frasercoastdistrictbowls.com.au
SUMMARY:Burgowan Nominated Jack Fours
DESCRIPTION:
URL:https://frasercoastdistrictbowls.com.au/event-calendar/burgowan-nominated-jack-fours/
LOCATION:Burgowan Bowls Club\, 4 George St\, Torbanlea\, QLD\, 4662\, Australia
CATEGORIES:Club Event
END:VEVENT
BEGIN:VEVENT
DTSTART;VALUE=DATE:20240615
DTEND;VALUE=DATE:20240616
DTSTAMP:20260424T210015
CREATED:20240506T022716Z
LAST-MODIFIED:20240506T022716Z
UID:3110-1718409600-1718495999@frasercoastdistrictbowls.com.au
SUMMARY:Maryborough BC Pres & Patrons Day
DESCRIPTION:
URL:https://frasercoastdistrictbowls.com.au/event-calendar/maryborough-bc-pres-patrons-day/
LOCATION:Maryborough Bowls Club\, 506 Kent St\, Maryborough\, QLD\, 4650\, Australia
CATEGORIES:Club Event
END:VEVENT
BEGIN:VEVENT
DTSTART;VALUE=DATE:20240607
DTEND;VALUE=DATE:20240610
DTSTAMP:20260424T210015
CREATED:20240506T022313Z
LAST-MODIFIED:20240506T022313Z
UID:3104-1717718400-1717977599@frasercoastdistrictbowls.com.au
SUMMARY:Burrum Heads 3 Day Invitational
DESCRIPTION:
URL:https://frasercoastdistrictbowls.com.au/event-calendar/burrum-heads-3-day-invitational/
LOCATION:Burrum Heads Bowls Club\, 189 Burrum Heads Rd\, Burrum Heads\, Queensland\, 4659\, Australia
CATEGORIES:Club Event
END:VEVENT
BEGIN:VEVENT
DTSTART;VALUE=DATE:20240606
DTEND;VALUE=DATE:20240607
DTSTAMP:20260424T210015
CREATED:20240506T022211Z
LAST-MODIFIED:20240506T022211Z
UID:3102-1717632000-1717718399@frasercoastdistrictbowls.com.au
SUMMARY:Doon Villa Meat Triples
DESCRIPTION:
URL:https://frasercoastdistrictbowls.com.au/event-calendar/doon-villa-meat-triples-3/
LOCATION:Doon Villa Bowls Club\, 297 Lennox St\, Maryborough\, QLD\, 4650\, Australia
CATEGORIES:Club Event
END:VEVENT
BEGIN:VEVENT
DTSTART;VALUE=DATE:20240601
DTEND;VALUE=DATE:20240602
DTSTAMP:20260424T210015
CREATED:20240506T011413Z
LAST-MODIFIED:20240506T011413Z
UID:3097-1717200000-1717286399@frasercoastdistrictbowls.com.au
SUMMARY:Burgowan President & Patrons Day
DESCRIPTION:
URL:https://frasercoastdistrictbowls.com.au/event-calendar/burgowan-president-patrons-day-3/
LOCATION:Burgowan Bowls Club\, 4 George St\, Torbanlea\, QLD\, 4662\, Australia
CATEGORIES:Club Event
END:VEVENT
END:VCALENDAR