BEGIN:VCALENDAR
VERSION:2.0
PRODID:-//Fraser Coast District Bowls Association - ECPv6.11.2.1//NONSGML v1.0//EN
CALSCALE:GREGORIAN
METHOD:PUBLISH
X-ORIGINAL-URL:https://frasercoastdistrictbowls.com.au
X-WR-CALDESC:Events for Fraser Coast District Bowls Association
REFRESH-INTERVAL;VALUE=DURATION:PT1H
X-Robots-Tag:noindex
X-PUBLISHED-TTL:PT1H
BEGIN:VTIMEZONE
TZID:Australia/Brisbane
BEGIN:STANDARD
TZOFFSETFROM:+1000
TZOFFSETTO:+1000
TZNAME:AEST
DTSTART:20230101T000000
END:STANDARD
END:VTIMEZONE
BEGIN:VEVENT
DTSTART;TZID=Australia/Brisbane:20230818T080000
DTEND;TZID=Australia/Brisbane:20230820T170000
DTSTAMP:20260425T090758
CREATED:20230130T041249Z
LAST-MODIFIED:20230130T041249Z
UID:2816-1692345600-1692550800@frasercoastdistrictbowls.com.au
SUMMARY:Cooloola Coast Winter Carnival
DESCRIPTION:
URL:https://frasercoastdistrictbowls.com.au/event-calendar/cooloola-coast-winter-carnival-2/
LOCATION:Cooloola Bowls Club\, QLD\, Australia
CATEGORIES:Club Event
END:VEVENT
BEGIN:VEVENT
DTSTART;TZID=Australia/Brisbane:20230816T080000
DTEND;TZID=Australia/Brisbane:20230816T170000
DTSTAMP:20260425T090758
CREATED:20230127T011737Z
LAST-MODIFIED:20230127T011737Z
UID:2675-1692172800-1692205200@frasercoastdistrictbowls.com.au
SUMMARY:Burgowan Nominated Jackpot Fours
DESCRIPTION:
URL:https://frasercoastdistrictbowls.com.au/event-calendar/burgowan-nominated-jackpot-fours-8/
LOCATION:Burgowan Bowls Club\, 4 George St\, Torbanlea\, QLD\, 4662\, Australia
CATEGORIES:Club Event
END:VEVENT
BEGIN:VEVENT
DTSTART;TZID=Australia/Brisbane:20230726T080000
DTEND;TZID=Australia/Brisbane:20230726T170000
DTSTAMP:20260425T090758
CREATED:20230127T011303Z
LAST-MODIFIED:20230127T011303Z
UID:2657-1690358400-1690390800@frasercoastdistrictbowls.com.au
SUMMARY:Pialba's 1 Day Open 3 Bowl Pairs
DESCRIPTION:
URL:https://frasercoastdistrictbowls.com.au/event-calendar/pialbas-1-day-open-3-bowl-pairs-12/
LOCATION:Pialba Bowls Club\, 56 Taylor St\, Pialba\, QLD\, 4655\, Australia
CATEGORIES:Club Event
END:VEVENT
BEGIN:VEVENT
DTSTART;TZID=Australia/Brisbane:20230723T080000
DTEND;TZID=Australia/Brisbane:20230723T170000
DTSTAMP:20260425T090758
CREATED:20230308T080713Z
LAST-MODIFIED:20230308T080713Z
UID:2904-1690099200-1690131600@frasercoastdistrictbowls.com.au
SUMMARY:Maryborough Pres/Patrons Day
DESCRIPTION:
URL:https://frasercoastdistrictbowls.com.au/event-calendar/maryborough-pres-patrons-day-2/
LOCATION:Maryborough Bowls Club\, 506 Kent St\, Maryborough\, QLD\, 4650\, Australia
CATEGORIES:Club Event
END:VEVENT
BEGIN:VEVENT
DTSTART;TZID=Australia/Brisbane:20230719T080000
DTEND;TZID=Australia/Brisbane:20230719T170000
DTSTAMP:20260425T090758
CREATED:20230127T011719Z
LAST-MODIFIED:20230127T011719Z
UID:2673-1689753600-1689786000@frasercoastdistrictbowls.com.au
SUMMARY:Burgowan Nominated Jackpot Fours
DESCRIPTION:
URL:https://frasercoastdistrictbowls.com.au/event-calendar/burgowan-nominated-jackpot-fours-7/
LOCATION:Burgowan Bowls Club\, 4 George St\, Torbanlea\, QLD\, 4662\, Australia
CATEGORIES:Club Event
END:VEVENT
BEGIN:VEVENT
DTSTART;TZID=Australia/Brisbane:20230702T100000
DTEND;TZID=Australia/Brisbane:20230702T170000
DTSTAMP:20260425T090758
CREATED:20230605T013013Z
LAST-MODIFIED:20230605T034059Z
UID:2920-1688292000-1688317200@frasercoastdistrictbowls.com.au
SUMMARY:Gary Evans Memorial day
DESCRIPTION:Open Fours – $120 per team\nGary Evans Memorial day \n\n2 games of 16 ends\nLunch included\n\n1st $480\n2nd $360\n3rd $160\nEntries Close on 30th June 2023. To register call John Bawden on 0447 191 699  OR Email:  jcbawden@bigpond.com \n6 School Street\, Pomona. Qld. 4568 \nClub reserves the right to cancel or reduce prizes if insufficient teams.
URL:https://frasercoastdistrictbowls.com.au/event-calendar/gary-evans-memorial-day/
LOCATION:QLD
CATEGORIES:Club Event
ATTACH;FMTTYPE=image/jpeg:https://frasercoastdistrictbowls.com.au/wp-content/uploads/2023/06/Gary-Evans-Memorial-day-with-Text.jpg
END:VEVENT
BEGIN:VEVENT
DTSTART;TZID=Australia/Brisbane:20230701T080000
DTEND;TZID=Australia/Brisbane:20230701T170000
DTSTAMP:20260425T090758
CREATED:20230130T032951Z
LAST-MODIFIED:20230130T032951Z
UID:2778-1688198400-1688230800@frasercoastdistrictbowls.com.au
SUMMARY:Open Fours Day M'Boro Services
DESCRIPTION:
URL:https://frasercoastdistrictbowls.com.au/event-calendar/open-fours-day-mboro-services/
LOCATION:QLD
CATEGORIES:Club Event
END:VEVENT
BEGIN:VEVENT
DTSTART;TZID=Australia/Brisbane:20230628T080000
DTEND;TZID=Australia/Brisbane:20230628T170000
DTSTAMP:20260425T090758
CREATED:20230127T011247Z
LAST-MODIFIED:20230127T011247Z
UID:2655-1687939200-1687971600@frasercoastdistrictbowls.com.au
SUMMARY:Pialba's 1 Day Open 3 Bowl Pairs
DESCRIPTION:
URL:https://frasercoastdistrictbowls.com.au/event-calendar/pialbas-1-day-open-3-bowl-pairs-11/
LOCATION:Pialba Bowls Club\, 56 Taylor St\, Pialba\, QLD\, 4655\, Australia
CATEGORIES:Club Event
END:VEVENT
BEGIN:VEVENT
DTSTART;TZID=Australia/Brisbane:20230625T090000
DTEND;TZID=Australia/Brisbane:20230625T170000
DTSTAMP:20260425T090758
CREATED:20230508T022115Z
LAST-MODIFIED:20230508T022115Z
UID:2909-1687683600-1687712400@frasercoastdistrictbowls.com.au
SUMMARY:Beach House Hotel Super Sunday 2 Bowl Mixed Triples - Hervey Bay Bowls Club
DESCRIPTION:BEACH HOUSE HOTEL \nSuper Sunday \n25th June 2023 \nHERVEY BAY BOWLS CLUB \n2 BOWL MIXED* TRIPLES\n(* Teams must comprise at least one male & one female player) \nPRIZE MONEY $1050\nWinner – $510 : 2nd – $300 : 3rd – $150 : 4\nth – $90\nNominations $75 per Team – Light Lunch Provided \nSTART – 9:00 AM\n3 Games of 14 ends or the bell – 1 hr 50 mins\nDead Ends – re-spot to the T\nScoring: Game Wins\, then Ends\, then Margin. \nNominations Close 22nd June 2023 \nMAJOR SPONSOR: BEACH HOUSE HOTEL – SCARNESS \nFLYER \n\nDirect Debit – Hervey Bay Bowls Club\n\nBSB: 084705 NAB Account: 64-431-2237\n\n(ensure to notify Payee’s name)\n\nEmail: secretary@herveybaybowlsclub.com\n\nInquiries: Rod McMillan – Ph 41940333 or mobile 0429148405\n\n\n\n\n(Full Payment of $75 to be paid with nomination form.)\n\n\n  \n 
URL:https://frasercoastdistrictbowls.com.au/event-calendar/beach-house-hotel-super-sunday-2-bowl-mixed-triples-hervey-bay-bowls-club/
LOCATION:Hervey Bay Bowls Club
CATEGORIES:Club Event
ATTACH;FMTTYPE=image/jpeg:https://frasercoastdistrictbowls.com.au/wp-content/uploads/2023/05/Beach-House-Hotel-2-Bowls-Mixed-Triples-June-2023_page-0001.jpg
END:VEVENT
BEGIN:VEVENT
DTSTART;TZID=Australia/Brisbane:20230622T100000
DTEND;TZID=Australia/Brisbane:20230622T170000
DTSTAMP:20260425T090758
CREATED:20230607T002451Z
LAST-MODIFIED:20230607T002948Z
UID:2934-1687428000-1687453200@frasercoastdistrictbowls.com.au
SUMMARY:Pomona Bowls Club - Open Jackpot (3 Bowl) Triples
DESCRIPTION:POMONA BOWLS CLUB \nPRESENTS \nOPEN JACKPOT (3 BOWL) TRIPLES \nTHURSDAY – 22nd June \n10AM START- $60.00 Team (includes light lunch) \n\n10% OF NOMINATION GOES TO JACKPOT\nNOMS : $ 20.00 INCLUDES LIGHT LUNCH\n2 GAMES OF 12 ENDS\n\nPRIZES (DEPENDENT ON NOMS) \n1ST $300.00 \n2ND $120.00 \nClub Pomona reserves the rights to alter prize money and conditions of play if insufficient teams \nCONTACT: JOHN BAWDEN ON 0447191699 \nOR EMAIL jcbawden@bigpond.com \nPomona Bowls Club\n4/6 School Street\, Pomona. Qld. 4568\nPh: 5485-1202 \nSee flyer
URL:https://frasercoastdistrictbowls.com.au/event-calendar/pomona-bowls-club-open-jackpot-3-bowl-triples/
LOCATION:QLD
CATEGORIES:Club Event
ATTACH;FMTTYPE=image/jpeg:https://frasercoastdistrictbowls.com.au/wp-content/uploads/2023/06/Mens-flyer-triples-2_page-0001.jpg
END:VEVENT
BEGIN:VEVENT
DTSTART;TZID=Australia/Brisbane:20230621T080000
DTEND;TZID=Australia/Brisbane:20230621T170000
DTSTAMP:20260425T090758
CREATED:20230127T011707Z
LAST-MODIFIED:20230127T011707Z
UID:2671-1687334400-1687366800@frasercoastdistrictbowls.com.au
SUMMARY:Burgowan Nominated Jackpot Fours
DESCRIPTION:
URL:https://frasercoastdistrictbowls.com.au/event-calendar/burgowan-nominated-jackpot-fours-6/
LOCATION:Burgowan Bowls Club\, 4 George St\, Torbanlea\, QLD\, 4662\, Australia
CATEGORIES:Club Event
END:VEVENT
BEGIN:VEVENT
DTSTART;TZID=Australia/Brisbane:20230609T080000
DTEND;TZID=Australia/Brisbane:20230611T170000
DTSTAMP:20260425T090758
CREATED:20230130T024910Z
LAST-MODIFIED:20230130T024910Z
UID:2766-1686297600-1686502800@frasercoastdistrictbowls.com.au
SUMMARY:Burrum Heads 3 day Invitation 4's
DESCRIPTION:
URL:https://frasercoastdistrictbowls.com.au/event-calendar/burrum-heads-3-day-invitation-4s-2/
LOCATION:QLD
CATEGORIES:Club Event
END:VEVENT
BEGIN:VEVENT
DTSTART;TZID=Australia/Brisbane:20230531T080000
DTEND;TZID=Australia/Brisbane:20230531T170000
DTSTAMP:20260425T090758
CREATED:20230127T011232Z
LAST-MODIFIED:20230127T011232Z
UID:2653-1685520000-1685552400@frasercoastdistrictbowls.com.au
SUMMARY:Pialba's 1 Day Open 3 Bowl Pairs
DESCRIPTION:
URL:https://frasercoastdistrictbowls.com.au/event-calendar/pialbas-1-day-open-3-bowl-pairs-10/
LOCATION:Pialba Bowls Club\, 56 Taylor St\, Pialba\, QLD\, 4655\, Australia
CATEGORIES:Club Event
END:VEVENT
BEGIN:VEVENT
DTSTART;VALUE=DATE:20230527
DTEND;VALUE=DATE:20230529
DTSTAMP:20260425T090758
CREATED:20230125T022710Z
LAST-MODIFIED:20230125T024148Z
UID:2596-1685145600-1685318399@frasercoastdistrictbowls.com.au
SUMMARY:Hervey Bay Classic Men's Pairs - 2023
DESCRIPTION:Saturday 27th and Sunday 28th May 2023\nSATURDAY 8.50am START (3 games) / SUNDAY 8.30am START (2 games) \n3 Greens—Max 42 \nTeams ENTRY: $180 per team \n$6500 in PRIZES \n1st Prize: $2100\n2nd Prize: $1100\n3rd Prize: $850\n4th Prize: $650\n5th Prize: $440\n6thPrize: $320\n7th Prize: $240\n8th Prize: $220\n9th Prize: $200\n10th Prize $200 \nBest last game Winner by shot margin—$180 \nOne cash prize per team \nCONDITIONS1. Entry cost of $180 per team—capped at 42 teams.2. No refund of nomination fee after 13th May 20233. 5 games each of 16 ends or bell at 2hrs 20 mins4. Scoring: 10 pts for win + 1 pt per end won\, 5 pts for draw + 1 pt per end won\, 0 pts for loss + 1 pt per end won.5. No dead ends—Re–spot jack to the T6. Lunch & snacks Saturday and Sunday7. The match committee reserves the right to vary the conditions of play and conditions of prize–money if necessary \nCALCUTTA to be conducted on Friday night @ 6.00 pm 2 free tickets per team entry\, additional tickets at $2.00 each $10 Bistro Meals available from 5.30 pm\nPlease ensure that both events are marked as closed over subscribed. \nFLYER
URL:https://frasercoastdistrictbowls.com.au/event-calendar/hervey-bay-classic-mens-pairs-2023/
LOCATION:Hervey Bay Bowls Club
CATEGORIES:Club Event
END:VEVENT
BEGIN:VEVENT
DTSTART;TZID=Australia/Brisbane:20230430T080000
DTEND;TZID=Australia/Brisbane:20230430T170000
DTSTAMP:20260425T090758
CREATED:20230130T020943Z
LAST-MODIFIED:20230130T020943Z
UID:2744-1682841600-1682874000@frasercoastdistrictbowls.com.au
SUMMARY:Gympie Bowls Club	President's Day
DESCRIPTION:
URL:https://frasercoastdistrictbowls.com.au/event-calendar/gympie-bowls-clubpresidents-day/
LOCATION:The Albert Bowls Club Gympie\, River Rd\, Gympie\, QLD\, QLD 4570\, Australia
CATEGORIES:Club Event
END:VEVENT
BEGIN:VEVENT
DTSTART;TZID=Australia/Brisbane:20230429T080000
DTEND;TZID=Australia/Brisbane:20230429T170000
DTSTAMP:20260425T090758
CREATED:20230130T020523Z
LAST-MODIFIED:20230130T020523Z
UID:2742-1682755200-1682787600@frasercoastdistrictbowls.com.au
SUMMARY:Maryborough May Day Open Fours
DESCRIPTION:
URL:https://frasercoastdistrictbowls.com.au/event-calendar/maryborough-may-day-open-fours/
LOCATION:Maryborough Bowls Club\, 506 Kent St\, Maryborough\, QLD\, 4650\, Australia
CATEGORIES:Club Event
END:VEVENT
BEGIN:VEVENT
DTSTART;TZID=Australia/Brisbane:20230426T080000
DTEND;TZID=Australia/Brisbane:20230426T170000
DTSTAMP:20260425T090758
CREATED:20230127T011213Z
LAST-MODIFIED:20230127T011213Z
UID:2651-1682496000-1682528400@frasercoastdistrictbowls.com.au
SUMMARY:Pialba's 1 Day Open 3 Bowl Pairs
DESCRIPTION:
URL:https://frasercoastdistrictbowls.com.au/event-calendar/pialbas-1-day-open-3-bowl-pairs-9/
LOCATION:Pialba Bowls Club\, 56 Taylor St\, Pialba\, QLD\, 4655\, Australia
CATEGORIES:Club Event
END:VEVENT
BEGIN:VEVENT
DTSTART;TZID=Australia/Brisbane:20230424T080000
DTEND;TZID=Australia/Brisbane:20230424T170000
DTSTAMP:20260425T090758
CREATED:20230130T014756Z
LAST-MODIFIED:20230130T014857Z
UID:2740-1682323200-1682355600@frasercoastdistrictbowls.com.au
SUMMARY:Entries Close Qld Indoor Qual Rnds Women
DESCRIPTION:
URL:https://frasercoastdistrictbowls.com.au/event-calendar/entries-close-qld-indoor-qual-rnds-women/
LOCATION:QLD
CATEGORIES:Club Event
END:VEVENT
BEGIN:VEVENT
DTSTART;TZID=Australia/Brisbane:20230422T080000
DTEND;TZID=Australia/Brisbane:20230423T170000
DTSTAMP:20260425T090758
CREATED:20230130T013047Z
LAST-MODIFIED:20230130T015509Z
UID:2738-1682150400-1682269200@frasercoastdistrictbowls.com.au
SUMMARY:M'Boro Services 2 Day Mens Fours Carnival
DESCRIPTION:
URL:https://frasercoastdistrictbowls.com.au/event-calendar/mboro-services-2-day-mens-fours-carnival-2/
LOCATION:Maryborough Services Bowls Club\, Lennox St\, Maryborough\, QLD\, 4650\, Australia
CATEGORIES:Club Event
END:VEVENT
BEGIN:VEVENT
DTSTART;TZID=Australia/Brisbane:20230419T080000
DTEND;TZID=Australia/Brisbane:20230419T170000
DTSTAMP:20260425T090758
CREATED:20230127T011642Z
LAST-MODIFIED:20230127T011642Z
UID:2669-1681891200-1681923600@frasercoastdistrictbowls.com.au
SUMMARY:Burgowan Nominated Jackpot Fours
DESCRIPTION:
URL:https://frasercoastdistrictbowls.com.au/event-calendar/burgowan-nominated-jackpot-fours-5/
LOCATION:Burgowan Bowls Club\, 4 George St\, Torbanlea\, QLD\, 4662\, Australia
CATEGORIES:Club Event
END:VEVENT
BEGIN:VEVENT
DTSTART;TZID=Australia/Brisbane:20230414T080000
DTEND;TZID=Australia/Brisbane:20230414T170000
DTSTAMP:20260425T090758
CREATED:20230130T010754Z
LAST-MODIFIED:20230130T015251Z
UID:2729-1681459200-1681491600@frasercoastdistrictbowls.com.au
SUMMARY:Entries Close Qld Indoor Qual Rnds Men
DESCRIPTION:
URL:https://frasercoastdistrictbowls.com.au/event-calendar/entries-close-qld-indoor-qual-rnds-men/
LOCATION:QLD
CATEGORIES:Club Event
END:VEVENT
BEGIN:VEVENT
DTSTART;TZID=Australia/Brisbane:20230414T080000
DTEND;TZID=Australia/Brisbane:20230414T170000
DTSTAMP:20260425T090758
CREATED:20230130T010024Z
LAST-MODIFIED:20230130T015323Z
UID:2727-1681459200-1681491600@frasercoastdistrictbowls.com.au
SUMMARY:Pialba's Easter Monday 1 Day Open Pairs Carnival Men
DESCRIPTION:
URL:https://frasercoastdistrictbowls.com.au/event-calendar/pialbas-easter-monday-1-day-open-pairs-carnival-2/
LOCATION:Pialba Bowls Club\, 56 Taylor St\, Pialba\, QLD\, 4655\, Australia
CATEGORIES:Club Event
ORGANIZER;CN="PIALBA BOWLS CLUB":MAILTO:bowls@pialbabowls.com.au
END:VEVENT
BEGIN:VEVENT
DTSTART;TZID=Australia/Brisbane:20230408T080000
DTEND;TZID=Australia/Brisbane:20230409T170000
DTSTAMP:20260425T090758
CREATED:20230130T003822Z
LAST-MODIFIED:20230130T014929Z
UID:2721-1680940800-1681059600@frasercoastdistrictbowls.com.au
SUMMARY:Kenilworth Easter Carnival
DESCRIPTION:
URL:https://frasercoastdistrictbowls.com.au/event-calendar/kenilworth-easter-carnival-3/
LOCATION:Kenilworth Bowls Club\, Kenilworth\, QLD\, 4574\, Australia
CATEGORIES:Club Event
END:VEVENT
BEGIN:VEVENT
DTSTART;TZID=Australia/Brisbane:20230408T080000
DTEND;TZID=Australia/Brisbane:20230409T170000
DTSTAMP:20260425T090758
CREATED:20230130T003010Z
LAST-MODIFIED:20230130T014955Z
UID:2719-1680940800-1681059600@frasercoastdistrictbowls.com.au
SUMMARY:Urangan Easter Mixed Fours Carnival
DESCRIPTION:
URL:https://frasercoastdistrictbowls.com.au/event-calendar/urangan-easter-mixed-fours-carnival-2/
LOCATION:Urangan Bowls Club\, Margaret St & Dayman Street\, Urangan\, QLD\, 4655\, Australia
CATEGORIES:Club Event
ORGANIZER;CN="Urangan Bowls Club":MAILTO:mens-section@uranganbowlsclub.org.au
END:VEVENT
BEGIN:VEVENT
DTSTART;TZID=Australia/Brisbane:20230404T080000
DTEND;TZID=Australia/Brisbane:20230404T170000
DTSTAMP:20260425T090758
CREATED:20230130T000647Z
LAST-MODIFIED:20230130T014911Z
UID:2710-1680595200-1680627600@frasercoastdistrictbowls.com.au
SUMMARY:Doon Villa's Seafood Day 4's Day
DESCRIPTION:
URL:https://frasercoastdistrictbowls.com.au/event-calendar/doon-villas-seafood-day-4s-day-2/
LOCATION:Doon Villa Bowls Club\, 297 Lennox St\, Maryborough\, QLD\, 4650\, Australia
CATEGORIES:Club Event
END:VEVENT
BEGIN:VEVENT
DTSTART;TZID=Australia/Brisbane:20230329T080000
DTEND;TZID=Australia/Brisbane:20230329T170000
DTSTAMP:20260425T090758
CREATED:20230127T011153Z
LAST-MODIFIED:20230127T011153Z
UID:2649-1680076800-1680109200@frasercoastdistrictbowls.com.au
SUMMARY:Pialba's 1 Day Open 3 Bowl Pairs
DESCRIPTION:
URL:https://frasercoastdistrictbowls.com.au/event-calendar/pialbas-1-day-open-3-bowl-pairs-8/
LOCATION:Pialba Bowls Club\, 56 Taylor St\, Pialba\, QLD\, 4655\, Australia
CATEGORIES:Club Event
END:VEVENT
BEGIN:VEVENT
DTSTART;TZID=Australia/Brisbane:20230319T080000
DTEND;TZID=Australia/Brisbane:20230319T170000
DTSTAMP:20260425T090758
CREATED:20230127T012629Z
LAST-MODIFIED:20230127T012629Z
UID:2704-1679212800-1679245200@frasercoastdistrictbowls.com.au
SUMMARY:Kilkivans Mixed Triples Day
DESCRIPTION:
URL:https://frasercoastdistrictbowls.com.au/event-calendar/kilkivans-mixed-triples-day/
LOCATION:QLD
CATEGORIES:Club Event
END:VEVENT
BEGIN:VEVENT
DTSTART;TZID=Australia/Brisbane:20230315T080000
DTEND;TZID=Australia/Brisbane:20230315T170000
DTSTAMP:20260425T090758
CREATED:20230127T011628Z
LAST-MODIFIED:20230127T011628Z
UID:2667-1678867200-1678899600@frasercoastdistrictbowls.com.au
SUMMARY:Burgowan Nominated Jackpot Fours
DESCRIPTION:
URL:https://frasercoastdistrictbowls.com.au/event-calendar/burgowan-nominated-jackpot-fours-4/
LOCATION:Burgowan Bowls Club\, 4 George St\, Torbanlea\, QLD\, 4662\, Australia
CATEGORIES:Club Event
END:VEVENT
BEGIN:VEVENT
DTSTART;TZID=Australia/Brisbane:20230222T080000
DTEND;TZID=Australia/Brisbane:20230222T170000
DTSTAMP:20260425T090758
CREATED:20230127T011120Z
LAST-MODIFIED:20230127T011120Z
UID:2647-1677052800-1677085200@frasercoastdistrictbowls.com.au
SUMMARY:Pialba's 1 Day Open 3 Bowl Pairs
DESCRIPTION:
URL:https://frasercoastdistrictbowls.com.au/event-calendar/pialbas-1-day-open-3-bowl-pairs-7/
LOCATION:Pialba Bowls Club\, 56 Taylor St\, Pialba\, QLD\, 4655\, Australia
CATEGORIES:Club Event
END:VEVENT
BEGIN:VEVENT
DTSTART;TZID=Australia/Brisbane:20230215T080000
DTEND;TZID=Australia/Brisbane:20230215T170000
DTSTAMP:20260425T090758
CREATED:20230127T011524Z
LAST-MODIFIED:20230127T011536Z
UID:2665-1676448000-1676480400@frasercoastdistrictbowls.com.au
SUMMARY:Burgowan Nominated Jackpot Fours
DESCRIPTION:
URL:https://frasercoastdistrictbowls.com.au/event-calendar/burgowan-nominated-jackpot-fours-3/
LOCATION:Burgowan Bowls Club\, 4 George St\, Torbanlea\, QLD\, 4662\, Australia
CATEGORIES:Club Event
END:VEVENT
END:VCALENDAR