BEGIN:VCALENDAR
VERSION:2.0
PRODID:-//Fraser Coast District Bowls Association - ECPv6.11.2.1//NONSGML v1.0//EN
CALSCALE:GREGORIAN
METHOD:PUBLISH
X-ORIGINAL-URL:https://frasercoastdistrictbowls.com.au
X-WR-CALDESC:Events for Fraser Coast District Bowls Association
REFRESH-INTERVAL;VALUE=DURATION:PT1H
X-Robots-Tag:noindex
X-PUBLISHED-TTL:PT1H
BEGIN:VTIMEZONE
TZID:Australia/Brisbane
BEGIN:STANDARD
TZOFFSETFROM:+1000
TZOFFSETTO:+1000
TZNAME:AEST
DTSTART:20240101T000000
END:STANDARD
END:VTIMEZONE
BEGIN:VEVENT
DTSTART;VALUE=DATE:20241218
DTEND;VALUE=DATE:20241219
DTSTAMP:20260420T182834
CREATED:20240507T223259Z
LAST-MODIFIED:20240507T223259Z
UID:3273-1734480000-1734566399@frasercoastdistrictbowls.com.au
SUMMARY:Burgowan Nominated Jackpot Fours
DESCRIPTION:
URL:https://frasercoastdistrictbowls.com.au/event-calendar/burgowan-nominated-jackpot-fours-22/
LOCATION:Burgowan Bowls Club\, 4 George St\, Torbanlea\, QLD\, 4662\, Australia
CATEGORIES:Club Event
END:VEVENT
BEGIN:VEVENT
DTSTART;VALUE=DATE:20241218
DTEND;VALUE=DATE:20241219
DTSTAMP:20260420T182834
CREATED:20240507T223222Z
LAST-MODIFIED:20240507T223222Z
UID:3271-1734480000-1734566399@frasercoastdistrictbowls.com.au
SUMMARY:Pialba Monthly Open 2 Bowl Triples
DESCRIPTION:
URL:https://frasercoastdistrictbowls.com.au/event-calendar/pialba-monthly-open-2-bowl-triples-5/
LOCATION:Pialba Bowls Club\, 56 Taylor St\, Pialba\, QLD\, 4655\, Australia
CATEGORIES:Club Event
END:VEVENT
BEGIN:VEVENT
DTSTART;VALUE=DATE:20241215
DTEND;VALUE=DATE:20241216
DTSTAMP:20260420T182834
CREATED:20240507T223130Z
LAST-MODIFIED:20240507T223130Z
UID:3269-1734220800-1734307199@frasercoastdistrictbowls.com.au
SUMMARY:Hervey Bay
DESCRIPTION:
URL:https://frasercoastdistrictbowls.com.au/event-calendar/hervey-bay/
LOCATION:Hervey Bay Bowls Club
CATEGORIES:Club Event
END:VEVENT
BEGIN:VEVENT
DTSTART;VALUE=DATE:20241207
DTEND;VALUE=DATE:20241209
DTSTAMP:20260420T182834
CREATED:20240507T223058Z
LAST-MODIFIED:20240507T223058Z
UID:3267-1733529600-1733702399@frasercoastdistrictbowls.com.au
SUMMARY:Urungan Men's Fours Carnival
DESCRIPTION:
URL:https://frasercoastdistrictbowls.com.au/event-calendar/urungan-mens-fours-carnival/
LOCATION:Urangan Bowls Club\, Margaret St & Dayman Street\, Urangan\, QLD\, 4655\, Australia
CATEGORIES:Club Event
END:VEVENT
BEGIN:VEVENT
DTSTART;VALUE=DATE:20241205
DTEND;VALUE=DATE:20241206
DTSTAMP:20260420T182834
CREATED:20240507T223016Z
LAST-MODIFIED:20240507T223016Z
UID:3265-1733356800-1733443199@frasercoastdistrictbowls.com.au
SUMMARY:Doona Villa Meat Triples
DESCRIPTION:
URL:https://frasercoastdistrictbowls.com.au/event-calendar/doona-villa-meat-triples-6/
LOCATION:Doon Villa Bowls Club\, 297 Lennox St\, Maryborough\, QLD\, 4650\, Australia
CATEGORIES:Club Event
END:VEVENT
BEGIN:VEVENT
DTSTART;VALUE=DATE:20241201
DTEND;VALUE=DATE:20241202
DTSTAMP:20260420T182834
CREATED:20240507T110347Z
LAST-MODIFIED:20240912T225853Z
UID:3227-1733011200-1733097599@frasercoastdistrictbowls.com.au
SUMMARY:Burrum Heads Seafood Day
DESCRIPTION:Moved from 20 Oct to 1 Dec
URL:https://frasercoastdistrictbowls.com.au/event-calendar/burrum-head-seafood/
LOCATION:Burrum Heads Bowls Club\, 189 Burrum Heads Rd\, Burrum Heads\, Queensland\, 4659\, Australia
CATEGORIES:Club Event
END:VEVENT
BEGIN:VEVENT
DTSTART;VALUE=DATE:20241130
DTEND;VALUE=DATE:20241202
DTSTAMP:20260420T182834
CREATED:20240507T222810Z
LAST-MODIFIED:20240507T222845Z
UID:3261-1732924800-1733097599@frasercoastdistrictbowls.com.au
SUMMARY:Pialba Classic Men's Fours Carnival
DESCRIPTION:
URL:https://frasercoastdistrictbowls.com.au/event-calendar/pialba-classic-mens-fours-carnival/
LOCATION:Pialba Bowls Club\, 56 Taylor St\, Pialba\, QLD\, 4655\, Australia
CATEGORIES:Club Event
END:VEVENT
BEGIN:VEVENT
DTSTART;VALUE=DATE:20241129
DTEND;VALUE=DATE:20241130
DTSTAMP:20260420T182834
CREATED:20240507T222737Z
LAST-MODIFIED:20240507T222737Z
UID:3259-1732838400-1732924799@frasercoastdistrictbowls.com.au
SUMMARY:Pialba Pairs Prelude
DESCRIPTION:
URL:https://frasercoastdistrictbowls.com.au/event-calendar/pialba-pairs-prelude/
LOCATION:Pialba Bowls Club\, 56 Taylor St\, Pialba\, QLD\, 4655\, Australia
CATEGORIES:Club Event
END:VEVENT
BEGIN:VEVENT
DTSTART;VALUE=DATE:20241126
DTEND;VALUE=DATE:20241127
DTSTAMP:20260420T182834
CREATED:20240507T222654Z
LAST-MODIFIED:20240507T222654Z
UID:3257-1732579200-1732665599@frasercoastdistrictbowls.com.au
SUMMARY:MBH Jackpot 2 Bowl Triples
DESCRIPTION:
URL:https://frasercoastdistrictbowls.com.au/event-calendar/mbh-jackpot-2-bowl-triples-9/
LOCATION:Maryborough Bowls Club\, 506 Kent St\, Maryborough\, QLD\, 4650\, Australia
CATEGORIES:Club Event
END:VEVENT
BEGIN:VEVENT
DTSTART;VALUE=DATE:20241123
DTEND;VALUE=DATE:20241125
DTSTAMP:20260420T182834
CREATED:20240507T222608Z
LAST-MODIFIED:20240507T222608Z
UID:3255-1732320000-1732492799@frasercoastdistrictbowls.com.au
SUMMARY:Maryborough Services Weekend Fantastic
DESCRIPTION:
URL:https://frasercoastdistrictbowls.com.au/event-calendar/maryborough-services-weekend-fantastic/
LOCATION:Maryborough Services Bowls Club\, Lennox St\, Maryborough\, QLD\, 4650\, Australia
CATEGORIES:Club Event
END:VEVENT
BEGIN:VEVENT
DTSTART;VALUE=DATE:20241121
DTEND;VALUE=DATE:20241122
DTSTAMP:20260420T182834
CREATED:20240507T222523Z
LAST-MODIFIED:20240507T222523Z
UID:3253-1732147200-1732233599@frasercoastdistrictbowls.com.au
SUMMARY:Burrum Heads Gunsmoke Pairs
DESCRIPTION:
URL:https://frasercoastdistrictbowls.com.au/event-calendar/burrum-heads-gunsmoke-pairs-5/
LOCATION:Burrum Heads Bowls Club\, 189 Burrum Heads Rd\, Burrum Heads\, Queensland\, 4659\, Australia
CATEGORIES:Club Event
END:VEVENT
BEGIN:VEVENT
DTSTART;VALUE=DATE:20241120
DTEND;VALUE=DATE:20241121
DTSTAMP:20260420T182834
CREATED:20240507T222435Z
LAST-MODIFIED:20240507T222435Z
UID:3251-1732060800-1732147199@frasercoastdistrictbowls.com.au
SUMMARY:Burgowan Nominated Jackpot Fours
DESCRIPTION:
URL:https://frasercoastdistrictbowls.com.au/event-calendar/burgowan-nominated-jackpot-fours-21/
LOCATION:Burgowan Bowls Club\, 4 George St\, Torbanlea\, QLD\, 4662\, Australia
CATEGORIES:Club Event
END:VEVENT
BEGIN:VEVENT
DTSTART;VALUE=DATE:20241116
DTEND;VALUE=DATE:20241118
DTSTAMP:20260420T182834
CREATED:20240507T221236Z
LAST-MODIFIED:20240507T221340Z
UID:3245-1731715200-1731887999@frasercoastdistrictbowls.com.au
SUMMARY:Kandanga Men's Invitational Fours
DESCRIPTION:
URL:https://frasercoastdistrictbowls.com.au/event-calendar/kandanga-mens-invitational-fours/
LOCATION:Kandanga Bowls Club\, 4 Bowling Club Rd\, Kandanga\, QLD\, 4570\, Australia
CATEGORIES:Club Event
END:VEVENT
BEGIN:VEVENT
DTSTART;VALUE=DATE:20241107
DTEND;VALUE=DATE:20241108
DTSTAMP:20260420T182834
CREATED:20240507T221121Z
LAST-MODIFIED:20240507T221121Z
UID:3243-1730937600-1731023999@frasercoastdistrictbowls.com.au
SUMMARY:Doona Villa Meat Triples
DESCRIPTION:
URL:https://frasercoastdistrictbowls.com.au/event-calendar/doona-villa-meat-triples-5/
LOCATION:Doon Villa Bowls Club\, 297 Lennox St\, Maryborough\, QLD\, 4650\, Australia
CATEGORIES:Club Event
END:VEVENT
BEGIN:VEVENT
DTSTART;VALUE=DATE:20241103
DTEND;VALUE=DATE:20241104
DTSTAMP:20260420T182834
CREATED:20240507T221029Z
LAST-MODIFIED:20240507T221029Z
UID:3241-1730592000-1730678399@frasercoastdistrictbowls.com.au
SUMMARY:Maryborough 1 Day Open Triples Carnival
DESCRIPTION:
URL:https://frasercoastdistrictbowls.com.au/event-calendar/maryborough-1-day-open-triples-carnival-3/
LOCATION:Maryborough Bowls Club\, 506 Kent St\, Maryborough\, QLD\, 4650\, Australia
CATEGORIES:Club Event
END:VEVENT
BEGIN:VEVENT
DTSTART;VALUE=DATE:20241027
DTEND;VALUE=DATE:20241028
DTSTAMP:20260420T182834
CREATED:20240507T110739Z
LAST-MODIFIED:20240507T110739Z
UID:3237-1729987200-1730073599@frasercoastdistrictbowls.com.au
SUMMARY:Hervey Bay Mixed Triples
DESCRIPTION:
URL:https://frasercoastdistrictbowls.com.au/event-calendar/hervey-bay-mixed-triples-3/
LOCATION:Hervey Bay Bowls Club
CATEGORIES:Club Event
END:VEVENT
BEGIN:VEVENT
DTSTART;VALUE=DATE:20241026
DTEND;VALUE=DATE:20241027
DTSTAMP:20260420T182834
CREATED:20240507T110654Z
LAST-MODIFIED:20240507T110654Z
UID:3235-1729900800-1729987199@frasercoastdistrictbowls.com.au
SUMMARY:Maryborough Services Presidents Day
DESCRIPTION:
URL:https://frasercoastdistrictbowls.com.au/event-calendar/maryborough-services-presidents-day/
LOCATION:Maryborough Services Bowls Club\, Lennox St\, Maryborough\, QLD\, 4650\, Australia
CATEGORIES:Club Event
END:VEVENT
BEGIN:VEVENT
DTSTART;VALUE=DATE:20241022
DTEND;VALUE=DATE:20241023
DTSTAMP:20260420T182834
CREATED:20240507T110530Z
LAST-MODIFIED:20240507T110530Z
UID:3231-1729555200-1729641599@frasercoastdistrictbowls.com.au
SUMMARY:MBH Jackpot 2 Bowl Triples
DESCRIPTION:
URL:https://frasercoastdistrictbowls.com.au/event-calendar/mbh-jackpot-2-bowl-triples-8/
LOCATION:Maryborough Bowls Club\, 506 Kent St\, Maryborough\, QLD\, 4650\, Australia
CATEGORIES:Club Event
END:VEVENT
BEGIN:VEVENT
DTSTART;VALUE=DATE:20241020
DTEND;VALUE=DATE:20241021
DTSTAMP:20260420T182834
CREATED:20240507T110436Z
LAST-MODIFIED:20240507T110436Z
UID:3229-1729382400-1729468799@frasercoastdistrictbowls.com.au
SUMMARY:Pomona 75th Anniversary Day
DESCRIPTION:
URL:https://frasercoastdistrictbowls.com.au/event-calendar/pomona-75th-anniversary-day/
LOCATION:Pomona Bowls Club\, 4-6 School St\, Pomona\, QLD\, 4568\, Australia
CATEGORIES:Club Event
END:VEVENT
BEGIN:VEVENT
DTSTART;VALUE=DATE:20241017
DTEND;VALUE=DATE:20241018
DTSTAMP:20260420T182834
CREATED:20240507T110039Z
LAST-MODIFIED:20240507T110039Z
UID:3221-1729123200-1729209599@frasercoastdistrictbowls.com.au
SUMMARY:Cooloola Coast BC Spring Carnival
DESCRIPTION:
URL:https://frasercoastdistrictbowls.com.au/event-calendar/cooloola-coast-bc-spring-carnival/
LOCATION:Cooloola Bowls Club\, QLD\, Australia
CATEGORIES:Club Event
END:VEVENT
BEGIN:VEVENT
DTSTART;VALUE=DATE:20241016
DTEND;VALUE=DATE:20241017
DTSTAMP:20260420T182834
CREATED:20240507T105952Z
LAST-MODIFIED:20240507T105952Z
UID:3219-1729036800-1729123199@frasercoastdistrictbowls.com.au
SUMMARY:Burgowan Nominated Jackpot Fours
DESCRIPTION:
URL:https://frasercoastdistrictbowls.com.au/event-calendar/burgowan-nominated-jackpot-fours-20/
LOCATION:Burgowan Bowls Club\, 4 George St\, Torbanlea\, QLD\, 4662\, Australia
CATEGORIES:Club Event
END:VEVENT
BEGIN:VEVENT
DTSTART;VALUE=DATE:20241013
DTEND;VALUE=DATE:20241014
DTSTAMP:20260420T182834
CREATED:20240507T105728Z
LAST-MODIFIED:20240507T105728Z
UID:3215-1728777600-1728863999@frasercoastdistrictbowls.com.au
SUMMARY:Maryborough Services Classic Mixed Triples
DESCRIPTION:
URL:https://frasercoastdistrictbowls.com.au/event-calendar/maryborough-services-classic-mixed-triples/
LOCATION:Maryborough Services Bowls Club\, Lennox St\, Maryborough\, QLD\, 4650\, Australia
CATEGORIES:Club Event
END:VEVENT
BEGIN:VEVENT
DTSTART;VALUE=DATE:20241006
DTEND;VALUE=DATE:20241007
DTSTAMP:20260420T182834
CREATED:20240507T105557Z
LAST-MODIFIED:20240507T105557Z
UID:3211-1728172800-1728259199@frasercoastdistrictbowls.com.au
SUMMARY:Burgowan Invitational Jackpot Fours
DESCRIPTION:
URL:https://frasercoastdistrictbowls.com.au/event-calendar/burgowan-invitational-jackpot-fours/
LOCATION:Burgowan Bowls Club\, 4 George St\, Torbanlea\, QLD\, 4662\, Australia
CATEGORIES:Club Event
END:VEVENT
BEGIN:VEVENT
DTSTART;VALUE=DATE:20240929
DTEND;VALUE=DATE:20240930
DTSTAMP:20260420T182834
CREATED:20240507T092011Z
LAST-MODIFIED:20240507T092011Z
UID:3201-1727568000-1727654399@frasercoastdistrictbowls.com.au
SUMMARY:Kandanga 75th Anniversary Men's Fours Live Stream
DESCRIPTION:
URL:https://frasercoastdistrictbowls.com.au/event-calendar/kandanga-75th-anniversary-mens-fours-live-stream/
LOCATION:Kandanga Bowls Club\, 4 Bowling Club Rd\, Kandanga\, QLD\, 4570\, Australia
CATEGORIES:Club Event
END:VEVENT
BEGIN:VEVENT
DTSTART;VALUE=DATE:20240928
DTEND;VALUE=DATE:20240929
DTSTAMP:20260420T182834
CREATED:20240507T092126Z
LAST-MODIFIED:20240507T092126Z
UID:3203-1727481600-1727567999@frasercoastdistrictbowls.com.au
SUMMARY:Kandanga 75th Anniversary Junior/Seniors Live Stream
DESCRIPTION:
URL:https://frasercoastdistrictbowls.com.au/event-calendar/kandanga-75th-anniversary-junior-seniors-live-stream/
LOCATION:Kandanga Bowls Club\, 4 Bowling Club Rd\, Kandanga\, QLD\, 4570\, Australia
CATEGORIES:Club Event
END:VEVENT
BEGIN:VEVENT
DTSTART;VALUE=DATE:20240928
DTEND;VALUE=DATE:20240929
DTSTAMP:20260420T182834
CREATED:20240507T091624Z
LAST-MODIFIED:20240507T091624Z
UID:3199-1727481600-1727567999@frasercoastdistrictbowls.com.au
SUMMARY:RSL Mixed Pairs at Albert BC
DESCRIPTION:
URL:https://frasercoastdistrictbowls.com.au/event-calendar/rsl-mixed-pairs-at-albert-bc/
LOCATION:The Albert Bowls Club Gympie\, River Rd\, Gympie\, QLD\, QLD 4570\, Australia
CATEGORIES:Club Event
END:VEVENT
BEGIN:VEVENT
DTSTART;VALUE=DATE:20240927
DTEND;VALUE=DATE:20240928
DTSTAMP:20260420T182834
CREATED:20240507T091500Z
LAST-MODIFIED:20240507T095314Z
UID:3197-1727395200-1727481599@frasercoastdistrictbowls.com.au
SUMMARY:Kandanga BC 75th Anniversary Open Pairs
DESCRIPTION:
URL:https://frasercoastdistrictbowls.com.au/event-calendar/kandanga-bc-75th-anniversary-open-pairs/
LOCATION:Kandanga Bowls Club\, 4 Bowling Club Rd\, Kandanga\, QLD\, 4570\, Australia
CATEGORIES:Club Event
END:VEVENT
BEGIN:VEVENT
DTSTART;VALUE=DATE:20240925
DTEND;VALUE=DATE:20240926
DTSTAMP:20260420T182834
CREATED:20240507T091155Z
LAST-MODIFIED:20240507T091155Z
UID:3195-1727222400-1727308799@frasercoastdistrictbowls.com.au
SUMMARY:Pialba Monthly Open 2 Bowl Triples
DESCRIPTION:
URL:https://frasercoastdistrictbowls.com.au/event-calendar/pialba-monthly-open-2-bowl-triples-4/
LOCATION:Pialba Bowls Club\, 56 Taylor St\, Pialba\, QLD\, 4655\, Australia
CATEGORIES:Club Event
END:VEVENT
BEGIN:VEVENT
DTSTART;VALUE=DATE:20240924
DTEND;VALUE=DATE:20240925
DTSTAMP:20260420T182834
CREATED:20240507T091106Z
LAST-MODIFIED:20240507T091106Z
UID:3193-1727136000-1727222399@frasercoastdistrictbowls.com.au
SUMMARY:MBH Jackpot 2 Bowl Triples
DESCRIPTION:
URL:https://frasercoastdistrictbowls.com.au/event-calendar/mbh-jackpot-2-bowl-triples-7/
LOCATION:Maryborough Bowls Club\, 506 Kent St\, Maryborough\, QLD\, 4650\, Australia
CATEGORIES:Club Event
END:VEVENT
BEGIN:VEVENT
DTSTART;VALUE=DATE:20240919
DTEND;VALUE=DATE:20240920
DTSTAMP:20260420T182834
CREATED:20240507T090959Z
LAST-MODIFIED:20240507T090959Z
UID:3191-1726704000-1726790399@frasercoastdistrictbowls.com.au
SUMMARY:Burrum Heads Gunsmoke Pairs
DESCRIPTION:
URL:https://frasercoastdistrictbowls.com.au/event-calendar/burrum-heads-gunsmoke-pairs-4/
LOCATION:Burrum Heads Bowls Club\, 189 Burrum Heads Rd\, Burrum Heads\, Queensland\, 4659\, Australia
CATEGORIES:Club Event
END:VEVENT
END:VCALENDAR