BEGIN:VCALENDAR
VERSION:2.0
PRODID:-//Fraser Coast District Bowls Association - ECPv6.11.2.1//NONSGML v1.0//EN
CALSCALE:GREGORIAN
METHOD:PUBLISH
X-WR-CALNAME:Fraser Coast District Bowls Association
X-ORIGINAL-URL:https://frasercoastdistrictbowls.com.au
X-WR-CALDESC:Events for Fraser Coast District Bowls Association
REFRESH-INTERVAL;VALUE=DURATION:PT1H
X-Robots-Tag:noindex
X-PUBLISHED-TTL:PT1H
BEGIN:VTIMEZONE
TZID:Australia/Brisbane
BEGIN:STANDARD
TZOFFSETFROM:+1000
TZOFFSETTO:+1000
TZNAME:AEST
DTSTART:20230101T000000
END:STANDARD
END:VTIMEZONE
BEGIN:VEVENT
DTSTART;TZID=Australia/Brisbane:20230911T080000
DTEND;TZID=Australia/Brisbane:20230911T170000
DTSTAMP:20260426T141625
CREATED:20230130T050159Z
LAST-MODIFIED:20230130T050834Z
UID:2836-1694419200-1694451600@frasercoastdistrictbowls.com.au
SUMMARY:Notify BQ Zone Ch'n of Champions
DESCRIPTION:
URL:https://frasercoastdistrictbowls.com.au/event-calendar/notify-bq-zone-chn-of-champions-2/
CATEGORIES:Other
END:VEVENT
BEGIN:VEVENT
DTSTART;TZID=Australia/Brisbane:20230911T080000
DTEND;TZID=Australia/Brisbane:20230911T170000
DTSTAMP:20260426T141625
CREATED:20230130T051017Z
LAST-MODIFIED:20230130T051017Z
UID:2838-1694419200-1694451600@frasercoastdistrictbowls.com.au
SUMMARY:2024 District Sides Nominations Close
DESCRIPTION:
URL:https://frasercoastdistrictbowls.com.au/event-calendar/2024-district-sides-nominations-close/
CATEGORIES:Club Event
END:VEVENT
END:VCALENDAR