BEGIN:VCALENDAR
VERSION:2.0
PRODID:-//Fraser Coast District Bowls Association - ECPv6.11.2.1//NONSGML v1.0//EN
CALSCALE:GREGORIAN
METHOD:PUBLISH
X-WR-CALNAME:Fraser Coast District Bowls Association
X-ORIGINAL-URL:https://frasercoastdistrictbowls.com.au
X-WR-CALDESC:Events for Fraser Coast District Bowls Association
REFRESH-INTERVAL;VALUE=DURATION:PT1H
X-Robots-Tag:noindex
X-PUBLISHED-TTL:PT1H
BEGIN:VTIMEZONE
TZID:Australia/Brisbane
BEGIN:STANDARD
TZOFFSETFROM:+1000
TZOFFSETTO:+1000
TZNAME:AEST
DTSTART:20230101T000000
END:STANDARD
END:VTIMEZONE
BEGIN:VEVENT
DTSTART;TZID=Australia/Brisbane:20230311T080000
DTEND;TZID=Australia/Brisbane:20230311T170000
DTSTAMP:20260426T053814
CREATED:20230127T012204Z
LAST-MODIFIED:20230127T012204Z
UID:2695-1678521600-1678554000@frasercoastdistrictbowls.com.au
SUMMARY:WBCC Challenge (washout)
DESCRIPTION:
URL:https://frasercoastdistrictbowls.com.au/event-calendar/wbcc-challenge-washout/
CATEGORIES:Other
END:VEVENT
BEGIN:VEVENT
DTSTART;TZID=Australia/Brisbane:20230311T080000
DTEND;TZID=Australia/Brisbane:20230311T170000
DTSTAMP:20260426T053814
CREATED:20230127T012239Z
LAST-MODIFIED:20230127T012300Z
UID:2697-1678521600-1678554000@frasercoastdistrictbowls.com.au
SUMMARY:Burnett District AGM
DESCRIPTION:
URL:https://frasercoastdistrictbowls.com.au/event-calendar/burnett-district-agm/
CATEGORIES:Other
END:VEVENT
END:VCALENDAR