BEGIN:VCALENDAR
VERSION:2.0
PRODID:-//Fraser Coast District Bowls Association - ECPv6.11.2.1//NONSGML v1.0//EN
CALSCALE:GREGORIAN
METHOD:PUBLISH
X-ORIGINAL-URL:https://frasercoastdistrictbowls.com.au
X-WR-CALDESC:Events for Fraser Coast District Bowls Association
REFRESH-INTERVAL;VALUE=DURATION:PT1H
X-Robots-Tag:noindex
X-PUBLISHED-TTL:PT1H
BEGIN:VTIMEZONE
TZID:Australia/Brisbane
BEGIN:STANDARD
TZOFFSETFROM:+1000
TZOFFSETTO:+1000
TZNAME:AEST
DTSTART:20230101T000000
END:STANDARD
END:VTIMEZONE
BEGIN:VEVENT
DTSTART;TZID=Australia/Brisbane:20230204T080000
DTEND;TZID=Australia/Brisbane:20230204T170000
DTSTAMP:20260426T024351
CREATED:20230127T012043Z
LAST-MODIFIED:20230127T012043Z
UID:2685-1675497600-1675530000@frasercoastdistrictbowls.com.au
SUMMARY:WBCC Challenge
DESCRIPTION:
URL:https://frasercoastdistrictbowls.com.au/event-calendar/wbcc-challenge/
CATEGORIES:Other
END:VEVENT
END:VCALENDAR