BEGIN:VCALENDAR
VERSION:2.0
PRODID:-//Fraser Coast District Bowls Association - ECPv6.11.2.1//NONSGML v1.0//EN
CALSCALE:GREGORIAN
METHOD:PUBLISH
X-ORIGINAL-URL:https://frasercoastdistrictbowls.com.au
X-WR-CALDESC:Events for Fraser Coast District Bowls Association
REFRESH-INTERVAL;VALUE=DURATION:PT1H
X-Robots-Tag:noindex
X-PUBLISHED-TTL:PT1H
BEGIN:VTIMEZONE
TZID:Australia/Brisbane
BEGIN:STANDARD
TZOFFSETFROM:+1000
TZOFFSETTO:+1000
TZNAME:AEST
DTSTART:20230101T000000
END:STANDARD
END:VTIMEZONE
BEGIN:VEVENT
DTSTART;TZID=Australia/Brisbane:20230122T080000
DTEND;TZID=Australia/Brisbane:20230122T170000
DTSTAMP:20260426T024353
CREATED:20230127T005912Z
LAST-MODIFIED:20230127T005912Z
UID:2638-1674374400-1674406800@frasercoastdistrictbowls.com.au
SUMMARY:FCDBA Presidents Day at Pialba
DESCRIPTION:
URL:https://frasercoastdistrictbowls.com.au/event-calendar/fcdba-presidents-day-at-pialba/
LOCATION:Pialba Bowls Club\, 56 Taylor St\, Pialba\, QLD\, 4655\, Australia
CATEGORIES:FCDBA Event
ORGANIZER;CN="FCDBA - Pat Walsh":MAILTO:walshie1962@optusnet.com.au
END:VEVENT
END:VCALENDAR