BEGIN:VCALENDAR
VERSION:2.0
PRODID:-//Fraser Coast District Bowls Association - ECPv6.11.2.1//NONSGML v1.0//EN
CALSCALE:GREGORIAN
METHOD:PUBLISH
X-WR-CALNAME:Fraser Coast District Bowls Association
X-ORIGINAL-URL:https://frasercoastdistrictbowls.com.au
X-WR-CALDESC:Events for Fraser Coast District Bowls Association
REFRESH-INTERVAL;VALUE=DURATION:PT1H
X-Robots-Tag:noindex
X-PUBLISHED-TTL:PT1H
BEGIN:VTIMEZONE
TZID:Australia/Brisbane
BEGIN:STANDARD
TZOFFSETFROM:+1000
TZOFFSETTO:+1000
TZNAME:AEST
DTSTART:20220101T000000
END:STANDARD
END:VTIMEZONE
BEGIN:VEVENT
DTSTART;TZID=Australia/Brisbane:20221123T080000
DTEND;TZID=Australia/Brisbane:20221123T170000
DTSTAMP:20260426T012201
CREATED:20220118T012048Z
LAST-MODIFIED:20220118T012048Z
UID:2345-1669190400-1669222800@frasercoastdistrictbowls.com.au
SUMMARY:FCDBA AGM & Delegates Meeting at Boonooroo
DESCRIPTION:FCDBA Delegates Meeting at Boonooroo
URL:https://frasercoastdistrictbowls.com.au/event-calendar/fcdba-agm-delegates-meeting-at-boonooroo-2/
LOCATION:Boonooroo Bowls Club\, 125 Eckert Rd\, Boonooroo\, Queensland\, 4650\, Australia
CATEGORIES:Other
END:VEVENT
END:VCALENDAR