BEGIN:VCALENDAR
VERSION:2.0
PRODID:-//Fraser Coast District Bowls Association - ECPv6.11.2.1//NONSGML v1.0//EN
CALSCALE:GREGORIAN
METHOD:PUBLISH
X-WR-CALNAME:Fraser Coast District Bowls Association
X-ORIGINAL-URL:https://frasercoastdistrictbowls.com.au
X-WR-CALDESC:Events for Fraser Coast District Bowls Association
REFRESH-INTERVAL;VALUE=DURATION:PT1H
X-Robots-Tag:noindex
X-PUBLISHED-TTL:PT1H
BEGIN:VTIMEZONE
TZID:Australia/Brisbane
BEGIN:STANDARD
TZOFFSETFROM:+1000
TZOFFSETTO:+1000
TZNAME:AEST
DTSTART:20220101T000000
END:STANDARD
END:VTIMEZONE
BEGIN:VEVENT
DTSTART;TZID=Australia/Brisbane:20221029T080000
DTEND;TZID=Australia/Brisbane:20221030T170000
DTSTAMP:20260425T223439
CREATED:20220118T024646Z
LAST-MODIFIED:20220118T024656Z
UID:2412-1667030400-1667149200@frasercoastdistrictbowls.com.au
SUMMARY:North vs South Challenge venue TBA
DESCRIPTION:North vs South Challenge venue TBA
URL:https://frasercoastdistrictbowls.com.au/event-calendar/north-vs-south-challenge-venue-tba/
CATEGORIES:FCDBA Event
END:VEVENT
BEGIN:VEVENT
DTSTART;TZID=Australia/Brisbane:20221030T090000
DTEND;TZID=Australia/Brisbane:20221030T170000
DTSTAMP:20260425T223439
CREATED:20220912T025707Z
LAST-MODIFIED:20220912T025820Z
UID:2535-1667120400-1667149200@frasercoastdistrictbowls.com.au
SUMMARY:Hervey Bay Bowls Club – Beach House Hotel Super Sunday Mixed Triples
DESCRIPTION:  \n\nBEACH HOUSE HOTEL \nSuper Sunday \nLast Sunday of the month – 30th October 2022 \nHERVEY BAY BOWLS CLUB \n2 BOWL MIXED* TRIPLES\n(* Teams must comprise at least one male & one female player) \nPRIZE MONEY $1050\nWinner – $510 : 2nd – $300 : 3rd – $150 : 4\nth – $90\nNominations $75 per Team – Light Lunch Provided \nSTART – 9:00 AM\n3 Games of 14 ends or the bell – 1 hr 50 mins\nDead Ends – re-spot to the T\nScoring: Game Wins\, then Ends\, then Margin. \nNominations Close 27th October 2022 \nMAJOR SPONSOR: BEACH HOUSE HOTEL – SCARNESS \nFLYER \n\nDirect Debit – Hervey Bay Bowls Club\n\nBSB: 084705 NAB Account: 64-431-2237\n\n(ensure to notify Payee’s name)\n\nEmail: secretary@herveybaybowlsclub.com\n\nInquiries: Rod McMillan – Ph 41940333 or mobile 0429148405\n\n\n\n\n(Full Payment of $75 to be paid with nomination form.)
URL:https://frasercoastdistrictbowls.com.au/event-calendar/hervey-bay-bowls-club-beach-house-hotel-super-sunday-mixed-triples/
LOCATION:Hervey Bay Bowls Club
CATEGORIES:Club Event,FCDBA Event
ATTACH;FMTTYPE=image/png:https://frasercoastdistrictbowls.com.au/wp-content/uploads/2022/09/Beach-House-Hotel-2-Bowls-Mixed-Triples-October-2022_draft-11.png
END:VEVENT
END:VCALENDAR