BEGIN:VCALENDAR
VERSION:2.0
PRODID:-//Fraser Coast District Bowls Association - ECPv6.11.2.1//NONSGML v1.0//EN
CALSCALE:GREGORIAN
METHOD:PUBLISH
X-ORIGINAL-URL:https://frasercoastdistrictbowls.com.au
X-WR-CALDESC:Events for Fraser Coast District Bowls Association
REFRESH-INTERVAL;VALUE=DURATION:PT1H
X-Robots-Tag:noindex
X-PUBLISHED-TTL:PT1H
BEGIN:VTIMEZONE
TZID:Australia/Brisbane
BEGIN:STANDARD
TZOFFSETFROM:+1000
TZOFFSETTO:+1000
TZNAME:AEST
DTSTART:20220101T000000
END:STANDARD
END:VTIMEZONE
BEGIN:VEVENT
DTSTART;TZID=Australia/Brisbane:20221022T080000
DTEND;TZID=Australia/Brisbane:20221027T170000
DTSTAMP:20260426T011718
CREATED:20220118T024746Z
LAST-MODIFIED:20220118T024746Z
UID:2414-1666425600-1666890000@frasercoastdistrictbowls.com.au
SUMMARY:State Finals Ch'n of Ch'ns
DESCRIPTION:
URL:https://frasercoastdistrictbowls.com.au/event-calendar/state-finals-chn-of-chns/
CATEGORIES:Other
END:VEVENT
END:VCALENDAR