BEGIN:VCALENDAR
VERSION:2.0
PRODID:-//Fraser Coast District Bowls Association - ECPv6.11.2.1//NONSGML v1.0//EN
CALSCALE:GREGORIAN
METHOD:PUBLISH
X-WR-CALNAME:Fraser Coast District Bowls Association
X-ORIGINAL-URL:https://frasercoastdistrictbowls.com.au
X-WR-CALDESC:Events for Fraser Coast District Bowls Association
REFRESH-INTERVAL;VALUE=DURATION:PT1H
X-Robots-Tag:noindex
X-PUBLISHED-TTL:PT1H
BEGIN:VTIMEZONE
TZID:Australia/Brisbane
BEGIN:STANDARD
TZOFFSETFROM:+1000
TZOFFSETTO:+1000
TZNAME:AEST
DTSTART:20220101T000000
END:STANDARD
END:VTIMEZONE
BEGIN:VEVENT
DTSTART;TZID=Australia/Brisbane:20221016T080000
DTEND;TZID=Australia/Brisbane:20221016T170000
DTSTAMP:20260425T223438
CREATED:20220118T024448Z
LAST-MODIFIED:20220118T024448Z
UID:2410-1665907200-1665939600@frasercoastdistrictbowls.com.au
SUMMARY:Doon Villa 1 Day Mixed Fours Carnival
DESCRIPTION:Doon Villa 1 Day Mixed Fours Carnival
URL:https://frasercoastdistrictbowls.com.au/event-calendar/doon-villa-1-day-mixed-fours-carnival/
CATEGORIES:Club Event
END:VEVENT
END:VCALENDAR