BEGIN:VCALENDAR
VERSION:2.0
PRODID:-//Fraser Coast District Bowls Association - ECPv6.11.2.1//NONSGML v1.0//EN
CALSCALE:GREGORIAN
METHOD:PUBLISH
X-WR-CALNAME:Fraser Coast District Bowls Association
X-ORIGINAL-URL:https://frasercoastdistrictbowls.com.au
X-WR-CALDESC:Events for Fraser Coast District Bowls Association
REFRESH-INTERVAL;VALUE=DURATION:PT1H
X-Robots-Tag:noindex
X-PUBLISHED-TTL:PT1H
BEGIN:VTIMEZONE
TZID:Australia/Brisbane
BEGIN:STANDARD
TZOFFSETFROM:+1000
TZOFFSETTO:+1000
TZNAME:AEST
DTSTART:20220101T000000
END:STANDARD
END:VTIMEZONE
BEGIN:VEVENT
DTSTART;TZID=Australia/Brisbane:20221015T080000
DTEND;TZID=Australia/Brisbane:20221015T170000
DTSTAMP:20260425T223434
CREATED:20220118T024234Z
LAST-MODIFIED:20220118T024407Z
UID:2407-1665820800-1665853200@frasercoastdistrictbowls.com.au
SUMMARY:Hervey Bay Open Mixed Triples Carnival
DESCRIPTION:Hervey Bay Open Mixed Triples 1 Day Carnival
URL:https://frasercoastdistrictbowls.com.au/event-calendar/hervey-bay-open-mixed-triples-carnival/
LOCATION:Hervey Bay Bowls Club
CATEGORIES:Club Event
END:VEVENT
END:VCALENDAR