BEGIN:VCALENDAR
VERSION:2.0
PRODID:-//Fraser Coast District Bowls Association - ECPv6.11.2.1//NONSGML v1.0//EN
CALSCALE:GREGORIAN
METHOD:PUBLISH
X-ORIGINAL-URL:https://frasercoastdistrictbowls.com.au
X-WR-CALDESC:Events for Fraser Coast District Bowls Association
REFRESH-INTERVAL;VALUE=DURATION:PT1H
X-Robots-Tag:noindex
X-PUBLISHED-TTL:PT1H
BEGIN:VTIMEZONE
TZID:Australia/Brisbane
BEGIN:STANDARD
TZOFFSETFROM:+1000
TZOFFSETTO:+1000
TZNAME:AEST
DTSTART:20220101T000000
END:STANDARD
END:VTIMEZONE
BEGIN:VEVENT
DTSTART;TZID=Australia/Brisbane:20220611T080000
DTEND;TZID=Australia/Brisbane:20220624T170000
DTSTAMP:20260425T141036
CREATED:20220118T005316Z
LAST-MODIFIED:20220118T011107Z
UID:2303-1654934400-1656090000@frasercoastdistrictbowls.com.au
SUMMARY:Aust Open Gold Coast
DESCRIPTION:Australian Open
URL:https://frasercoastdistrictbowls.com.au/event-calendar/aust-open-gold-coast-2/
CATEGORIES:Other
END:VEVENT
END:VCALENDAR