BEGIN:VCALENDAR
VERSION:2.0
PRODID:-//Fraser Coast District Bowls Association - ECPv6.11.2.1//NONSGML v1.0//EN
CALSCALE:GREGORIAN
METHOD:PUBLISH
X-ORIGINAL-URL:https://frasercoastdistrictbowls.com.au
X-WR-CALDESC:Events for Fraser Coast District Bowls Association
REFRESH-INTERVAL;VALUE=DURATION:PT1H
X-Robots-Tag:noindex
X-PUBLISHED-TTL:PT1H
BEGIN:VTIMEZONE
TZID:Australia/Brisbane
BEGIN:STANDARD
TZOFFSETFROM:+1000
TZOFFSETTO:+1000
TZNAME:AEST
DTSTART:20220101T000000
END:STANDARD
END:VTIMEZONE
BEGIN:VEVENT
DTSTART;TZID=Australia/Brisbane:20220604T080000
DTEND;TZID=Australia/Brisbane:20220605T170000
DTSTAMP:20260425T141014
CREATED:20220118T005454Z
LAST-MODIFIED:20220118T005454Z
UID:2307-1654329600-1654448400@frasercoastdistrictbowls.com.au
SUMMARY:FCDBA Ch'n of Ch'ns Singles at tba
DESCRIPTION:
URL:https://frasercoastdistrictbowls.com.au/event-calendar/fcdba-chn-of-chns-singles-at-tba-2/
CATEGORIES:FCDBA Event
END:VEVENT
BEGIN:VEVENT
DTSTART;TZID=Australia/Brisbane:20220605T083000
DTEND;TZID=Australia/Brisbane:20220605T165500
DTSTAMP:20260425T141014
CREATED:20211217T041230Z
LAST-MODIFIED:20220118T002620Z
UID:2091-1654417800-1654448100@frasercoastdistrictbowls.com.au
SUMMARY:Kandanga $900 Pig Day Men's Fours
DESCRIPTION:You are invited to play at Kandanga\n1st Prize 4 x $100 Pork\n2nd Prize 4 x $80 Pork\n3rd Prize 4 x $45 Pork\nEntry Fee is $120 per team \n3 Games of 2 hours 10 minutes or 18 ends \nWins count first and take preference over draws then count margins \nGames Controllers \nGarry Dan: 0418 796 380 \nDoug Smith: 0455 367 153 \nTo enter www. kandangacountryclub.com.au/bowls/
URL:https://frasercoastdistrictbowls.com.au/event-calendar/900-pig-day-mens-fours-2/
LOCATION:Kandanga Bowls Club\, 4 Bowling Club Rd\, Kandanga\, QLD\, 4570\, Australia
CATEGORIES:Club Event
ATTACH;FMTTYPE=image/jpeg:https://frasercoastdistrictbowls.com.au/wp-content/uploads/2021/12/KANDANGA-PIG-DAY-SUMMARY-2022-scaled.jpg
END:VEVENT
END:VCALENDAR