BEGIN:VCALENDAR
VERSION:2.0
PRODID:-//Fraser Coast District Bowls Association - ECPv6.11.2.1//NONSGML v1.0//EN
CALSCALE:GREGORIAN
METHOD:PUBLISH
X-ORIGINAL-URL:https://frasercoastdistrictbowls.com.au
X-WR-CALDESC:Events for Fraser Coast District Bowls Association
REFRESH-INTERVAL;VALUE=DURATION:PT1H
X-Robots-Tag:noindex
X-PUBLISHED-TTL:PT1H
BEGIN:VTIMEZONE
TZID:Australia/Brisbane
BEGIN:STANDARD
TZOFFSETFROM:+1000
TZOFFSETTO:+1000
TZNAME:AEST
DTSTART:20220101T000000
END:STANDARD
END:VTIMEZONE
BEGIN:VEVENT
DTSTART;TZID=Australia/Brisbane:20220528T080000
DTEND;TZID=Australia/Brisbane:20220529T170000
DTSTAMP:20260425T141013
CREATED:20220118T004531Z
LAST-MODIFIED:20220118T004531Z
UID:2293-1653724800-1653843600@frasercoastdistrictbowls.com.au
SUMMARY:Hervey Bay Classic Men's Pairs
DESCRIPTION:Hervey Bay
URL:https://frasercoastdistrictbowls.com.au/event-calendar/hervey-bay-classic-mens-pairs-2/
LOCATION:Hervey Bay Bowls Club
CATEGORIES:Club Event
END:VEVENT
BEGIN:VEVENT
DTSTART;TZID=Australia/Brisbane:20220529T080000
DTEND;TZID=Australia/Brisbane:20220529T170000
DTSTAMP:20260425T141013
CREATED:20220118T004620Z
LAST-MODIFIED:20220118T004620Z
UID:2295-1653811200-1653843600@frasercoastdistrictbowls.com.au
SUMMARY:Gympie Presidents Day
DESCRIPTION:Gympie Bowls Club
URL:https://frasercoastdistrictbowls.com.au/event-calendar/gympie-presidents-day/
LOCATION:The Albert Bowls Club Gympie\, River Rd\, Gympie\, QLD\, QLD 4570\, Australia
CATEGORIES:Club Event
END:VEVENT
BEGIN:VEVENT
DTSTART;TZID=Australia/Brisbane:20220529T080000
DTEND;TZID=Australia/Brisbane:20220529T170000
DTSTAMP:20260425T141013
CREATED:20220118T004658Z
LAST-MODIFIED:20220118T004835Z
UID:2297-1653811200-1653843600@frasercoastdistrictbowls.com.au
SUMMARY:QLD Indoor Qualifying Rounds
DESCRIPTION:
URL:https://frasercoastdistrictbowls.com.au/event-calendar/qld-indoor-qualifying-rounds-2/
CATEGORIES:Other
END:VEVENT
END:VCALENDAR