BEGIN:VCALENDAR
VERSION:2.0
PRODID:-//Fraser Coast District Bowls Association - ECPv6.11.2.1//NONSGML v1.0//EN
CALSCALE:GREGORIAN
METHOD:PUBLISH
X-WR-CALNAME:Fraser Coast District Bowls Association
X-ORIGINAL-URL:https://frasercoastdistrictbowls.com.au
X-WR-CALDESC:Events for Fraser Coast District Bowls Association
REFRESH-INTERVAL;VALUE=DURATION:PT1H
X-Robots-Tag:noindex
X-PUBLISHED-TTL:PT1H
BEGIN:VTIMEZONE
TZID:Australia/Brisbane
BEGIN:STANDARD
TZOFFSETFROM:+1000
TZOFFSETTO:+1000
TZNAME:AEST
DTSTART:20220101T000000
END:STANDARD
END:VTIMEZONE
BEGIN:VEVENT
DTSTART;VALUE=DATE:20220423
DTEND;VALUE=DATE:20220425
DTSTAMP:20260425T110117
CREATED:20220112T140811Z
LAST-MODIFIED:20220112T140811Z
UID:2209-1650672000-1650844799@frasercoastdistrictbowls.com.au
SUMMARY:M'Boro Services 2 Day Mens Fours Carnival
DESCRIPTION:
URL:https://frasercoastdistrictbowls.com.au/event-calendar/mboro-services-2-day-mens-fours-carnival/
LOCATION:Maryborough Services Bowls Club\, Lennox St\, Maryborough\, QLD\, 4650\, Australia
CATEGORIES:Club Event
END:VEVENT
BEGIN:VEVENT
DTSTART;VALUE=DATE:20220423
DTEND;VALUE=DATE:20220425
DTSTAMP:20260425T110117
CREATED:20220112T140906Z
LAST-MODIFIED:20220112T140906Z
UID:2211-1650672000-1650844799@frasercoastdistrictbowls.com.au
SUMMARY:2021 Aust Singles Ch'n of Ch'ns
DESCRIPTION:
URL:https://frasercoastdistrictbowls.com.au/event-calendar/2021-aust-singles-chn-of-chns/
CATEGORIES:FCDBA Event
END:VEVENT
END:VCALENDAR