BEGIN:VCALENDAR
VERSION:2.0
PRODID:-//Fraser Coast District Bowls Association - ECPv6.11.2.1//NONSGML v1.0//EN
CALSCALE:GREGORIAN
METHOD:PUBLISH
X-ORIGINAL-URL:https://frasercoastdistrictbowls.com.au
X-WR-CALDESC:Events for Fraser Coast District Bowls Association
REFRESH-INTERVAL;VALUE=DURATION:PT1H
X-Robots-Tag:noindex
X-PUBLISHED-TTL:PT1H
BEGIN:VTIMEZONE
TZID:Australia/Brisbane
BEGIN:STANDARD
TZOFFSETFROM:+1000
TZOFFSETTO:+1000
TZNAME:AEST
DTSTART:20220101T000000
END:STANDARD
END:VTIMEZONE
BEGIN:VEVENT
DTSTART;VALUE=DATE:20220420
DTEND;VALUE=DATE:20220421
DTSTAMP:20260425T110128
CREATED:20220112T140628Z
LAST-MODIFIED:20220112T140628Z
UID:2207-1650412800-1650499199@frasercoastdistrictbowls.com.au
SUMMARY:Entries Close Qld Indoor Qual Rnds
DESCRIPTION:
URL:https://frasercoastdistrictbowls.com.au/event-calendar/entries-close-qld-indoor-qual-rnds/
CATEGORIES:Club Event
END:VEVENT
END:VCALENDAR