BEGIN:VCALENDAR
VERSION:2.0
PRODID:-//Fraser Coast District Bowls Association - ECPv6.11.2.1//NONSGML v1.0//EN
CALSCALE:GREGORIAN
METHOD:PUBLISH
X-ORIGINAL-URL:https://frasercoastdistrictbowls.com.au
X-WR-CALDESC:Events for Fraser Coast District Bowls Association
REFRESH-INTERVAL;VALUE=DURATION:PT1H
X-Robots-Tag:noindex
X-PUBLISHED-TTL:PT1H
BEGIN:VTIMEZONE
TZID:Australia/Brisbane
BEGIN:STANDARD
TZOFFSETFROM:+1000
TZOFFSETTO:+1000
TZNAME:AEST
DTSTART:20220101T000000
END:STANDARD
END:VTIMEZONE
BEGIN:VEVENT
DTSTART;VALUE=DATE:20220202
DTEND;VALUE=DATE:20220203
DTSTAMP:20260425T063552
CREATED:20220112T133314Z
LAST-MODIFIED:20220112T133314Z
UID:2149-1643760000-1643846399@frasercoastdistrictbowls.com.au
SUMMARY:FCDBA Delegates Meeting at Boonooroo
DESCRIPTION:
URL:https://frasercoastdistrictbowls.com.au/event-calendar/fcdba-delegates-meeting-at-boonooroo-6/
LOCATION:Boonooroo Bowls Club\, 125 Eckert Rd\, Boonooroo\, Queensland\, 4650\, Australia
CATEGORIES:FCDBA Event
ORGANIZER;CN="Fraser Coast District Bowls Association":MAILTO:frasercoastdistbowls@y7mail.com
END:VEVENT
END:VCALENDAR