BEGIN:VCALENDAR
VERSION:2.0
PRODID:-//Fraser Coast District Bowls Association - ECPv6.11.2.1//NONSGML v1.0//EN
CALSCALE:GREGORIAN
METHOD:PUBLISH
X-WR-CALNAME:Fraser Coast District Bowls Association
X-ORIGINAL-URL:https://frasercoastdistrictbowls.com.au
X-WR-CALDESC:Events for Fraser Coast District Bowls Association
REFRESH-INTERVAL;VALUE=DURATION:PT1H
X-Robots-Tag:noindex
X-PUBLISHED-TTL:PT1H
BEGIN:VTIMEZONE
TZID:UTC
BEGIN:STANDARD
TZOFFSETFROM:+0000
TZOFFSETTO:+0000
TZNAME:UTC
DTSTART:20200101T000000
END:STANDARD
END:VTIMEZONE
BEGIN:VEVENT
DTSTART;VALUE=DATE:20201010
DTEND;VALUE=DATE:20201012
DTSTAMP:20260425T012923
CREATED:20200303T211432Z
LAST-MODIFIED:20200824T021556Z
UID:1637-1602288000-1602460799@frasercoastdistrictbowls.com.au
SUMMARY:Tin Can Bay Men's Carnival
DESCRIPTION:
URL:https://frasercoastdistrictbowls.com.au/event-calendar/tin-can-bay-mens-carnival/
CATEGORIES:Club Event
END:VEVENT
END:VCALENDAR