BEGIN:VCALENDAR
VERSION:2.0
PRODID:-//Fraser Coast District Bowls Association - ECPv6.11.2.1//NONSGML v1.0//EN
CALSCALE:GREGORIAN
METHOD:PUBLISH
X-WR-CALNAME:Fraser Coast District Bowls Association
X-ORIGINAL-URL:https://frasercoastdistrictbowls.com.au
X-WR-CALDESC:Events for Fraser Coast District Bowls Association
REFRESH-INTERVAL;VALUE=DURATION:PT1H
X-Robots-Tag:noindex
X-PUBLISHED-TTL:PT1H
BEGIN:VTIMEZONE
TZID:UTC
BEGIN:STANDARD
TZOFFSETFROM:+0000
TZOFFSETTO:+0000
TZNAME:UTC
DTSTART:20200101T000000
END:STANDARD
END:VTIMEZONE
BEGIN:VEVENT
DTSTART;VALUE=DATE:20201024
DTEND;VALUE=DATE:20201030
DTSTAMP:20260425T015414
CREATED:20200303T211700Z
LAST-MODIFIED:20200303T211700Z
UID:1643-1603497600-1604015999@frasercoastdistrictbowls.com.au
SUMMARY:Ch'n of Club Ch'ns State Finals venue TBA
DESCRIPTION:
URL:https://frasercoastdistrictbowls.com.au/event-calendar/chn-of-club-chns-state-finals-venue-tba/
END:VEVENT
END:VCALENDAR