BEGIN:VCALENDAR
VERSION:2.0
PRODID:-//Fraser Coast District Bowls Association - ECPv6.11.2.1//NONSGML v1.0//EN
CALSCALE:GREGORIAN
METHOD:PUBLISH
X-WR-CALNAME:Fraser Coast District Bowls Association
X-ORIGINAL-URL:https://frasercoastdistrictbowls.com.au
X-WR-CALDESC:Events for Fraser Coast District Bowls Association
REFRESH-INTERVAL;VALUE=DURATION:PT1H
X-Robots-Tag:noindex
X-PUBLISHED-TTL:PT1H
BEGIN:VTIMEZONE
TZID:Australia/Brisbane
BEGIN:STANDARD
TZOFFSETFROM:+1000
TZOFFSETTO:+1000
TZNAME:AEST
DTSTART:20200101T000000
END:STANDARD
END:VTIMEZONE
BEGIN:VEVENT
DTSTART;TZID=Australia/Brisbane:20200905T080000
DTEND;TZID=Australia/Brisbane:20200905T170000
DTSTAMP:20260425T012924
CREATED:20200824T001420Z
LAST-MODIFIED:20200824T001420Z
UID:1763-1599292800-1599325200@frasercoastdistrictbowls.com.au
SUMMARY:2020 Fraser Coast Pennant Round 5
DESCRIPTION:ROUND 5 – 5th Sept \nHervey Bay VS Urangan \nPialba VS M’boro Services \nThe Albert VS Boonooroo \nMaryborough VS Burrum Heads
URL:https://frasercoastdistrictbowls.com.au/event-calendar/2020-fraser-coast-pennant-round-5/
CATEGORIES:FCDBA Event
ORGANIZER;CN="Fraser Coast District Bowls Association":MAILTO:frasercoastdistbowls@y7mail.com
END:VEVENT
END:VCALENDAR