BEGIN:VCALENDAR
VERSION:2.0
PRODID:-//Fraser Coast District Bowls Association - ECPv6.11.2.1//NONSGML v1.0//EN
CALSCALE:GREGORIAN
METHOD:PUBLISH
X-WR-CALNAME:Fraser Coast District Bowls Association
X-ORIGINAL-URL:https://frasercoastdistrictbowls.com.au
X-WR-CALDESC:Events for Fraser Coast District Bowls Association
REFRESH-INTERVAL;VALUE=DURATION:PT1H
X-Robots-Tag:noindex
X-PUBLISHED-TTL:PT1H
BEGIN:VTIMEZONE
TZID:Australia/Brisbane
BEGIN:STANDARD
TZOFFSETFROM:+1000
TZOFFSETTO:+1000
TZNAME:AEST
DTSTART:20200101T000000
END:STANDARD
END:VTIMEZONE
BEGIN:VEVENT
DTSTART;TZID=Australia/Brisbane:20200822T080000
DTEND;TZID=Australia/Brisbane:20200822T170000
DTSTAMP:20260425T015252
CREATED:20200824T015218Z
LAST-MODIFIED:20200824T015218Z
UID:1772-1598083200-1598115600@frasercoastdistrictbowls.com.au
SUMMARY:2020 Fraser Coast Pennant Round 3
DESCRIPTION:ROUND 3 22nd August \nHervey Bay VS Pialba\nM’boro Services VS Urangan\nBoonooroo VS Burrum Heads\nTheAlbert VS Maryborough
URL:https://frasercoastdistrictbowls.com.au/event-calendar/2020-fraser-coast-pennant-round-3/
CATEGORIES:FCDBA Event
ORGANIZER;CN="Fraser Coast District Bowls Association":MAILTO:frasercoastdistbowls@y7mail.com
END:VEVENT
END:VCALENDAR